{"text_format":"3","workbook":"xlsx","n_sheets":10,"sheets":["Table","Graph","List","Parameter","LED #1","LED #2","LED #3","LED #4","참조","History"],"not_rendered":{"charts":1,"images":2,"macros":1,"defined_names":67},"read":"whole","date_system":"1900"}

{"sheet":"Table","index":0,"n_rows":152,"n_cols":21,"rows_kept":152,"merged":[[1,2,1,3],[1,4,1,5],[1,7,1,9],[5,3,5,5],[5,8,5,10],[5,13,5,15],[5,18,5,20],[6,3,6,5],[6,8,6,10],[6,13,6,15],[6,18,6,20],[7,4,7,5],[7,9,7,10],[7,14,7,15],[7,19,7,20],[11,2,11,5],[11,7,11,10],[11,12,11,15],[11,17,11,20],[12,2,12,3],[12,4,12,5],[12,7,12,8],[12,9,12,10],[12,12,12,13],[12,14,12,15],[12,17,12,18],[12,19,12,20],[14,2,14,3],[14,4,14,5],[14,7,14,8],[14,9,14,10],[14,12,14,13],[14,14,14,15],[14,17,14,18],[14,19,14,20],[16,2,16,3],[16,4,16,5],[16,7,16,8],[16,9,16,10],[16,12,16,13],[16,14,16,15],[16,17,16,18],[16,19,16,20],[17,2,18,2],[17,3,18,3],[17,7,18,7],[17,8,18,8],[17,12,18,12],[17,13,18,13],[17,17,18,17],[17,18,18,18],[19,2,20,2],[19,3,20,3],[19,7,20,7],[19,8,20,8],[19,12,20,12],[19,13,20,13],[19,17,20,17],[19,18,20,18],[21,2,22,2],[21,3,22,3],[21,7,22,7],[21,8,22,8],[21,12,22,12],[21,13,22,13],[21,17,22,17],[21,18,22,18],[24,2,24,5],[24,7,24,10],[24,12,24,15],[24,17,24,20],[41,2,41,5],[41,7,41,10],[41,12,41,15],[41,17,41,20]]}
[]
[null,null,"Efficiency",null,"System Flux",null,null,"Current Display Range [A]"]
[null,null,"Optical","Driver","Target","Require",null,"Min.","Max.","Interval"]
[null,null,{"v":0.9,"d":"90.0%"},{"v":0.85,"d":"85.0%"},{"v":12000,"d":"12,000"},{"$f":"E4/C4","v":{"v":13333.333333333332,"d":"13,333"}},null,{"v":0.05,"d":"0.050"},{"v":1.5,"d":"1.500"},0.015]
[]
[null,null,"SSC","LED #1",{"$nulls":3},"SSC","LED #2",{"$nulls":4},"LED #3",{"$nulls":4},"LED #4"]
[null,null,5050,"STW0L8PA",{"$nulls":3},"Z5M3","SZ5-M3-Wx-C7"]
[null,null,{"v":70,"d":"CRI 70"},"Cool",{"$f":"IF(D7=\"\",\"\",VLOOKUP(D7,Parameter!$A:$F,6,0))","v":"5.0 x 5.0 x 0.7"},null,null,{"v":70,"d":"CRI 70"},"Cool",{"$f":"IF(I7=\"\",\"\",VLOOKUP(I7,Parameter!$A:$F,6,0))","v":"3.5 x 3.5 x 2.0"},{"$nulls":4},{"$f":"IF(N7=\"\",\"\",VLOOKUP(N7,Parameter!$A:$F,6,0))","v":""},{"$nulls":4},{"$f":"IF(S7=\"\",\"\",VLOOKUP(S7,Parameter!$A:$F,6,0))","v":""}]
[null,null,"Pd Group","Rth [℃/W]","IFBin","IFMAX",null,"Pd Group","Rth [℃/W]","IFBin","IFMAX",null,"Pd Group","Rth [℃/W]","IFBin","IFMAX",null,"Pd Group","Rth [℃/W]","IFBin","IFMAX"]
[null,null,"High",{"$f":"IF(D7=\"\",\"\",VLOOKUP(D7,Parameter!$A:$F,5,0))","v":2},{"$f":"IF(D7=\"\",\"\",VLOOKUP(D7,Parameter!$A:$F,3,0))","v":640},{"$f":"IF(D7=\"\",\"\",VLOOKUP(D7,Parameter!$A:$F,4,0))","v":800},null,"High",{"$f":"IF(I7=\"\",\"\",VLOOKUP(I7,Parameter!$A:$F,5,0))","v":3.2},{"$f":"IF(I7=\"\",\"\",VLOOKUP(I7,Parameter!$A:$F,3,0))","v":700},{"$f":"IF(I7=\"\",\"\",VLOOKUP(I7,Parameter!$A:$F,4,0))","v":1500},null,null,{"$f":"IF(N7=\"\",\"\",VLOOKUP(N7,Parameter!$A:$F,5,0))","v":""},{"$f":"IF(N7=\"\",\"\",VLOOKUP(N7,Parameter!$A:$F,3,0))","v":""},{"$f":"IF(N7=\"\",\"\",VLOOKUP(N7,Parameter!$A:$F,4,0))","v":""},null,null,{"$f":"IF(S7=\"\",\"\",VLOOKUP(S7,Parameter!$A:$F,5,0))","v":""},{"$f":"IF(S7=\"\",\"\",VLOOKUP(S7,Parameter!$A:$F,3,0))","v":""},{"$f":"IF(S7=\"\",\"\",VLOOKUP(S7,Parameter!$A:$F,4,0))","v":""}]
[]
[null,null,"Binning",{"$nulls":4},"Binning",{"$nulls":4},"Binning",{"$nulls":4},"Binning"]
[null,null,"Flux",null,"VF",null,null,"Flux",null,"VF",null,null,"Flux",null,"VF",null,null,"Flux",null,"VF"]
[null,null,"W3","typ","Z0","typ",null,"W6","typ","G","typ"]
[null,null,{"$f":"CHOOSE(VLOOKUP(D14,참조!$A:$B,2,0),SUMIFS(List!$I:$I,List!$E:$E,Table!D7,List!$F:$F,D8,List!$G:$G,Table!C13,List!$H:$H,Table!C14),SUMIFS(List!$J:$J,List!$E:$E,Table!D7,List!$F:$F,D8,List!$G:$G,Table!C13,List!$H:$H,Table!C14),SUMIFS(List!$K:$K,List!$E:$E,Table!D7,List!$F:$F,D8,List!$G:$G,Table!C13,List!$H:$H,Table!C14))","v":{"v":675,"d":"675.00"}},null,{"$f":"IFERROR(CHOOSE(VLOOKUP(F14,참조!$A:$B,2,0),SUMIFS(List!$I:$I,List!$E:$E,Table!D7,List!$G:$G,Table!E13,List!$H:$H,Table!E14),SUMIFS(List!$J:$J,List!$E:$E,Table!D7,List!$G:$G,Table!E13,List!$H:$H,Table!E14),SUMIFS(List!$K:$K,List!$E:$E,Table!D7,List!$G:$G,Table!E13,List!$H:$H,Table!E14)),\"\")","v":{"v":6.1,"d":"6.100"}},null,null,{"$f":"CHOOSE(VLOOKUP(I14,참조!$A:$B,2,0),SUMIFS(List!$I:$I,List!$E:$E,Table!I7,List!$F:$F,I8,List!$G:$G,Table!H13,List!$H:$H,Table!H14),SUMIFS(List!$J:$J,List!$E:$E,Table!I7,List!$F:$F,I8,List!$G:$G,Table!H13,List!$H:$H,Table!H14),SUMIFS(List!$K:$K,List!$E:$E,Table!I7,List!$F:$F,I8,List!$G:$G,Table!H13,List!$H:$H,Table!H14))","v":{"v":320,"d":"320.00"}},null,{"$f":"IFERROR(CHOOSE(VLOOKUP(K14,참조!$A:$B,2,0),SUMIFS(List!$I:$I,List!$E:$E,Table!I7,List!$G:$G,Table!J13,List!$H:$H,Table!J14),SUMIFS(List!$J:$J,List!$E:$E,Table!I7,List!$G:$G,Table!J13,List!$H:$H,Table!J14),SUMIFS(List!$K:$K,List!$E:$E,Table!I7,List!$G:$G,Table!J13,List!$H:$H,Table!J14)),\"\")","v":2.875},null,null,{"$f":"CHOOSE(VLOOKUP(N14,참조!$A:$B,2,0),SUMIFS(List!$I:$I,List!$E:$E,Table!N7,List!$F:$F,N8,List!$G:$G,Table!M13,List!$H:$H,Table!M14),SUMIFS(List!$J:$J,List!$E:$E,Table!N7,List!$F:$F,N8,List!$G:$G,Table!M13,List!$H:$H,Table!M14),SUMIFS(List!$K:$K,List!$E:$E,Table!N7,List!$F:$F,N8,List!$G:$G,Table!M13,List!$H:$H,Table!M14))","v":{"$error":"#N/A"}},null,{"$f":"IFERROR(CHOOSE(VLOOKUP(P14,참조!$A:$B,2,0),SUMIFS(List!$I:$I,List!$E:$E,Table!N7,List!$G:$G,Table!O13,List!$H:$H,Table!O14),SUMIFS(List!$J:$J,List!$E:$E,Table!N7,List!$G:$G,Table!O13,List!$H:$H,Table!O14),SUMIFS(List!$K:$K,List!$E:$E,Table!N7,List!$G:$G,Table!O13,List!$H:$H,Table!O14)),\"\")","v":""},null,null,{"$f":"CHOOSE(VLOOKUP(S14,참조!$A:$B,2,0),SUMIFS(List!$I:$I,List!$E:$E,Table!S7,List!$F:$F,S8,List!$G:$G,Table!R13,List!$H:$H,Table!R14),SUMIFS(List!$J:$J,List!$E:$E,Table!S7,List!$F:$F,S8,List!$G:$G,Table!R13,List!$H:$H,Table!R14),SUMIFS(List!$K:$K,List!$E:$E,Table!S7,List!$F:$F,S8,List!$G:$G,Table!R13,List!$H:$H,Table!R14))","v":{"$error":"#N/A"}},null,{"$f":"IFERROR(CHOOSE(VLOOKUP(U14,참조!$A:$B,2,0),SUMIFS(List!$I:$I,List!$E:$E,Table!S7,List!$G:$G,Table!T13,List!$H:$H,Table!T14),SUMIFS(List!$J:$J,List!$E:$E,Table!S7,List!$G:$G,Table!T13,List!$H:$H,Table!T14),SUMIFS(List!$K:$K,List!$E:$E,Table!S7,List!$G:$G,Table!T13,List!$H:$H,Table!T14)),\"\")","v":""}]
[]
[null,null,"Condition",null," LED Performance",null,null,"Condition",null," LED Performance",null,null,"Condition",null," LED Performance",null,null,"Condition",null," LED Performance"]
[null,null,"Ts [℃]",85,"Flux [lm]",{"$f":"IFERROR(C$15*(led1FTA1*EXP(-D18/led1FTt1)+led1FTy0)*(led1FCA1*EXP(-D20/led1FCt1)+led1FCy0),\"\")","v":{"v":737.7703010123978,"d":"737.8"}},null,"Ts [℃]",85,"Flux [lm]",{"$f":"IFERROR(H$15*(led2FTA1*EXP(-I18/led2FTt1)+led2FTy0)*(led2FCA1*EXP(-I20/led2FCt1)+led2FCy0),\"\")","v":{"v":320.07270088748777,"d":"320.1 "}},null,"Ts [℃]",85,"Flux [lm]",{"$f":"IFERROR(M$15*(led3FTA1*EXP(-N18/led3FTt1)+led3FTy0)*(led3FCA1*EXP(-N20/led3FCt1)+led3FCy0),\"\")","v":""},null,"Ts [℃]",25,"Flux [lm]",{"$f":"R$15*(led4FTA1*EXP(-S18/led4FTt1)+led4FTy0)*(led4FCA1*EXP(-S20/led4FCt1)+led4FCy0)","v":{"$error":"#N/A"}}]
[{"$nulls":4},"Vf [V]",{"$f":"IFERROR(E$15*(led1VTA1*EXP(-D18/led1VTt1)+led1VTy0)*(led1VCA1*EXP(-D20/led1VCt1)+led1VCy0),\"\")","v":{"v":6.153144863153654,"d":"6.15"}},{"$nulls":3},"Vf [V]",{"$f":"IFERROR(J$15*(led2VTA1*EXP(-I18/led2VTt1)+led2VTy0)*(led2VCA1*EXP(-I20/led2VCt1)+led2VCy0),\"\")","v":{"v":2.858925168935231,"d":"2.86"}},{"$nulls":3},"Vf [V]",{"$f":"IFERROR(O$15*(led3VTA1*EXP(-N18/led3VTt1)+led3VTy0)*(led3VCA1*EXP(-N20/led3VCt1)+led3VCy0),\"\")","v":""},{"$nulls":3},"Vf [V]",{"$f":"IFERROR(T$15*(led4VTA1*EXP(-S18/led4VTt1)+led4VTy0)*(led4VCA1*EXP(-S20/led4VCt1)+led4VCy0),\"\")","v":""}]
[null,null,"IOPPR. [mA]",800,"Pd [W]",{"$f":"IFERROR(F19*D20/1000,\"\")","v":{"v":4.922515890522923,"d":"4.923 "}},null,"IOPPR. [mA]",700,"Pd [W]",{"$f":"IFERROR(K19*I20/1000,\"\")","v":{"v":2.0012476182546615,"d":"2.001 "}},null,"IOPPR. [mA]",1000,"Pd [W]",{"$f":"IFERROR(P19*N20/1000,\"\")","v":""},null,"IOPPR. [mA]",65,"Pd [W]",{"$f":"IFERROR(U19*S20/1000,\"\")","v":""}]
[{"$nulls":4},"LpW",{"$f":"IFERROR(F18/F20,\"\")","v":{"v":149.8766722993806,"d":"149.9 "}},{"$nulls":3},"LpW",{"$f":"IFERROR(K18/K20,\"\")","v":{"v":159.93658054500585,"d":"159.9 "}},{"$nulls":3},"LpW",{"$f":"IFERROR(P18/P20,\"\")","v":""},{"$nulls":3},"LpW",{"$f":"IFERROR(U18/U20,\"\")","v":""}]
[null,null,"Price [$]",null,"LpD",{"$f":"IFERROR(F18/D22,\"\")","v":""},null,"Price [$]",null,"LpD",{"$f":"IFERROR(K18/I22,\"\")","v":""},null,"Price [$]",".","LpD",{"$f":"IFERROR(P18/N22,\"\")","v":""},null,"Price [$]",{"v":0.05,"d":"0.050"},"LpD",{"$f":"IFERROR(U18/S22,\"\")","v":""}]
[{"$nulls":4},"#LEDs [ea]",{"$f":"IFERROR(ROUNDUP(($F$4/F18),0),\"\")","v":{"v":19,"d":"19 "}},{"$nulls":3},"#LEDs [ea]",{"$f":"IFERROR(ROUNDUP(($F$4/K18),0),\"\")","v":{"v":42,"d":"42 "}},{"$nulls":3},"#LEDs [ea]",{"$f":"IFERROR(ROUNDUP(($F$4/P18),0),\"\")","v":""},{"$nulls":3},"#LEDs [ea]",{"$f":"IFERROR(ROUNDUP(($F$4/U18),0),\"\")","v":""}]
[]
[null,null,"Designer",{"$nulls":4},"Designer",{"$nulls":4},"Designer",{"$nulls":4},"Designer"]
[null,null,"Crosstalk",{"v":0.95,"d":"95%"},"Flux/LED(lm)",{"$f":"+F18*D26","v":{"v":700.8817859617778,"d":"700.9"}},null,"Crosstalk",{"v":0.95,"d":"95%"},"Flux/LED(lm)",{"$f":"+K18*I26","v":{"v":304.0690658431134,"d":"304.1"}},null,"Crosstalk",{"v":0.95,"d":"95%"},"Flux/LED(lm)",{"$f":"+P18*N26","v":{"$error":"#VALUE!"}},null,"Crosstalk",{"v":0.95,"d":"95%"},"Flux/LED(lm)",{"$f":"+U18*S26","v":{"$error":"#N/A"}}]
[null,null,"Parallel",{"$f":"ROUNDUP($F4/F26,0)","v":{"v":20,"d":"20 "}},"Series",{"v":1,"d":"1 "},null,"Parallel",{"$f":"ROUNDUP($F4/K26,0)","v":{"v":44,"d":"44 "}},"Series",{"v":1,"d":"1 "},null,"Parallel",{"$f":"ROUNDUP($F4/P26,0)","v":{"$error":"#VALUE!"}},"Series",{"v":1,"d":"1 "},null,"Parallel",{"$f":"ROUNDUP($F4/U26,0)","v":{"$error":"#N/A"}},"Series",{"v":1,"d":"1 "}]
[null,null,"Mod Parallel",5,"Mod Series",{"v":1,"d":"1 "},null,"Mod Parallel",5,"Mod Series",{"v":1,"d":"1 "},null,"Mod Parallel",5,"Mod Series",{"v":1,"d":"1 "},null,"Mod Parallel",5,"Mod Series",{"v":1,"d":"1 "}]
[null,null,"Tot. I [mA]",{"$f":"+D28*D20","v":{"v":4000,"d":"4,000 "}},"#LEDs [ea]",{"$f":"+D28*F28","v":{"v":5,"d":"5 "}},null,"Tot. I [mA]",{"$f":"+I28*I20","v":{"v":3500,"d":"3,500 "}},"#LEDs [ea]",{"$f":"+I28*K28","v":{"v":5,"d":"5 "}},null,"Tot. I [mA]",{"$f":"+N28*N20","v":{"v":5000,"d":"5,000 "}},"#LEDs [ea]",{"$f":"+N28*P28","v":{"v":5,"d":"5 "}},null,"Tot. I [mA]",{"$f":"+S28*S20","v":{"v":325,"d":"325 "}},"#LEDs [ea]",{"$f":"+S28*U28","v":{"v":5,"d":"5 "}}]
[null,null,"Vf [V]",{"$f":"+F19*F28","v":{"v":6.153144863153654,"d":"6.2 "}},"Cost [$]",{"$f":"+D22*F29","v":{"v":0,"d":"0.00 "}},null,"Vf [V]",{"$f":"+K19*K28","v":{"v":2.858925168935231,"d":"2.9 "}},"Cost [$]",{"$f":"+I22*K29","v":{"v":0,"d":"0.00 "}},null,"Vf [V]",{"$f":"+P19*P28","v":{"$error":"#VALUE!"}},"Cost [$]",{"$f":"+N22*P29","v":{"$error":"#VALUE!"}},null,"Vf [V]",{"$f":"+U19*U28","v":{"$error":"#VALUE!"}},"Cost [$]",{"$f":"+S22*U29","v":{"v":0.25,"d":"0.25 "}}]
[null,null,"Pd [W]",{"$f":"+D30*D29/1000/($D$4)","v":{"v":28.955975826605428,"d":"29.0 "}},"LpW",{"$f":"+D32/D31","v":{"v":108.92287159357485,"d":"108.9 "}},null,"Pd [W]",{"$f":"+I30*I29/1000/($D$4)","v":{"v":11.772044813262717,"d":"11.8 "}},"LpW",{"$f":"+I32/I31","v":{"v":116.23390991108297,"d":"116.2 "}},null,"Pd [W]",{"$f":"+N30*N29/1000/($D$4)","v":{"$error":"#VALUE!"}},"LpW",{"$f":"+N32/N31","v":{"$error":"#VALUE!"}},null,"Pd [W]",{"$f":"+S30*S29/1000/($D$4)","v":{"$error":"#VALUE!"}},"LpW",{"$f":"+S32/S31","v":{"$error":"#N/A"}}]
[null,null,"Flux [lm]",{"$f":"+F26*D28*F28*$C$4","v":{"v":3153.9680368280005,"d":"3154 "}},"LpD",{"$f":"+D32/F30","v":{"$error":"#DIV/0!"}},null,"Flux [lm]",{"$f":"+K26*I28*K28*$C$4","v":{"v":1368.3107962940103,"d":"1368 "}},"LpD",{"$f":"+I32/K30","v":{"$error":"#DIV/0!"}},null,"Flux [lm]",{"$f":"+P26*N28*P28*$C$4","v":{"$error":"#VALUE!"}},"LpD",{"$f":"+N32/P30","v":{"$error":"#VALUE!"}},null,"Flux [lm]",{"$f":"+U26*S28*U28*$C$4","v":{"$error":"#N/A"}},"LpD",{"$f":"+S32/U30","v":{"$error":"#N/A"}}]
[]
[null,null,"Total LEDs","Parallel","Series",null,null,"Total LEDs","Parallel","Series",null,null,"Total LEDs","Parallel","Series",null,null,"Total LEDs","Parallel","Series"]
[null,null,{"$f":"+D27","v":{"v":20,"d":"20.0"}},{"$f":"+$C$35/E35","v":{"v":20,"d":"20.0"}},{"v":1,"d":"1.0"},null,null,{"$f":"+I27","v":{"v":44,"d":"44.0"}},{"$f":"+$H$35/J35","v":{"v":44,"d":"44.0"}},{"v":1,"d":"1.0"},null,null,{"$f":"+N27","v":{"$error":"#VALUE!"}},{"$f":"+$C$35/O35","v":{"v":20,"d":"20.0"}},{"v":1,"d":"1.0"},null,null,{"$f":"+S27","v":{"$error":"#N/A"}},{"$f":"+$C$35/T35","v":{"v":20,"d":"20.0"}},{"v":1,"d":"1.0"}]
[{"$nulls":3},{"$f":"+$C$35/E36","v":{"v":10,"d":"10.0"}},{"v":2,"d":"2.0"},{"$nulls":3},{"$f":"+$H$35/J36","v":{"v":22,"d":"22.0"}},{"v":2,"d":"2.0"},{"$nulls":3},{"$f":"+$C$35/O36","v":{"v":10,"d":"10.0"}},{"v":2,"d":"2.0"},{"$nulls":3},{"$f":"+$C$35/T36","v":{"v":10,"d":"10.0"}},{"v":2,"d":"2.0"}]
[{"$nulls":3},{"v":6.666666666666667,"d":"6.7"},{"v":3,"d":"3.0"},{"$nulls":3},{"v":14.666666666666666,"d":"14.7"},{"v":3,"d":"3.0"},{"$nulls":3},{"v":6.666666666666667,"d":"6.7"},{"v":3,"d":"3.0"},{"$nulls":3},{"v":6.666666666666667,"d":"6.7"},{"v":3,"d":"3.0"}]
[{"$nulls":3},{"v":5,"d":"5.0"},{"v":4,"d":"4.0"},{"$nulls":3},{"v":11,"d":"11.0"},{"v":4,"d":"4.0"},{"$nulls":3},{"v":5,"d":"5.0"},{"v":4,"d":"4.0"},{"$nulls":3},{"v":5,"d":"5.0"},{"v":4,"d":"4.0"}]
[{"$nulls":3},{"v":4,"d":"4.0"},{"v":5,"d":"5.0"},{"$nulls":3},8.8,{"v":5,"d":"5.0"},{"$nulls":3},{"v":4,"d":"4.0"},{"v":5,"d":"5.0"},{"$nulls":3},{"v":4,"d":"4.0"},{"v":5,"d":"5.0"}]
[{"$nulls":3},{"v":3.3333333333333335,"d":"3.3"},{"v":6,"d":"6.0"},{"$nulls":3},{"v":7.333333333333333,"d":"7.3"},{"v":6,"d":"6.0"},{"$nulls":3},{"v":3.3333333333333335,"d":"3.3"},{"v":6,"d":"6.0"},{"$nulls":3},{"v":3.3333333333333335,"d":"3.3"},{"v":6,"d":"6.0"}]
[]
[null,null,"System Performance",{"$nulls":4},"System Performance",{"$nulls":4},"System Performance",{"$nulls":4},"System Performance"]
[null,null,"Parallel",{"$f":"ROUNDUP(F23/F43,0)","v":1},"Series",{"$f":"+F23","v":{"v":19,"d":"19 "}},null,"Parallel",{"$f":"ROUNDUP(K23/K43,0)","v":1},"Series",{"$f":"+K23","v":{"v":42,"d":"42 "}},null,"Parallel",{"$f":"ROUNDUP(P23/P43,0)","v":{"$error":"#VALUE!"}},"Series",{"$f":"+P23","v":""},null,"Parallel",{"$f":"ROUNDUP(U23/U43,0)","v":{"$error":"#VALUE!"}},"Series",{"$f":"+U23","v":""}]
[null,null,"Tot. I [mA]",{"$f":"IF(D7=\"\",\"\",D43*D20)","v":{"v":800,"d":"800 "}},"#LEDs [ea]",{"$f":"IFERROR(F43*D43,\"\")","v":{"v":19,"d":"19 "}},null,"Tot. I [mA]",{"$f":"IF(I7=\"\",\"\",I43*I20)","v":{"v":700,"d":"700 "}},"#LEDs [ea]",{"$f":"IFERROR(K43*I43,\"\")","v":{"v":42,"d":"42 "}},null,"Tot. I [mA]",{"$f":"IF(N7=\"\",\"\",N43*N20)","v":""},"#LEDs [ea]",{"$f":"IFERROR(P43*N43,\"\")","v":""},null,"Tot. I [mA]",{"$f":"IF(S7=\"\",\"\",S43*S20)","v":""},"#LEDs [ea]",{"$f":"IFERROR(U43*S43,\"\")","v":""}]
[null,null,"Vf [V]",{"$f":"IFERROR(F19*F43,\"\")","v":{"v":116.90975239991941,"d":"116.9 "}},"Cost [$]",{"$f":"IFERROR(F44*D22,\"\")","v":{"v":0,"d":"0.00 "}},null,"Vf [V]",{"$f":"IFERROR(K19*K43,\"\")","v":{"v":120.0748570952797,"d":"120.1 "}},"Cost [$]",{"$f":"IFERROR(K44*I22,\"\")","v":{"v":0,"d":"0.00 "}},null,"Vf [V]",{"$f":"IFERROR(P19*P43,\"\")","v":""},"Cost [$]",{"$f":"IFERROR(P44*N22,\"\")","v":""},null,"Vf [V]",{"$f":"IFERROR(U19*U43,\"\")","v":""},"Cost [$]",{"$f":"IFERROR(U44*S22,\"\")","v":""}]
[null,null,"Pd [W]",{"$f":"IFERROR(D44/1000*D45/$D$4,\"\")","v":{"v":110.03270814110064,"d":"110.0 "}},"LpW",{"$f":"IFERROR(D47/D46,\"\")","v":{"v":114.65565430902615,"d":"114.7 "}},null,"Pd [W]",{"$f":"IFERROR(I44/1000*I45/$D$4,\"\")","v":{"v":98.8851764314068,"d":"98.9 "}},"LpW",{"$f":"IFERROR(I47/I46,\"\")","v":{"v":122.35148411692947,"d":"122.4 "}},null,"Pd [W]",{"$f":"IFERROR(N44/1000*N45/$D$4,\"\")","v":""},"LpW",{"$f":"IFERROR(N47/N46,\"\")","v":""},null,"Pd [W]",{"$f":"IFERROR(S44/1000*S45/$D$4,\"\")","v":""},"LpW",{"$f":"IFERROR(S47/S46,\"\")","v":""}]
[null,null,"Flux [lm]",{"$f":"IFERROR(F44*F18*C4,\"\")","v":{"v":12615.872147312002,"d":"12616 "}},"LpD",{"$f":"IFERROR(D47/F45,\"\")","v":""},null,"Flux [lm]",{"$f":"IFERROR(K44*K18*C4,\"\")","v":{"v":12098.748093547038,"d":"12099 "}},"LpD",{"$f":"IFERROR(I47/K45,\"\")","v":""},null,"Flux [lm]",{"$f":"IFERROR(P44*P18*C4,\"\")","v":""},"LpD",{"$f":"IFERROR(N47/P45,\"\")","v":""},null,"Flux [lm]",{"$f":"IFERROR(U44*U18*C4,\"\")","v":""},"LpD",{"$f":"IFERROR(S47/U45,\"\")","v":""}]
[null,null,{"$f":"VLOOKUP(C52,참조!$E:$F,2,0)","v":2},{"$f":"VLOOKUP(D52,참조!$E:$F,2,0)","v":6},{"$f":"VLOOKUP(E52,참조!$E:$F,2,0)","v":3},{"$f":"VLOOKUP(F52,참조!$E:$F,2,0)","v":8},null,{"$f":"VLOOKUP(H52,참조!$E:$F,2,0)","v":2},{"$f":"VLOOKUP(I52,참조!$E:$F,2,0)","v":4},{"$f":"VLOOKUP(J52,참조!$E:$F,2,0)","v":6},{"$f":"VLOOKUP(K52,참조!$E:$F,2,0)","v":8},null,{"$f":"VLOOKUP(M52,참조!$E:$F,2,0)","v":2},{"$f":"VLOOKUP(N52,참조!$E:$F,2,0)","v":4},{"$f":"VLOOKUP(O52,참조!$E:$F,2,0)","v":6},{"$f":"VLOOKUP(P52,참조!$E:$F,2,0)","v":8},null,{"$f":"VLOOKUP(R52,참조!$E:$F,2,0)","v":2},{"$f":"VLOOKUP(S52,참조!$E:$F,2,0)","v":4},{"$f":"VLOOKUP(T52,참조!$E:$F,2,0)","v":6},{"$f":"VLOOKUP(U52,참조!$E:$F,2,0)","v":8}]
[]
[]
[]
[null,"IF","Flux","lm/W","VF","# LEDs",null,"Flux","PD","lm/W","# LEDs",null,"Flux","PD","lm/W","# LEDs",null,"Flux","PD","lm/W","# LEDs"]
[null,{"$f":"$H$4","v":{"v":0.05,"d":"0.050"}},{"$f":"IFERROR(VLOOKUP($B53,'LED #1'!$A$14:$S$114,C$48,0),\"\")","v":{"v":52.80881624417732,"d":"52.81 "}},{"$f":"IFERROR(VLOOKUP($B53,'LED #1'!$A$14:$S$114,D$48,0),\"\")","v":{"v":206.55268035014012,"d":"206.55 "}},{"$f":"IFERROR(VLOOKUP($B53,'LED #1'!$A$14:$S$114,E$48,0),\"\")","v":{"v":5.113350856029354,"d":"5.11 "}},{"$f":"IFERROR(VLOOKUP($B53,'LED #1'!$A$14:$S$114,F$48,0),\"\")","v":{"v":253,"d":"253.00 "}},null,{"$f":"IFERROR(VLOOKUP($B53,'LED #2'!$A$14:$S$114,H$48,0),\"\")","v":{"v":29.136097930881885,"d":"29.14 "}},{"$f":"IFERROR(VLOOKUP($B53,'LED #2'!$A$14:$S$114,I$48,0),\"\")","v":{"v":0.12603711750652136,"d":"0.13 "}},{"$f":"IFERROR(VLOOKUP($B53,'LED #2'!$A$14:$S$114,J$48,0),\"\")","v":{"v":231.17077339835495,"d":"231.17 "}},{"$f":"IFERROR(VLOOKUP($B53,'LED #2'!$A$14:$S$114,K$48,0),\"\")","v":{"v":458,"d":"458.00 "}},null,{"$f":"IFERROR(VLOOKUP($B53,'LED #3'!$A$14:$S$114,M$48,0),\"\")","v":""},{"$f":"IFERROR(VLOOKUP($B53,'LED #3'!$A$14:$S$114,N$48,0),\"\")","v":""},{"$f":"IFERROR(VLOOKUP($B53,'LED #3'!$A$14:$S$114,O$48,0),\"\")","v":""},{"$f":"IFERROR(VLOOKUP($B53,'LED #3'!$A$14:$S$114,P$48,0),\"\")","v":""},null,{"$f":"IFERROR(VLOOKUP($B53,'LED #4'!$A$14:$S$114,R$48,0),\"\")","v":""},{"$f":"IFERROR(VLOOKUP($B53,'LED #4'!$A$14:$S$114,S$48,0),\"\")","v":""},{"$f":"IFERROR(VLOOKUP($B53,'LED #4'!$A$14:$S$114,T$48,0),\"\")","v":""},{"$f":"IFERROR(VLOOKUP($B53,'LED #4'!$A$14:$S$114,U$48,0),\"\")","v":""}]
[null,{"$f":"ROUND(B53+$J$4,3)","v":0.065},{"$f":"IFERROR(VLOOKUP($B54,'LED #1'!$A$14:$S$114,C$48,0),\"\")","v":{"v":68.17823273179185,"d":"68.18 "}},{"$f":"IFERROR(VLOOKUP($B54,'LED #1'!$A$14:$S$114,D$48,0),\"\")","v":{"v":204.146757632521,"d":"204.15 "}},{"$f":"IFERROR(VLOOKUP($B54,'LED #1'!$A$14:$S$114,E$48,0),\"\")","v":{"v":5.137950268451003,"d":"5.14 "}},{"$f":"IFERROR(VLOOKUP($B54,'LED #1'!$A$14:$S$114,F$48,0),\"\")","v":{"v":196,"d":"196.00 "}},null,{"$f":"IFERROR(VLOOKUP($B54,'LED #2'!$A$14:$S$114,H$48,0),\"\")","v":{"v":36.51599494256101,"d":"36.52 "}},{"$f":"IFERROR(VLOOKUP($B54,'LED #2'!$A$14:$S$114,I$48,0),\"\")","v":{"v":0.1643984424022163,"d":"0.16 "}},{"$f":"IFERROR(VLOOKUP($B54,'LED #2'!$A$14:$S$114,J$48,0),\"\")","v":{"v":222.1188620097822,"d":"222.12 "}},{"$f":"IFERROR(VLOOKUP($B54,'LED #2'!$A$14:$S$114,K$48,0),\"\")","v":{"v":366,"d":"366.00 "}},null,{"$f":"IFERROR(VLOOKUP($B54,'LED #3'!$A$14:$S$114,M$48,0),\"\")","v":""},{"$f":"IFERROR(VLOOKUP($B54,'LED #3'!$A$14:$S$114,N$48,0),\"\")","v":""},{"$f":"IFERROR(VLOOKUP($B54,'LED #3'!$A$14:$S$114,O$48,0),\"\")","v":""},{"$f":"IFERROR(VLOOKUP($B54,'LED #3'!$A$14:$S$114,P$48,0),\"\")","v":""},null,{"$f":"IFERROR(VLOOKUP($B54,'LED #4'!$A$14:$S$114,R$48,0),\"\")","v":""},{"$f":"IFERROR(VLOOKUP($B54,'LED #4'!$A$14:$S$114,S$48,0),\"\")","v":""},{"$f":"IFERROR(VLOOKUP($B54,'LED #4'!$A$14:$S$114,T$48,0),\"\")","v":""},{"$f":"IFERROR(VLOOKUP($B54,'LED #4'!$A$14:$S$114,U$48,0),\"\")","v":""}]
[null,{"v":0.08,"d":"0.080"},{"$f":"IFERROR(VLOOKUP($B55,'LED #1'!$A$14:$S$114,C$48,0),\"\")","v":{"v":83.47415830770883,"d":"83.47 "}},{"$f":"IFERROR(VLOOKUP($B55,'LED #1'!$A$14:$S$114,D$48,0),\"\")","v":{"v":202.12144416962403,"d":"202.12 "}},{"$f":"IFERROR(VLOOKUP($B55,'LED #1'!$A$14:$S$114,E$48,0),\"\")","v":{"v":5.162376427365606,"d":"5.16 "}},{"$f":"IFERROR(VLOOKUP($B55,'LED #1'!$A$14:$S$114,F$48,0),\"\")","v":{"v":160,"d":"160.00 "}},null,{"$f":"IFERROR(VLOOKUP($B55,'LED #2'!$A$14:$S$114,H$48,0),\"\")","v":{"v":43.86243045285556,"d":"43.86 "}},{"$f":"IFERROR(VLOOKUP($B55,'LED #2'!$A$14:$S$114,I$48,0),\"\")","v":{"v":0.20301107012072728,"d":"0.20 "}},{"$f":"IFERROR(VLOOKUP($B55,'LED #2'!$A$14:$S$114,J$48,0),\"\")","v":{"v":216.05930369595762,"d":"216.06 "}},{"$f":"IFERROR(VLOOKUP($B55,'LED #2'!$A$14:$S$114,K$48,0),\"\")","v":{"v":304,"d":"304.00 "}},null,{"$f":"IFERROR(VLOOKUP($B55,'LED #3'!$A$14:$S$114,M$48,0),\"\")","v":""},{"$f":"IFERROR(VLOOKUP($B55,'LED #3'!$A$14:$S$114,N$48,0),\"\")","v":""},{"$f":"IFERROR(VLOOKUP($B55,'LED #3'!$A$14:$S$114,O$48,0),\"\")","v":""},{"$f":"IFERROR(VLOOKUP($B55,'LED #3'!$A$14:$S$114,P$48,0),\"\")","v":""},null,{"$f":"IFERROR(VLOOKUP($B55,'LED #4'!$A$14:$S$114,R$48,0),\"\")","v":""},{"$f":"IFERROR(VLOOKUP($B55,'LED #4'!$A$14:$S$114,S$48,0),\"\")","v":""},{"$f":"IFERROR(VLOOKUP($B55,'LED #4'!$A$14:$S$114,T$48,0),\"\")","v":""},{"$f":"IFERROR(VLOOKUP($B55,'LED #4'!$A$14:$S$114,U$48,0),\"\")","v":""}]
[null,0.095,{"$f":"IFERROR(VLOOKUP($B56,'LED #1'!$A$14:$S$114,C$48,0),\"\")","v":{"v":98.69694437850993,"d":"98.70 "}},{"$f":"IFERROR(VLOOKUP($B56,'LED #1'!$A$14:$S$114,D$48,0),\"\")","v":{"v":200.3063826059661,"d":"200.31 "}},{"$f":"IFERROR(VLOOKUP($B56,'LED #1'!$A$14:$S$114,E$48,0),\"\")","v":{"v":5.186630552996523,"d":"5.19 "}},{"$f":"IFERROR(VLOOKUP($B56,'LED #1'!$A$14:$S$114,F$48,0),\"\")","v":{"v":136,"d":"136.00 "}},null,{"$f":"IFERROR(VLOOKUP($B56,'LED #2'!$A$14:$S$114,H$48,0),\"\")","v":{"v":51.1755561809661,"d":"51.18 "}},{"$f":"IFERROR(VLOOKUP($B56,'LED #2'!$A$14:$S$114,I$48,0),\"\")","v":{"v":0.24187353294170963,"d":"0.24 "}},{"$f":"IFERROR(VLOOKUP($B56,'LED #2'!$A$14:$S$114,J$48,0),\"\")","v":{"v":211.57981015351177,"d":"211.58 "}},{"$f":"IFERROR(VLOOKUP($B56,'LED #2'!$A$14:$S$114,K$48,0),\"\")","v":{"v":261,"d":"261.00 "}},null,{"$f":"IFERROR(VLOOKUP($B56,'LED #3'!$A$14:$S$114,M$48,0),\"\")","v":""},{"$f":"IFERROR(VLOOKUP($B56,'LED #3'!$A$14:$S$114,N$48,0),\"\")","v":""},{"$f":"IFERROR(VLOOKUP($B56,'LED #3'!$A$14:$S$114,O$48,0),\"\")","v":""},{"$f":"IFERROR(VLOOKUP($B56,'LED #3'!$A$14:$S$114,P$48,0),\"\")","v":""},null,{"$f":"IFERROR(VLOOKUP($B56,'LED #4'!$A$14:$S$114,R$48,0),\"\")","v":""},{"$f":"IFERROR(VLOOKUP($B56,'LED #4'!$A$14:$S$114,S$48,0),\"\")","v":""},{"$f":"IFERROR(VLOOKUP($B56,'LED #4'!$A$14:$S$114,T$48,0),\"\")","v":""},{"$f":"IFERROR(VLOOKUP($B56,'LED #4'!$A$14:$S$114,U$48,0),\"\")","v":""}]
[null,{"v":0.11,"d":"0.110"},{"$f":"IFERROR(VLOOKUP($B57,'LED #1'!$A$14:$S$114,C$48,0),\"\")","v":{"v":113.84694067047799,"d":"113.85 "}},{"$f":"IFERROR(VLOOKUP($B57,'LED #1'!$A$14:$S$114,D$48,0),\"\")","v":{"v":198.62387694315896,"d":"198.62 "}},{"$f":"IFERROR(VLOOKUP($B57,'LED #1'!$A$14:$S$114,E$48,0),\"\")","v":{"v":5.210713856973091,"d":"5.21 "}},{"$f":"IFERROR(VLOOKUP($B57,'LED #1'!$A$14:$S$114,F$48,0),\"\")","v":{"v":118,"d":"118.00 "}},null,{"$f":"IFERROR(VLOOKUP($B57,'LED #2'!$A$14:$S$114,H$48,0),\"\")","v":{"v":58.455523158176604,"d":"58.46 "}},{"$f":"IFERROR(VLOOKUP($B57,'LED #2'!$A$14:$S$114,I$48,0),\"\")","v":{"v":0.28098437075618976,"d":"0.28 "}},{"$f":"IFERROR(VLOOKUP($B57,'LED #2'!$A$14:$S$114,J$48,0),\"\")","v":{"v":208.03834391521542,"d":"208.04 "}},{"$f":"IFERROR(VLOOKUP($B57,'LED #2'!$A$14:$S$114,K$48,0),\"\")","v":{"v":229,"d":"229.00 "}},null,{"$f":"IFERROR(VLOOKUP($B57,'LED #3'!$A$14:$S$114,M$48,0),\"\")","v":""},{"$f":"IFERROR(VLOOKUP($B57,'LED #3'!$A$14:$S$114,N$48,0),\"\")","v":""},{"$f":"IFERROR(VLOOKUP($B57,'LED #3'!$A$14:$S$114,O$48,0),\"\")","v":""},{"$f":"IFERROR(VLOOKUP($B57,'LED #3'!$A$14:$S$114,P$48,0),\"\")","v":""},null,{"$f":"IFERROR(VLOOKUP($B57,'LED #4'!$A$14:$S$114,R$48,0),\"\")","v":""},{"$f":"IFERROR(VLOOKUP($B57,'LED #4'!$A$14:$S$114,S$48,0),\"\")","v":""},{"$f":"IFERROR(VLOOKUP($B57,'LED #4'!$A$14:$S$114,T$48,0),\"\")","v":""},{"$f":"IFERROR(VLOOKUP($B57,'LED #4'!$A$14:$S$114,U$48,0),\"\")","v":""}]
[null,0.125,{"$f":"IFERROR(VLOOKUP($B58,'LED #1'!$A$14:$S$114,C$48,0),\"\")","v":{"v":128.92449523763517,"d":"128.92 "}},{"$f":"IFERROR(VLOOKUP($B58,'LED #1'!$A$14:$S$114,D$48,0),\"\")","v":{"v":197.03330438481322,"d":"197.03 "}},{"$f":"IFERROR(VLOOKUP($B58,'LED #1'!$A$14:$S$114,E$48,0),\"\")","v":{"v":5.234627542391146,"d":"5.23 "}},{"$f":"IFERROR(VLOOKUP($B58,'LED #1'!$A$14:$S$114,F$48,0),\"\")","v":{"v":104,"d":"104.00 "}},null,{"$f":"IFERROR(VLOOKUP($B58,'LED #2'!$A$14:$S$114,H$48,0),\"\")","v":{"v":65.7024817309742,"d":"65.70 "}},{"$f":"IFERROR(VLOOKUP($B58,'LED #2'!$A$14:$S$114,I$48,0),\"\")","v":{"v":0.32034213102957637,"d":"0.32 "}},{"$f":"IFERROR(VLOOKUP($B58,'LED #2'!$A$14:$S$114,J$48,0),\"\")","v":{"v":205.1009697656911,"d":"205.10 "}},{"$f":"IFERROR(VLOOKUP($B58,'LED #2'!$A$14:$S$114,K$48,0),\"\")","v":{"v":203,"d":"203.00 "}},null,{"$f":"IFERROR(VLOOKUP($B58,'LED #3'!$A$14:$S$114,M$48,0),\"\")","v":""},{"$f":"IFERROR(VLOOKUP($B58,'LED #3'!$A$14:$S$114,N$48,0),\"\")","v":""},{"$f":"IFERROR(VLOOKUP($B58,'LED #3'!$A$14:$S$114,O$48,0),\"\")","v":""},{"$f":"IFERROR(VLOOKUP($B58,'LED #3'!$A$14:$S$114,P$48,0),\"\")","v":""},null,{"$f":"IFERROR(VLOOKUP($B58,'LED #4'!$A$14:$S$114,R$48,0),\"\")","v":""},{"$f":"IFERROR(VLOOKUP($B58,'LED #4'!$A$14:$S$114,S$48,0),\"\")","v":""},{"$f":"IFERROR(VLOOKUP($B58,'LED #4'!$A$14:$S$114,T$48,0),\"\")","v":""},{"$f":"IFERROR(VLOOKUP($B58,'LED #4'!$A$14:$S$114,U$48,0),\"\")","v":""}]
[null,{"v":0.14,"d":"0.140"},{"$f":"IFERROR(VLOOKUP($B59,'LED #1'!$A$14:$S$114,C$48,0),\"\")","v":{"v":143.9299544697341,"d":"143.93 "}},{"$f":"IFERROR(VLOOKUP($B59,'LED #1'!$A$14:$S$114,D$48,0),\"\")","v":{"v":195.51126207674034,"d":"195.51 "}},{"$f":"IFERROR(VLOOKUP($B59,'LED #1'!$A$14:$S$114,E$48,0),\"\")","v":{"v":5.25837280387313,"d":"5.26 "}},{"$f":"IFERROR(VLOOKUP($B59,'LED #1'!$A$14:$S$114,F$48,0),\"\")","v":{"v":93,"d":"93.00 "}},null,{"$f":"IFERROR(VLOOKUP($B59,'LED #2'!$A$14:$S$114,H$48,0),\"\")","v":{"v":72.91658156415342,"d":"72.92 "}},{"$f":"IFERROR(VLOOKUP($B59,'LED #2'!$A$14:$S$114,I$48,0),\"\")","v":{"v":0.359945368764845,"d":"0.36 "}},{"$f":"IFERROR(VLOOKUP($B59,'LED #2'!$A$14:$S$114,J$48,0),\"\")","v":{"v":202.57680162511096,"d":"202.58 "}},{"$f":"IFERROR(VLOOKUP($B59,'LED #2'!$A$14:$S$114,K$48,0),\"\")","v":{"v":183,"d":"183.00 "}},null,{"$f":"IFERROR(VLOOKUP($B59,'LED #3'!$A$14:$S$114,M$48,0),\"\")","v":""},{"$f":"IFERROR(VLOOKUP($B59,'LED #3'!$A$14:$S$114,N$48,0),\"\")","v":""},{"$f":"IFERROR(VLOOKUP($B59,'LED #3'!$A$14:$S$114,O$48,0),\"\")","v":""},{"$f":"IFERROR(VLOOKUP($B59,'LED #3'!$A$14:$S$114,P$48,0),\"\")","v":""},null,{"$f":"IFERROR(VLOOKUP($B59,'LED #4'!$A$14:$S$114,R$48,0),\"\")","v":""},{"$f":"IFERROR(VLOOKUP($B59,'LED #4'!$A$14:$S$114,S$48,0),\"\")","v":""},{"$f":"IFERROR(VLOOKUP($B59,'LED #4'!$A$14:$S$114,T$48,0),\"\")","v":""},{"$f":"IFERROR(VLOOKUP($B59,'LED #4'!$A$14:$S$114,U$48,0),\"\")","v":""}]
[null,0.155,{"$f":"IFERROR(VLOOKUP($B60,'LED #1'!$A$14:$S$114,C$48,0),\"\")","v":{"v":158.8636631002222,"d":"158.86 "}},{"$f":"IFERROR(VLOOKUP($B60,'LED #1'!$A$14:$S$114,D$48,0),\"\")","v":{"v":194.0432412490721,"d":"194.04 "}},{"$f":"IFERROR(VLOOKUP($B60,'LED #1'!$A$14:$S$114,E$48,0),\"\")","v":{"v":5.281950827627767,"d":"5.28 "}},{"$f":"IFERROR(VLOOKUP($B60,'LED #1'!$A$14:$S$114,F$48,0),\"\")","v":{"v":84,"d":"84.00 "}},null,{"$f":"IFERROR(VLOOKUP($B60,'LED #2'!$A$14:$S$114,H$48,0),\"\")","v":{"v":80.09797164390724,"d":"80.10 "}},{"$f":"IFERROR(VLOOKUP($B60,'LED #2'!$A$14:$S$114,I$48,0),\"\")","v":{"v":0.39979264646589374,"d":"0.40 "}},{"$f":"IFERROR(VLOOKUP($B60,'LED #2'!$A$14:$S$114,J$48,0),\"\")","v":{"v":200.34878668219923,"d":"200.35 "}},{"$f":"IFERROR(VLOOKUP($B60,'LED #2'!$A$14:$S$114,K$48,0),\"\")","v":{"v":167,"d":"167.00 "}},null,{"$f":"IFERROR(VLOOKUP($B60,'LED #3'!$A$14:$S$114,M$48,0),\"\")","v":""},{"$f":"IFERROR(VLOOKUP($B60,'LED #3'!$A$14:$S$114,N$48,0),\"\")","v":""},{"$f":"IFERROR(VLOOKUP($B60,'LED #3'!$A$14:$S$114,O$48,0),\"\")","v":""},{"$f":"IFERROR(VLOOKUP($B60,'LED #3'!$A$14:$S$114,P$48,0),\"\")","v":""},null,{"$f":"IFERROR(VLOOKUP($B60,'LED #4'!$A$14:$S$114,R$48,0),\"\")","v":""},{"$f":"IFERROR(VLOOKUP($B60,'LED #4'!$A$14:$S$114,S$48,0),\"\")","v":""},{"$f":"IFERROR(VLOOKUP($B60,'LED #4'!$A$14:$S$114,T$48,0),\"\")","v":""},{"$f":"IFERROR(VLOOKUP($B60,'LED #4'!$A$14:$S$114,U$48,0),\"\")","v":""}]
[null,{"v":0.17,"d":"0.170"},{"$f":"IFERROR(VLOOKUP($B61,'LED #1'!$A$14:$S$114,C$48,0),\"\")","v":{"v":173.72596421415489,"d":"173.73 "}},{"$f":"IFERROR(VLOOKUP($B61,'LED #1'!$A$14:$S$114,D$48,0),\"\")","v":{"v":192.6197089083756,"d":"192.62 "}},{"$f":"IFERROR(VLOOKUP($B61,'LED #1'!$A$14:$S$114,E$48,0),\"\")","v":{"v":5.30536279150932,"d":"5.31 "}},{"$f":"IFERROR(VLOOKUP($B61,'LED #1'!$A$14:$S$114,F$48,0),\"\")","v":{"v":77,"d":"77.00 "}},null,{"$f":"IFERROR(VLOOKUP($B61,'LED #2'!$A$14:$S$114,H$48,0),\"\")","v":{"v":87.24680028090394,"d":"87.25 "}},{"$f":"IFERROR(VLOOKUP($B61,'LED #2'!$A$14:$S$114,I$48,0),\"\")","v":{"v":0.4398825341010703,"d":"0.44 "}},{"$f":"IFERROR(VLOOKUP($B61,'LED #2'!$A$14:$S$114,J$48,0),\"\")","v":{"v":198.3411331827454,"d":"198.34 "}},{"$f":"IFERROR(VLOOKUP($B61,'LED #2'!$A$14:$S$114,K$48,0),\"\")","v":{"v":153,"d":"153.00 "}},null,{"$f":"IFERROR(VLOOKUP($B61,'LED #3'!$A$14:$S$114,M$48,0),\"\")","v":""},{"$f":"IFERROR(VLOOKUP($B61,'LED #3'!$A$14:$S$114,N$48,0),\"\")","v":""},{"$f":"IFERROR(VLOOKUP($B61,'LED #3'!$A$14:$S$114,O$48,0),\"\")","v":""},{"$f":"IFERROR(VLOOKUP($B61,'LED #3'!$A$14:$S$114,P$48,0),\"\")","v":""},null,{"$f":"IFERROR(VLOOKUP($B61,'LED #4'!$A$14:$S$114,R$48,0),\"\")","v":""},{"$f":"IFERROR(VLOOKUP($B61,'LED #4'!$A$14:$S$114,S$48,0),\"\")","v":""},{"$f":"IFERROR(VLOOKUP($B61,'LED #4'!$A$14:$S$114,T$48,0),\"\")","v":""},{"$f":"IFERROR(VLOOKUP($B61,'LED #4'!$A$14:$S$114,U$48,0),\"\")","v":""}]
[null,0.185,{"$f":"IFERROR(VLOOKUP($B62,'LED #1'!$A$14:$S$114,C$48,0),\"\")","v":{"v":188.5171992560824,"d":"188.52 "}},{"$f":"IFERROR(VLOOKUP($B62,'LED #1'!$A$14:$S$114,D$48,0),\"\")","v":{"v":191.23409550946735,"d":"191.23 "}},{"$f":"IFERROR(VLOOKUP($B62,'LED #1'!$A$14:$S$114,E$48,0),\"\")","v":{"v":5.328609865076428,"d":"5.33 "}},{"$f":"IFERROR(VLOOKUP($B62,'LED #1'!$A$14:$S$114,F$48,0),\"\")","v":{"v":71,"d":"71.00 "}},null,{"$f":"IFERROR(VLOOKUP($B62,'LED #2'!$A$14:$S$114,H$48,0),\"\")","v":{"v":94.36321511335089,"d":"94.36 "}},{"$f":"IFERROR(VLOOKUP($B62,'LED #2'!$A$14:$S$114,I$48,0),\"\")","v":{"v":0.48021360906686916,"d":"0.48 "}},{"$f":"IFERROR(VLOOKUP($B62,'LED #2'!$A$14:$S$114,J$48,0),\"\")","v":{"v":196.50258412441394,"d":"196.50 "}},{"$f":"IFERROR(VLOOKUP($B62,'LED #2'!$A$14:$S$114,K$48,0),\"\")","v":{"v":142,"d":"142.00 "}},null,{"$f":"IFERROR(VLOOKUP($B62,'LED #3'!$A$14:$S$114,M$48,0),\"\")","v":""},{"$f":"IFERROR(VLOOKUP($B62,'LED #3'!$A$14:$S$114,N$48,0),\"\")","v":""},{"$f":"IFERROR(VLOOKUP($B62,'LED #3'!$A$14:$S$114,O$48,0),\"\")","v":""},{"$f":"IFERROR(VLOOKUP($B62,'LED #3'!$A$14:$S$114,P$48,0),\"\")","v":""},null,{"$f":"IFERROR(VLOOKUP($B62,'LED #4'!$A$14:$S$114,R$48,0),\"\")","v":""},{"$f":"IFERROR(VLOOKUP($B62,'LED #4'!$A$14:$S$114,S$48,0),\"\")","v":""},{"$f":"IFERROR(VLOOKUP($B62,'LED #4'!$A$14:$S$114,T$48,0),\"\")","v":""},{"$f":"IFERROR(VLOOKUP($B62,'LED #4'!$A$14:$S$114,U$48,0),\"\")","v":""}]
[null,{"v":0.2,"d":"0.200"},{"$f":"IFERROR(VLOOKUP($B63,'LED #1'!$A$14:$S$114,C$48,0),\"\")","v":{"v":203.23770803789253,"d":"203.24 "}},{"$f":"IFERROR(VLOOKUP($B63,'LED #1'!$A$14:$S$114,D$48,0),\"\")","v":{"v":189.8816879781153,"d":"189.88 "}},{"$f":"IFERROR(VLOOKUP($B63,'LED #1'!$A$14:$S$114,E$48,0),\"\")","v":{"v":5.351693209650541,"d":"5.35 "}},{"$f":"IFERROR(VLOOKUP($B63,'LED #1'!$A$14:$S$114,F$48,0),\"\")","v":{"v":66,"d":"66.00 "}},null,{"$f":"IFERROR(VLOOKUP($B63,'LED #2'!$A$14:$S$114,H$48,0),\"\")","v":{"v":101.44736311004205,"d":"101.45 "}},{"$f":"IFERROR(VLOOKUP($B63,'LED #2'!$A$14:$S$114,I$48,0),\"\")","v":{"v":0.5207844561517978,"d":"0.52 "}},{"$f":"IFERROR(VLOOKUP($B63,'LED #2'!$A$14:$S$114,J$48,0),\"\")","v":{"v":194.79721775811268,"d":"194.80 "}},{"$f":"IFERROR(VLOOKUP($B63,'LED #2'!$A$14:$S$114,K$48,0),\"\")","v":{"v":132,"d":"132.00 "}},null,{"$f":"IFERROR(VLOOKUP($B63,'LED #3'!$A$14:$S$114,M$48,0),\"\")","v":""},{"$f":"IFERROR(VLOOKUP($B63,'LED #3'!$A$14:$S$114,N$48,0),\"\")","v":""},{"$f":"IFERROR(VLOOKUP($B63,'LED #3'!$A$14:$S$114,O$48,0),\"\")","v":""},{"$f":"IFERROR(VLOOKUP($B63,'LED #3'!$A$14:$S$114,P$48,0),\"\")","v":""},null,{"$f":"IFERROR(VLOOKUP($B63,'LED #4'!$A$14:$S$114,R$48,0),\"\")","v":""},{"$f":"IFERROR(VLOOKUP($B63,'LED #4'!$A$14:$S$114,S$48,0),\"\")","v":""},{"$f":"IFERROR(VLOOKUP($B63,'LED #4'!$A$14:$S$114,T$48,0),\"\")","v":""},{"$f":"IFERROR(VLOOKUP($B63,'LED #4'!$A$14:$S$114,U$48,0),\"\")","v":""}]
[null,0.215,{"$f":"IFERROR(VLOOKUP($B64,'LED #1'!$A$14:$S$114,C$48,0),\"\")","v":{"v":217.88782874661567,"d":"217.89 "}},{"$f":"IFERROR(VLOOKUP($B64,'LED #1'!$A$14:$S$114,D$48,0),\"\")","v":{"v":188.55898594577323,"d":"188.56 "}},{"$f":"IFERROR(VLOOKUP($B64,'LED #1'!$A$14:$S$114,E$48,0),\"\")","v":{"v":5.374613978373929,"d":"5.37 "}},{"$f":"IFERROR(VLOOKUP($B64,'LED #1'!$A$14:$S$114,F$48,0),\"\")","v":{"v":62,"d":"62.00 "}},null,{"$f":"IFERROR(VLOOKUP($B64,'LED #2'!$A$14:$S$114,H$48,0),\"\")","v":{"v":108.49939057339472,"d":"108.50 "}},{"$f":"IFERROR(VLOOKUP($B64,'LED #2'!$A$14:$S$114,I$48,0),\"\")","v":{"v":0.5615936675004118,"d":"0.56 "}},{"$f":"IFERROR(VLOOKUP($B64,'LED #2'!$A$14:$S$114,J$48,0),\"\")","v":{"v":193.19909901461835,"d":"193.20 "}},{"$f":"IFERROR(VLOOKUP($B64,'LED #2'!$A$14:$S$114,K$48,0),\"\")","v":{"v":123,"d":"123.00 "}},null,{"$f":"IFERROR(VLOOKUP($B64,'LED #3'!$A$14:$S$114,M$48,0),\"\")","v":""},{"$f":"IFERROR(VLOOKUP($B64,'LED #3'!$A$14:$S$114,N$48,0),\"\")","v":""},{"$f":"IFERROR(VLOOKUP($B64,'LED #3'!$A$14:$S$114,O$48,0),\"\")","v":""},{"$f":"IFERROR(VLOOKUP($B64,'LED #3'!$A$14:$S$114,P$48,0),\"\")","v":""},null,{"$f":"IFERROR(VLOOKUP($B64,'LED #4'!$A$14:$S$114,R$48,0),\"\")","v":""},{"$f":"IFERROR(VLOOKUP($B64,'LED #4'!$A$14:$S$114,S$48,0),\"\")","v":""},{"$f":"IFERROR(VLOOKUP($B64,'LED #4'!$A$14:$S$114,T$48,0),\"\")","v":""},{"$f":"IFERROR(VLOOKUP($B64,'LED #4'!$A$14:$S$114,U$48,0),\"\")","v":""}]
[null,{"v":0.23,"d":"0.230"},{"$f":"IFERROR(VLOOKUP($B65,'LED #1'!$A$14:$S$114,C$48,0),\"\")","v":{"v":232.467897952198,"d":"232.47 "}},{"$f":"IFERROR(VLOOKUP($B65,'LED #1'!$A$14:$S$114,D$48,0),\"\")","v":{"v":187.26330973813646,"d":"187.26 "}},{"$f":"IFERROR(VLOOKUP($B65,'LED #1'!$A$14:$S$114,E$48,0),\"\")","v":{"v":5.3973733162672834,"d":"5.40 "}},{"$f":"IFERROR(VLOOKUP($B65,'LED #1'!$A$14:$S$114,F$48,0),\"\")","v":{"v":58,"d":"58.00 "}},null,{"$f":"IFERROR(VLOOKUP($B65,'LED #2'!$A$14:$S$114,H$48,0),\"\")","v":{"v":115.51944314246934,"d":"115.52 "}},{"$f":"IFERROR(VLOOKUP($B65,'LED #2'!$A$14:$S$114,I$48,0),\"\")","v":{"v":0.6026398425775189,"d":"0.60 "}},{"$f":"IFERROR(VLOOKUP($B65,'LED #2'!$A$14:$S$114,J$48,0),\"\")","v":{"v":191.68902382621644,"d":"191.69 "}},{"$f":"IFERROR(VLOOKUP($B65,'LED #2'!$A$14:$S$114,K$48,0),\"\")","v":{"v":116,"d":"116.00 "}},null,{"$f":"IFERROR(VLOOKUP($B65,'LED #3'!$A$14:$S$114,M$48,0),\"\")","v":""},{"$f":"IFERROR(VLOOKUP($B65,'LED #3'!$A$14:$S$114,N$48,0),\"\")","v":""},{"$f":"IFERROR(VLOOKUP($B65,'LED #3'!$A$14:$S$114,O$48,0),\"\")","v":""},{"$f":"IFERROR(VLOOKUP($B65,'LED #3'!$A$14:$S$114,P$48,0),\"\")","v":""},null,{"$f":"IFERROR(VLOOKUP($B65,'LED #4'!$A$14:$S$114,R$48,0),\"\")","v":""},{"$f":"IFERROR(VLOOKUP($B65,'LED #4'!$A$14:$S$114,S$48,0),\"\")","v":""},{"$f":"IFERROR(VLOOKUP($B65,'LED #4'!$A$14:$S$114,T$48,0),\"\")","v":""},{"$f":"IFERROR(VLOOKUP($B65,'LED #4'!$A$14:$S$114,U$48,0),\"\")","v":""}]
[null,0.245,{"$f":"IFERROR(VLOOKUP($B66,'LED #1'!$A$14:$S$114,C$48,0),\"\")","v":{"v":246.97825061522968,"d":"246.98 "}},{"$f":"IFERROR(VLOOKUP($B66,'LED #1'!$A$14:$S$114,D$48,0),\"\")","v":{"v":185.99255223022828,"d":"185.99 "}},{"$f":"IFERROR(VLOOKUP($B66,'LED #1'!$A$14:$S$114,E$48,0),\"\")","v":{"v":5.419972360286927,"d":"5.42 "}},{"$f":"IFERROR(VLOOKUP($B66,'LED #1'!$A$14:$S$114,F$48,0),\"\")","v":{"v":54,"d":"54.00 "}},null,{"$f":"IFERROR(VLOOKUP($B66,'LED #2'!$A$14:$S$114,H$48,0),\"\")","v":{"v":122.50766579597908,"d":"122.51 "}},{"$f":"IFERROR(VLOOKUP($B66,'LED #2'!$A$14:$S$114,I$48,0),\"\")","v":{"v":0.6439215881325472,"d":"0.64 "}},{"$f":"IFERROR(VLOOKUP($B66,'LED #2'!$A$14:$S$114,J$48,0),\"\")","v":{"v":190.25245938914173,"d":"190.25 "}},{"$f":"IFERROR(VLOOKUP($B66,'LED #2'!$A$14:$S$114,K$48,0),\"\")","v":{"v":109,"d":"109.00 "}},null,{"$f":"IFERROR(VLOOKUP($B66,'LED #3'!$A$14:$S$114,M$48,0),\"\")","v":""},{"$f":"IFERROR(VLOOKUP($B66,'LED #3'!$A$14:$S$114,N$48,0),\"\")","v":""},{"$f":"IFERROR(VLOOKUP($B66,'LED #3'!$A$14:$S$114,O$48,0),\"\")","v":""},{"$f":"IFERROR(VLOOKUP($B66,'LED #3'!$A$14:$S$114,P$48,0),\"\")","v":""},null,{"$f":"IFERROR(VLOOKUP($B66,'LED #4'!$A$14:$S$114,R$48,0),\"\")","v":""},{"$f":"IFERROR(VLOOKUP($B66,'LED #4'!$A$14:$S$114,S$48,0),\"\")","v":""},{"$f":"IFERROR(VLOOKUP($B66,'LED #4'!$A$14:$S$114,T$48,0),\"\")","v":""},{"$f":"IFERROR(VLOOKUP($B66,'LED #4'!$A$14:$S$114,U$48,0),\"\")","v":""}]
[null,{"v":0.26,"d":"0.260"},{"$f":"IFERROR(VLOOKUP($B67,'LED #1'!$A$14:$S$114,C$48,0),\"\")","v":{"v":261.41922009464434,"d":"261.42 "}},{"$f":"IFERROR(VLOOKUP($B67,'LED #1'!$A$14:$S$114,D$48,0),\"\")","v":{"v":184.74501647449634,"d":"184.75 "}},{"$f":"IFERROR(VLOOKUP($B67,'LED #1'!$A$14:$S$114,E$48,0),\"\")","v":{"v":5.442412239381605,"d":"5.44 "}},{"$f":"IFERROR(VLOOKUP($B67,'LED #1'!$A$14:$S$114,F$48,0),\"\")","v":{"v":52,"d":"52.00 "}},null,{"$f":"IFERROR(VLOOKUP($B67,'LED #2'!$A$14:$S$114,H$48,0),\"\")","v":{"v":129.46420285528237,"d":"129.46 "}},{"$f":"IFERROR(VLOOKUP($B67,'LED #2'!$A$14:$S$114,I$48,0),\"\")","v":{"v":0.6854375181640836,"d":"0.69 "}},{"$f":"IFERROR(VLOOKUP($B67,'LED #2'!$A$14:$S$114,J$48,0),\"\")","v":{"v":188.87819739142228,"d":"188.88 "}},{"$f":"IFERROR(VLOOKUP($B67,'LED #2'!$A$14:$S$114,K$48,0),\"\")","v":{"v":103,"d":"103.00 "}},null,{"$f":"IFERROR(VLOOKUP($B67,'LED #3'!$A$14:$S$114,M$48,0),\"\")","v":""},{"$f":"IFERROR(VLOOKUP($B67,'LED #3'!$A$14:$S$114,N$48,0),\"\")","v":""},{"$f":"IFERROR(VLOOKUP($B67,'LED #3'!$A$14:$S$114,O$48,0),\"\")","v":""},{"$f":"IFERROR(VLOOKUP($B67,'LED #3'!$A$14:$S$114,P$48,0),\"\")","v":""},null,{"$f":"IFERROR(VLOOKUP($B67,'LED #4'!$A$14:$S$114,R$48,0),\"\")","v":""},{"$f":"IFERROR(VLOOKUP($B67,'LED #4'!$A$14:$S$114,S$48,0),\"\")","v":""},{"$f":"IFERROR(VLOOKUP($B67,'LED #4'!$A$14:$S$114,T$48,0),\"\")","v":""},{"$f":"IFERROR(VLOOKUP($B67,'LED #4'!$A$14:$S$114,U$48,0),\"\")","v":""}]
[null,0.275,{"$f":"IFERROR(VLOOKUP($B68,'LED #1'!$A$14:$S$114,C$48,0),\"\")","v":{"v":275.7911381553729,"d":"275.79 "}},{"$f":"IFERROR(VLOOKUP($B68,'LED #1'!$A$14:$S$114,D$48,0),\"\")","v":{"v":183.51930635793664,"d":"183.52 "}},{"$f":"IFERROR(VLOOKUP($B68,'LED #1'!$A$14:$S$114,E$48,0),\"\")","v":{"v":5.464694074548884,"d":"5.46 "}},{"$f":"IFERROR(VLOOKUP($B68,'LED #1'!$A$14:$S$114,F$48,0),\"\")","v":{"v":49,"d":"49.00 "}},null,{"$f":"IFERROR(VLOOKUP($B68,'LED #2'!$A$14:$S$114,H$48,0),\"\")","v":{"v":136.38919798736453,"d":"136.39 "}},{"$f":"IFERROR(VLOOKUP($B68,'LED #2'!$A$14:$S$114,I$48,0),\"\")","v":{"v":0.7271862538845748,"d":"0.73 "}},{"$f":"IFERROR(VLOOKUP($B68,'LED #2'!$A$14:$S$114,J$48,0),\"\")","v":{"v":187.55744798362673,"d":"187.56 "}},{"$f":"IFERROR(VLOOKUP($B68,'LED #2'!$A$14:$S$114,K$48,0),\"\")","v":{"v":98,"d":"98.00 "}},null,{"$f":"IFERROR(VLOOKUP($B68,'LED #3'!$A$14:$S$114,M$48,0),\"\")","v":""},{"$f":"IFERROR(VLOOKUP($B68,'LED #3'!$A$14:$S$114,N$48,0),\"\")","v":""},{"$f":"IFERROR(VLOOKUP($B68,'LED #3'!$A$14:$S$114,O$48,0),\"\")","v":""},{"$f":"IFERROR(VLOOKUP($B68,'LED #3'!$A$14:$S$114,P$48,0),\"\")","v":""},null,{"$f":"IFERROR(VLOOKUP($B68,'LED #4'!$A$14:$S$114,R$48,0),\"\")","v":""},{"$f":"IFERROR(VLOOKUP($B68,'LED #4'!$A$14:$S$114,S$48,0),\"\")","v":""},{"$f":"IFERROR(VLOOKUP($B68,'LED #4'!$A$14:$S$114,T$48,0),\"\")","v":""},{"$f":"IFERROR(VLOOKUP($B68,'LED #4'!$A$14:$S$114,U$48,0),\"\")","v":""}]
[null,{"v":0.29,"d":"0.290"},{"$f":"IFERROR(VLOOKUP($B69,'LED #1'!$A$14:$S$114,C$48,0),\"\")","v":{"v":290.0943349759705,"d":"290.09 "}},{"$f":"IFERROR(VLOOKUP($B69,'LED #1'!$A$14:$S$114,D$48,0),\"\")","v":{"v":182.31425109321677,"d":"182.31 "}},{"$f":"IFERROR(VLOOKUP($B69,'LED #1'!$A$14:$S$114,E$48,0),\"\")","v":{"v":5.486818978891149,"d":"5.49 "}},{"$f":"IFERROR(VLOOKUP($B69,'LED #1'!$A$14:$S$114,F$48,0),\"\")","v":{"v":46,"d":"46.00 "}},null,{"$f":"IFERROR(VLOOKUP($B69,'LED #2'!$A$14:$S$114,H$48,0),\"\")","v":{"v":143.28279420780441,"d":"143.28 "}},{"$f":"IFERROR(VLOOKUP($B69,'LED #2'!$A$14:$S$114,I$48,0),\"\")","v":{"v":0.7691664236851945,"d":"0.77 "}},{"$f":"IFERROR(VLOOKUP($B69,'LED #2'!$A$14:$S$114,J$48,0),\"\")","v":{"v":186.28321491376929,"d":"186.28 "}},{"$f":"IFERROR(VLOOKUP($B69,'LED #2'!$A$14:$S$114,K$48,0),\"\")","v":{"v":94,"d":"94.00 "}},null,{"$f":"IFERROR(VLOOKUP($B69,'LED #3'!$A$14:$S$114,M$48,0),\"\")","v":""},{"$f":"IFERROR(VLOOKUP($B69,'LED #3'!$A$14:$S$114,N$48,0),\"\")","v":""},{"$f":"IFERROR(VLOOKUP($B69,'LED #3'!$A$14:$S$114,O$48,0),\"\")","v":""},{"$f":"IFERROR(VLOOKUP($B69,'LED #3'!$A$14:$S$114,P$48,0),\"\")","v":""},null,{"$f":"IFERROR(VLOOKUP($B69,'LED #4'!$A$14:$S$114,R$48,0),\"\")","v":""},{"$f":"IFERROR(VLOOKUP($B69,'LED #4'!$A$14:$S$114,S$48,0),\"\")","v":""},{"$f":"IFERROR(VLOOKUP($B69,'LED #4'!$A$14:$S$114,T$48,0),\"\")","v":""},{"$f":"IFERROR(VLOOKUP($B69,'LED #4'!$A$14:$S$114,U$48,0),\"\")","v":""}]
[null,0.305,{"$f":"IFERROR(VLOOKUP($B70,'LED #1'!$A$14:$S$114,C$48,0),\"\")","v":{"v":304.3291391561973,"d":"304.33 "}},{"$f":"IFERROR(VLOOKUP($B70,'LED #1'!$A$14:$S$114,D$48,0),\"\")","v":{"v":181.12885190061883,"d":"181.13 "}},{"$f":"IFERROR(VLOOKUP($B70,'LED #1'!$A$14:$S$114,E$48,0),\"\")","v":{"v":5.508788057671215,"d":"5.51 "}},{"$f":"IFERROR(VLOOKUP($B70,'LED #1'!$A$14:$S$114,F$48,0),\"\")","v":{"v":44,"d":"44.00 "}},null,{"$f":"IFERROR(VLOOKUP($B70,'LED #2'!$A$14:$S$114,H$48,0),\"\")","v":{"v":150.14513388372697,"d":"150.15 "}},{"$f":"IFERROR(VLOOKUP($B70,'LED #2'!$A$14:$S$114,I$48,0),\"\")","v":{"v":0.811376663100875,"d":"0.81 "}},{"$f":"IFERROR(VLOOKUP($B70,'LED #2'!$A$14:$S$114,J$48,0),\"\")","v":{"v":185.04985503269285,"d":"185.05 "}},{"$f":"IFERROR(VLOOKUP($B70,'LED #2'!$A$14:$S$114,K$48,0),\"\")","v":{"v":89,"d":"89.00 "}},null,{"$f":"IFERROR(VLOOKUP($B70,'LED #3'!$A$14:$S$114,M$48,0),\"\")","v":""},{"$f":"IFERROR(VLOOKUP($B70,'LED #3'!$A$14:$S$114,N$48,0),\"\")","v":""},{"$f":"IFERROR(VLOOKUP($B70,'LED #3'!$A$14:$S$114,O$48,0),\"\")","v":""},{"$f":"IFERROR(VLOOKUP($B70,'LED #3'!$A$14:$S$114,P$48,0),\"\")","v":""},null,{"$f":"IFERROR(VLOOKUP($B70,'LED #4'!$A$14:$S$114,R$48,0),\"\")","v":""},{"$f":"IFERROR(VLOOKUP($B70,'LED #4'!$A$14:$S$114,S$48,0),\"\")","v":""},{"$f":"IFERROR(VLOOKUP($B70,'LED #4'!$A$14:$S$114,T$48,0),\"\")","v":""},{"$f":"IFERROR(VLOOKUP($B70,'LED #4'!$A$14:$S$114,U$48,0),\"\")","v":""}]
[null,{"v":0.32,"d":"0.320"},{"$f":"IFERROR(VLOOKUP($B71,'LED #1'!$A$14:$S$114,C$48,0),\"\")","v":{"v":318.4958777245729,"d":"318.50 "}},{"$f":"IFERROR(VLOOKUP($B71,'LED #1'!$A$14:$S$114,D$48,0),\"\")","v":{"v":179.962243603599,"d":"179.96 "}},{"$f":"IFERROR(VLOOKUP($B71,'LED #1'!$A$14:$S$114,E$48,0),\"\")","v":{"v":5.530602408367538,"d":"5.53 "}},{"$f":"IFERROR(VLOOKUP($B71,'LED #1'!$A$14:$S$114,F$48,0),\"\")","v":{"v":42,"d":"42.00 "}},null,{"$f":"IFERROR(VLOOKUP($B71,'LED #2'!$A$14:$S$114,H$48,0),\"\")","v":{"v":156.9763587367461,"d":"156.98 "}},{"$f":"IFERROR(VLOOKUP($B71,'LED #2'!$A$14:$S$114,I$48,0),\"\")","v":{"v":0.8538156147755004,"d":"0.85 "}},{"$f":"IFERROR(VLOOKUP($B71,'LED #2'!$A$14:$S$114,J$48,0),\"\")","v":{"v":183.85276167386675,"d":"183.85 "}},{"$f":"IFERROR(VLOOKUP($B71,'LED #2'!$A$14:$S$114,K$48,0),\"\")","v":{"v":85,"d":"85.00 "}},null,{"$f":"IFERROR(VLOOKUP($B71,'LED #3'!$A$14:$S$114,M$48,0),\"\")","v":""},{"$f":"IFERROR(VLOOKUP($B71,'LED #3'!$A$14:$S$114,N$48,0),\"\")","v":""},{"$f":"IFERROR(VLOOKUP($B71,'LED #3'!$A$14:$S$114,O$48,0),\"\")","v":""},{"$f":"IFERROR(VLOOKUP($B71,'LED #3'!$A$14:$S$114,P$48,0),\"\")","v":""},null,{"$f":"IFERROR(VLOOKUP($B71,'LED #4'!$A$14:$S$114,R$48,0),\"\")","v":""},{"$f":"IFERROR(VLOOKUP($B71,'LED #4'!$A$14:$S$114,S$48,0),\"\")","v":""},{"$f":"IFERROR(VLOOKUP($B71,'LED #4'!$A$14:$S$114,T$48,0),\"\")","v":""},{"$f":"IFERROR(VLOOKUP($B71,'LED #4'!$A$14:$S$114,U$48,0),\"\")","v":""}]
[null,0.335,{"$f":"IFERROR(VLOOKUP($B72,'LED #1'!$A$14:$S$114,C$48,0),\"\")","v":{"v":332.594876145883,"d":"332.59 "}},{"$f":"IFERROR(VLOOKUP($B72,'LED #1'!$A$14:$S$114,D$48,0),\"\")","v":{"v":178.81366646727722,"d":"178.81 "}},{"$f":"IFERROR(VLOOKUP($B72,'LED #1'!$A$14:$S$114,E$48,0),\"\")","v":{"v":5.552263120729038,"d":"5.55 "}},{"$f":"IFERROR(VLOOKUP($B72,'LED #1'!$A$14:$S$114,F$48,0),\"\")","v":{"v":41,"d":"41.00 "}},null,{"$f":"IFERROR(VLOOKUP($B72,'LED #2'!$A$14:$S$114,H$48,0),\"\")","v":{"v":163.7766098458879,"d":"163.78 "}},{"$f":"IFERROR(VLOOKUP($B72,'LED #2'!$A$14:$S$114,I$48,0),\"\")","v":{"v":0.896481928427265,"d":"0.90 "}},{"$f":"IFERROR(VLOOKUP($B72,'LED #2'!$A$14:$S$114,J$48,0),\"\")","v":{"v":182.68813308173193,"d":"182.69 "}},{"$f":"IFERROR(VLOOKUP($B72,'LED #2'!$A$14:$S$114,K$48,0),\"\")","v":{"v":82,"d":"82.00 "}},null,{"$f":"IFERROR(VLOOKUP($B72,'LED #3'!$A$14:$S$114,M$48,0),\"\")","v":""},{"$f":"IFERROR(VLOOKUP($B72,'LED #3'!$A$14:$S$114,N$48,0),\"\")","v":""},{"$f":"IFERROR(VLOOKUP($B72,'LED #3'!$A$14:$S$114,O$48,0),\"\")","v":""},{"$f":"IFERROR(VLOOKUP($B72,'LED #3'!$A$14:$S$114,P$48,0),\"\")","v":""},null,{"$f":"IFERROR(VLOOKUP($B72,'LED #4'!$A$14:$S$114,R$48,0),\"\")","v":""},{"$f":"IFERROR(VLOOKUP($B72,'LED #4'!$A$14:$S$114,S$48,0),\"\")","v":""},{"$f":"IFERROR(VLOOKUP($B72,'LED #4'!$A$14:$S$114,T$48,0),\"\")","v":""},{"$f":"IFERROR(VLOOKUP($B72,'LED #4'!$A$14:$S$114,U$48,0),\"\")","v":""}]
[null,{"v":0.35,"d":"0.350"},{"$f":"IFERROR(VLOOKUP($B73,'LED #1'!$A$14:$S$114,C$48,0),\"\")","v":{"v":346.62645832866315,"d":"346.63 "}},{"$f":"IFERROR(VLOOKUP($B73,'LED #1'!$A$14:$S$114,D$48,0),\"\")","v":{"v":177.68244521038204,"d":"177.68 "}},{"$f":"IFERROR(VLOOKUP($B73,'LED #1'!$A$14:$S$114,E$48,0),\"\")","v":{"v":5.573771276829542,"d":"5.57 "}},{"$f":"IFERROR(VLOOKUP($B73,'LED #1'!$A$14:$S$114,F$48,0),\"\")","v":{"v":39,"d":"39.00 "}},null,{"$f":"IFERROR(VLOOKUP($B73,'LED #2'!$A$14:$S$114,H$48,0),\"\")","v":{"v":170.54602765050754,"d":"170.55 "}},{"$f":"IFERROR(VLOOKUP($B73,'LED #2'!$A$14:$S$114,I$48,0),\"\")","v":{"v":0.9393742608141916,"d":"0.94 "}},{"$f":"IFERROR(VLOOKUP($B73,'LED #2'!$A$14:$S$114,J$48,0),\"\")","v":{"v":181.55280037446286,"d":"181.55 "}},{"$f":"IFERROR(VLOOKUP($B73,'LED #2'!$A$14:$S$114,K$48,0),\"\")","v":{"v":79,"d":"79.00 "}},null,{"$f":"IFERROR(VLOOKUP($B73,'LED #3'!$A$14:$S$114,M$48,0),\"\")","v":""},{"$f":"IFERROR(VLOOKUP($B73,'LED #3'!$A$14:$S$114,N$48,0),\"\")","v":""},{"$f":"IFERROR(VLOOKUP($B73,'LED #3'!$A$14:$S$114,O$48,0),\"\")","v":""},{"$f":"IFERROR(VLOOKUP($B73,'LED #3'!$A$14:$S$114,P$48,0),\"\")","v":""},null,{"$f":"IFERROR(VLOOKUP($B73,'LED #4'!$A$14:$S$114,R$48,0),\"\")","v":""},{"$f":"IFERROR(VLOOKUP($B73,'LED #4'!$A$14:$S$114,S$48,0),\"\")","v":""},{"$f":"IFERROR(VLOOKUP($B73,'LED #4'!$A$14:$S$114,T$48,0),\"\")","v":""},{"$f":"IFERROR(VLOOKUP($B73,'LED #4'!$A$14:$S$114,U$48,0),\"\")","v":""}]
[null,0.365,{"$f":"IFERROR(VLOOKUP($B74,'LED #1'!$A$14:$S$114,C$48,0),\"\")","v":{"v":360.5909466326351,"d":"360.59 "}},{"$f":"IFERROR(VLOOKUP($B74,'LED #1'!$A$14:$S$114,D$48,0),\"\")","v":{"v":176.56797313011694,"d":"176.57 "}},{"$f":"IFERROR(VLOOKUP($B74,'LED #1'!$A$14:$S$114,E$48,0),\"\")","v":{"v":5.595127951121837,"d":"5.60 "}},{"$f":"IFERROR(VLOOKUP($B74,'LED #1'!$A$14:$S$114,F$48,0),\"\")","v":{"v":37,"d":"37.00 "}},null,{"$f":"IFERROR(VLOOKUP($B74,'LED #2'!$A$14:$S$114,H$48,0),\"\")","v":{"v":177.28475195318742,"d":"177.28 "}},{"$f":"IFERROR(VLOOKUP($B74,'LED #2'!$A$14:$S$114,I$48,0),\"\")","v":{"v":0.9824912756998114,"d":"0.98 "}},{"$f":"IFERROR(VLOOKUP($B74,'LED #2'!$A$14:$S$114,J$48,0),\"\")","v":{"v":180.44409791518055,"d":"180.44 "}},{"$f":"IFERROR(VLOOKUP($B74,'LED #2'!$A$14:$S$114,K$48,0),\"\")","v":{"v":76,"d":"76.00 "}},null,{"$f":"IFERROR(VLOOKUP($B74,'LED #3'!$A$14:$S$114,M$48,0),\"\")","v":""},{"$f":"IFERROR(VLOOKUP($B74,'LED #3'!$A$14:$S$114,N$48,0),\"\")","v":""},{"$f":"IFERROR(VLOOKUP($B74,'LED #3'!$A$14:$S$114,O$48,0),\"\")","v":""},{"$f":"IFERROR(VLOOKUP($B74,'LED #3'!$A$14:$S$114,P$48,0),\"\")","v":""},null,{"$f":"IFERROR(VLOOKUP($B74,'LED #4'!$A$14:$S$114,R$48,0),\"\")","v":""},{"$f":"IFERROR(VLOOKUP($B74,'LED #4'!$A$14:$S$114,S$48,0),\"\")","v":""},{"$f":"IFERROR(VLOOKUP($B74,'LED #4'!$A$14:$S$114,T$48,0),\"\")","v":""},{"$f":"IFERROR(VLOOKUP($B74,'LED #4'!$A$14:$S$114,U$48,0),\"\")","v":""}]
[null,{"v":0.38,"d":"0.380"},{"$f":"IFERROR(VLOOKUP($B75,'LED #1'!$A$14:$S$114,C$48,0),\"\")","v":{"v":374.48866187611526,"d":"374.49 "}},{"$f":"IFERROR(VLOOKUP($B75,'LED #1'!$A$14:$S$114,D$48,0),\"\")","v":{"v":175.4696999299726,"d":"175.47 "}},{"$f":"IFERROR(VLOOKUP($B75,'LED #1'!$A$14:$S$114,E$48,0),\"\")","v":{"v":5.616334210491346,"d":"5.62 "}},{"$f":"IFERROR(VLOOKUP($B75,'LED #1'!$A$14:$S$114,F$48,0),\"\")","v":{"v":36,"d":"36.00 "}},null,{"$f":"IFERROR(VLOOKUP($B75,'LED #2'!$A$14:$S$114,H$48,0),\"\")","v":{"v":183.99292192262553,"d":"183.99 "}},{"$f":"IFERROR(VLOOKUP($B75,'LED #2'!$A$14:$S$114,I$48,0),\"\")","v":{"v":1.025831643819005,"d":"1.03 "}},{"$f":"IFERROR(VLOOKUP($B75,'LED #2'!$A$14:$S$114,J$48,0),\"\")","v":{"v":179.35976437385935,"d":"179.36 "}},{"$f":"IFERROR(VLOOKUP($B75,'LED #2'!$A$14:$S$114,K$48,0),\"\")","v":{"v":73,"d":"73.00 "}},null,{"$f":"IFERROR(VLOOKUP($B75,'LED #3'!$A$14:$S$114,M$48,0),\"\")","v":""},{"$f":"IFERROR(VLOOKUP($B75,'LED #3'!$A$14:$S$114,N$48,0),\"\")","v":""},{"$f":"IFERROR(VLOOKUP($B75,'LED #3'!$A$14:$S$114,O$48,0),\"\")","v":""},{"$f":"IFERROR(VLOOKUP($B75,'LED #3'!$A$14:$S$114,P$48,0),\"\")","v":""},null,{"$f":"IFERROR(VLOOKUP($B75,'LED #4'!$A$14:$S$114,R$48,0),\"\")","v":""},{"$f":"IFERROR(VLOOKUP($B75,'LED #4'!$A$14:$S$114,S$48,0),\"\")","v":""},{"$f":"IFERROR(VLOOKUP($B75,'LED #4'!$A$14:$S$114,T$48,0),\"\")","v":""},{"$f":"IFERROR(VLOOKUP($B75,'LED #4'!$A$14:$S$114,U$48,0),\"\")","v":""}]
[null,0.395,{"$f":"IFERROR(VLOOKUP($B76,'LED #1'!$A$14:$S$114,C$48,0),\"\")","v":{"v":388.3199233433854,"d":"388.32 "}},{"$f":"IFERROR(VLOOKUP($B76,'LED #1'!$A$14:$S$114,D$48,0),\"\")","v":{"v":174.38712226869956,"d":"174.39 "}},{"$f":"IFERROR(VLOOKUP($B76,'LED #1'!$A$14:$S$114,E$48,0),\"\")","v":{"v":5.637391114309424,"d":"5.64 "}},{"$f":"IFERROR(VLOOKUP($B76,'LED #1'!$A$14:$S$114,F$48,0),\"\")","v":{"v":35,"d":"35.00 "}},null,{"$f":"IFERROR(VLOOKUP($B76,'LED #2'!$A$14:$S$114,H$48,0),\"\")","v":{"v":190.67067609650903,"d":"190.67 "}},{"$f":"IFERROR(VLOOKUP($B76,'LED #2'!$A$14:$S$114,I$48,0),\"\")","v":{"v":1.0693940428440019,"d":"1.07 "}},{"$f":"IFERROR(VLOOKUP($B76,'LED #2'!$A$14:$S$114,J$48,0),\"\")","v":{"v":178.29786632196826,"d":"178.30 "}},{"$f":"IFERROR(VLOOKUP($B76,'LED #2'!$A$14:$S$114,K$48,0),\"\")","v":{"v":70,"d":"70.00 "}},null,{"$f":"IFERROR(VLOOKUP($B76,'LED #3'!$A$14:$S$114,M$48,0),\"\")","v":""},{"$f":"IFERROR(VLOOKUP($B76,'LED #3'!$A$14:$S$114,N$48,0),\"\")","v":""},{"$f":"IFERROR(VLOOKUP($B76,'LED #3'!$A$14:$S$114,O$48,0),\"\")","v":""},{"$f":"IFERROR(VLOOKUP($B76,'LED #3'!$A$14:$S$114,P$48,0),\"\")","v":""},null,{"$f":"IFERROR(VLOOKUP($B76,'LED #4'!$A$14:$S$114,R$48,0),\"\")","v":""},{"$f":"IFERROR(VLOOKUP($B76,'LED #4'!$A$14:$S$114,S$48,0),\"\")","v":""},{"$f":"IFERROR(VLOOKUP($B76,'LED #4'!$A$14:$S$114,T$48,0),\"\")","v":""},{"$f":"IFERROR(VLOOKUP($B76,'LED #4'!$A$14:$S$114,U$48,0),\"\")","v":""}]
[null,{"v":0.41,"d":"0.410"},{"$f":"IFERROR(VLOOKUP($B77,'LED #1'!$A$14:$S$114,C$48,0),\"\")","v":{"v":402.08504879202536,"d":"402.09 "}},{"$f":"IFERROR(VLOOKUP($B77,'LED #1'!$A$14:$S$114,D$48,0),\"\")","v":{"v":173.31977633588414,"d":"173.32 "}},{"$f":"IFERROR(VLOOKUP($B77,'LED #1'!$A$14:$S$114,E$48,0),\"\")","v":{"v":5.658299714486281,"d":"5.66 "}},{"$f":"IFERROR(VLOOKUP($B77,'LED #1'!$A$14:$S$114,F$48,0),\"\")","v":{"v":34,"d":"34.00 "}},null,{"$f":"IFERROR(VLOOKUP($B77,'LED #2'!$A$14:$S$114,H$48,0),\"\")","v":{"v":197.318152384376,"d":"197.32 "}},{"$f":"IFERROR(VLOOKUP($B77,'LED #2'!$A$14:$S$114,I$48,0),\"\")","v":{"v":1.1131771573505402,"d":"1.11 "}},{"$f":"IFERROR(VLOOKUP($B77,'LED #2'!$A$14:$S$114,J$48,0),\"\")","v":{"v":177.25673858957956,"d":"177.26 "}},{"$f":"IFERROR(VLOOKUP($B77,'LED #2'!$A$14:$S$114,K$48,0),\"\")","v":{"v":68,"d":"68.00 "}},null,{"$f":"IFERROR(VLOOKUP($B77,'LED #3'!$A$14:$S$114,M$48,0),\"\")","v":""},{"$f":"IFERROR(VLOOKUP($B77,'LED #3'!$A$14:$S$114,N$48,0),\"\")","v":""},{"$f":"IFERROR(VLOOKUP($B77,'LED #3'!$A$14:$S$114,O$48,0),\"\")","v":""},{"$f":"IFERROR(VLOOKUP($B77,'LED #3'!$A$14:$S$114,P$48,0),\"\")","v":""},null,{"$f":"IFERROR(VLOOKUP($B77,'LED #4'!$A$14:$S$114,R$48,0),\"\")","v":""},{"$f":"IFERROR(VLOOKUP($B77,'LED #4'!$A$14:$S$114,S$48,0),\"\")","v":""},{"$f":"IFERROR(VLOOKUP($B77,'LED #4'!$A$14:$S$114,T$48,0),\"\")","v":""},{"$f":"IFERROR(VLOOKUP($B77,'LED #4'!$A$14:$S$114,U$48,0),\"\")","v":""}]
[null,0.425,{"$f":"IFERROR(VLOOKUP($B78,'LED #1'!$A$14:$S$114,C$48,0),\"\")","v":{"v":415.78435446021575,"d":"415.78 "}},{"$f":"IFERROR(VLOOKUP($B78,'LED #1'!$A$14:$S$114,D$48,0),\"\")","v":{"v":172.26723195556434,"d":"172.27 "}},{"$f":"IFERROR(VLOOKUP($B78,'LED #1'!$A$14:$S$114,E$48,0),\"\")","v":{"v":5.6790610555235315,"d":"5.68 "}},{"$f":"IFERROR(VLOOKUP($B78,'LED #1'!$A$14:$S$114,F$48,0),\"\")","v":{"v":33,"d":"33.00 "}},null,{"$f":"IFERROR(VLOOKUP($B78,'LED #2'!$A$14:$S$114,H$48,0),\"\")","v":{"v":203.93548807046213,"d":"203.94 "}},{"$f":"IFERROR(VLOOKUP($B78,'LED #2'!$A$14:$S$114,I$48,0),\"\")","v":{"v":1.1571796787841846,"d":"1.16 "}},{"$f":"IFERROR(VLOOKUP($B78,'LED #2'!$A$14:$S$114,J$48,0),\"\")","v":{"v":176.23493724391295,"d":"176.23 "}},{"$f":"IFERROR(VLOOKUP($B78,'LED #2'!$A$14:$S$114,K$48,0),\"\")","v":{"v":66,"d":"66.00 "}},null,{"$f":"IFERROR(VLOOKUP($B78,'LED #3'!$A$14:$S$114,M$48,0),\"\")","v":""},{"$f":"IFERROR(VLOOKUP($B78,'LED #3'!$A$14:$S$114,N$48,0),\"\")","v":""},{"$f":"IFERROR(VLOOKUP($B78,'LED #3'!$A$14:$S$114,O$48,0),\"\")","v":""},{"$f":"IFERROR(VLOOKUP($B78,'LED #3'!$A$14:$S$114,P$48,0),\"\")","v":""},null,{"$f":"IFERROR(VLOOKUP($B78,'LED #4'!$A$14:$S$114,R$48,0),\"\")","v":""},{"$f":"IFERROR(VLOOKUP($B78,'LED #4'!$A$14:$S$114,S$48,0),\"\")","v":""},{"$f":"IFERROR(VLOOKUP($B78,'LED #4'!$A$14:$S$114,T$48,0),\"\")","v":""},{"$f":"IFERROR(VLOOKUP($B78,'LED #4'!$A$14:$S$114,U$48,0),\"\")","v":""}]
[null,{"v":0.44,"d":"0.440"},{"$f":"IFERROR(VLOOKUP($B79,'LED #1'!$A$14:$S$114,C$48,0),\"\")","v":{"v":429.41815507400247,"d":"429.42 "}},{"$f":"IFERROR(VLOOKUP($B79,'LED #1'!$A$14:$S$114,D$48,0),\"\")","v":{"v":171.22908785518246,"d":"171.23 "}},{"$f":"IFERROR(VLOOKUP($B79,'LED #1'!$A$14:$S$114,E$48,0),\"\")","v":{"v":5.699676174566368,"d":"5.70 "}},{"$f":"IFERROR(VLOOKUP($B79,'LED #1'!$A$14:$S$114,F$48,0),\"\")","v":{"v":32,"d":"32.00 "}},null,{"$f":"IFERROR(VLOOKUP($B79,'LED #2'!$A$14:$S$114,H$48,0),\"\")","v":{"v":210.52281981653775,"d":"210.52 "}},{"$f":"IFERROR(VLOOKUP($B79,'LED #2'!$A$14:$S$114,I$48,0),\"\")","v":{"v":1.201400305426799,"d":"1.20 "}},{"$f":"IFERROR(VLOOKUP($B79,'LED #2'!$A$14:$S$114,J$48,0),\"\")","v":{"v":175.23120217765322,"d":"175.23 "}},{"$f":"IFERROR(VLOOKUP($B79,'LED #2'!$A$14:$S$114,K$48,0),\"\")","v":{"v":64,"d":"64.00 "}},null,{"$f":"IFERROR(VLOOKUP($B79,'LED #3'!$A$14:$S$114,M$48,0),\"\")","v":""},{"$f":"IFERROR(VLOOKUP($B79,'LED #3'!$A$14:$S$114,N$48,0),\"\")","v":""},{"$f":"IFERROR(VLOOKUP($B79,'LED #3'!$A$14:$S$114,O$48,0),\"\")","v":""},{"$f":"IFERROR(VLOOKUP($B79,'LED #3'!$A$14:$S$114,P$48,0),\"\")","v":""},null,{"$f":"IFERROR(VLOOKUP($B79,'LED #4'!$A$14:$S$114,R$48,0),\"\")","v":""},{"$f":"IFERROR(VLOOKUP($B79,'LED #4'!$A$14:$S$114,S$48,0),\"\")","v":""},{"$f":"IFERROR(VLOOKUP($B79,'LED #4'!$A$14:$S$114,T$48,0),\"\")","v":""},{"$f":"IFERROR(VLOOKUP($B79,'LED #4'!$A$14:$S$114,U$48,0),\"\")","v":""}]
[null,0.455,{"$f":"IFERROR(VLOOKUP($B80,'LED #1'!$A$14:$S$114,C$48,0),\"\")","v":{"v":442.98676385452575,"d":"442.99 "}},{"$f":"IFERROR(VLOOKUP($B80,'LED #1'!$A$14:$S$114,D$48,0),\"\")","v":{"v":170.2049678327355,"d":"170.20 "}},{"$f":"IFERROR(VLOOKUP($B80,'LED #1'!$A$14:$S$114,E$48,0),\"\")","v":{"v":5.720146101455378,"d":"5.72 "}},{"$f":"IFERROR(VLOOKUP($B80,'LED #1'!$A$14:$S$114,F$48,0),\"\")","v":{"v":31,"d":"31.00 "}},null,{"$f":"IFERROR(VLOOKUP($B80,'LED #2'!$A$14:$S$114,H$48,0),\"\")","v":{"v":217.08028366472914,"d":"217.08 "}},{"$f":"IFERROR(VLOOKUP($B80,'LED #2'!$A$14:$S$114,I$48,0),\"\")","v":{"v":1.2458377423631812,"d":"1.25 "}},{"$f":"IFERROR(VLOOKUP($B80,'LED #2'!$A$14:$S$114,J$48,0),\"\")","v":{"v":174.2444270896449,"d":"174.24 "}},{"$f":"IFERROR(VLOOKUP($B80,'LED #2'!$A$14:$S$114,K$48,0),\"\")","v":{"v":62,"d":"62.00 "}},null,{"$f":"IFERROR(VLOOKUP($B80,'LED #3'!$A$14:$S$114,M$48,0),\"\")","v":""},{"$f":"IFERROR(VLOOKUP($B80,'LED #3'!$A$14:$S$114,N$48,0),\"\")","v":""},{"$f":"IFERROR(VLOOKUP($B80,'LED #3'!$A$14:$S$114,O$48,0),\"\")","v":""},{"$f":"IFERROR(VLOOKUP($B80,'LED #3'!$A$14:$S$114,P$48,0),\"\")","v":""},null,{"$f":"IFERROR(VLOOKUP($B80,'LED #4'!$A$14:$S$114,R$48,0),\"\")","v":""},{"$f":"IFERROR(VLOOKUP($B80,'LED #4'!$A$14:$S$114,S$48,0),\"\")","v":""},{"$f":"IFERROR(VLOOKUP($B80,'LED #4'!$A$14:$S$114,T$48,0),\"\")","v":""},{"$f":"IFERROR(VLOOKUP($B80,'LED #4'!$A$14:$S$114,U$48,0),\"\")","v":""}]
[null,{"v":0.47,"d":"0.470"},{"$f":"IFERROR(VLOOKUP($B81,'LED #1'!$A$14:$S$114,C$48,0),\"\")","v":{"v":456.4904925252187,"d":"456.49 "}},{"$f":"IFERROR(VLOOKUP($B81,'LED #1'!$A$14:$S$114,D$48,0),\"\")","v":{"v":169.19451762310197,"d":"169.19 "}},{"$f":"IFERROR(VLOOKUP($B81,'LED #1'!$A$14:$S$114,E$48,0),\"\")","v":{"v":5.7404718587779895,"d":"5.74 "}},{"$f":"IFERROR(VLOOKUP($B81,'LED #1'!$A$14:$S$114,F$48,0),\"\")","v":{"v":30,"d":"30.00 "}},null,{"$f":"IFERROR(VLOOKUP($B81,'LED #2'!$A$14:$S$114,H$48,0),\"\")","v":{"v":223.6080150403277,"d":"223.61 "}},{"$f":"IFERROR(VLOOKUP($B81,'LED #2'!$A$14:$S$114,I$48,0),\"\")","v":{"v":1.2904907014478477,"d":"1.29 "}},{"$f":"IFERROR(VLOOKUP($B81,'LED #2'!$A$14:$S$114,J$48,0),\"\")","v":{"v":173.27363520671156,"d":"173.27 "}},{"$f":"IFERROR(VLOOKUP($B81,'LED #2'!$A$14:$S$114,K$48,0),\"\")","v":{"v":60,"d":"60.00 "}},null,{"$f":"IFERROR(VLOOKUP($B81,'LED #3'!$A$14:$S$114,M$48,0),\"\")","v":""},{"$f":"IFERROR(VLOOKUP($B81,'LED #3'!$A$14:$S$114,N$48,0),\"\")","v":""},{"$f":"IFERROR(VLOOKUP($B81,'LED #3'!$A$14:$S$114,O$48,0),\"\")","v":""},{"$f":"IFERROR(VLOOKUP($B81,'LED #3'!$A$14:$S$114,P$48,0),\"\")","v":""},null,{"$f":"IFERROR(VLOOKUP($B81,'LED #4'!$A$14:$S$114,R$48,0),\"\")","v":""},{"$f":"IFERROR(VLOOKUP($B81,'LED #4'!$A$14:$S$114,S$48,0),\"\")","v":""},{"$f":"IFERROR(VLOOKUP($B81,'LED #4'!$A$14:$S$114,T$48,0),\"\")","v":""},{"$f":"IFERROR(VLOOKUP($B81,'LED #4'!$A$14:$S$114,U$48,0),\"\")","v":""}]
[null,0.485,{"$f":"IFERROR(VLOOKUP($B82,'LED #1'!$A$14:$S$114,C$48,0),\"\")","v":{"v":469.92965131896676,"d":"469.93 "}},{"$f":"IFERROR(VLOOKUP($B82,'LED #1'!$A$14:$S$114,D$48,0),\"\")","v":{"v":168.19740231368044,"d":"168.20 "}},{"$f":"IFERROR(VLOOKUP($B82,'LED #1'!$A$14:$S$114,E$48,0),\"\")","v":{"v":5.76065446191955,"d":"5.76 "}},{"$f":"IFERROR(VLOOKUP($B82,'LED #1'!$A$14:$S$114,F$48,0),\"\")","v":{"v":29,"d":"29.00 "}},null,{"$f":"IFERROR(VLOOKUP($B82,'LED #2'!$A$14:$S$114,H$48,0),\"\")","v":{"v":230.106148754588,"d":"230.11 "}},{"$f":"IFERROR(VLOOKUP($B82,'LED #2'!$A$14:$S$114,I$48,0),\"\")","v":{"v":1.3353579012719805,"d":"1.34 "}},{"$f":"IFERROR(VLOOKUP($B82,'LED #2'!$A$14:$S$114,J$48,0),\"\")","v":{"v":172.31795950389247,"d":"172.32 "}},{"$f":"IFERROR(VLOOKUP($B82,'LED #2'!$A$14:$S$114,K$48,0),\"\")","v":{"v":58,"d":"58.00 "}},null,{"$f":"IFERROR(VLOOKUP($B82,'LED #3'!$A$14:$S$114,M$48,0),\"\")","v":""},{"$f":"IFERROR(VLOOKUP($B82,'LED #3'!$A$14:$S$114,N$48,0),\"\")","v":""},{"$f":"IFERROR(VLOOKUP($B82,'LED #3'!$A$14:$S$114,O$48,0),\"\")","v":""},{"$f":"IFERROR(VLOOKUP($B82,'LED #3'!$A$14:$S$114,P$48,0),\"\")","v":""},null,{"$f":"IFERROR(VLOOKUP($B82,'LED #4'!$A$14:$S$114,R$48,0),\"\")","v":""},{"$f":"IFERROR(VLOOKUP($B82,'LED #4'!$A$14:$S$114,S$48,0),\"\")","v":""},{"$f":"IFERROR(VLOOKUP($B82,'LED #4'!$A$14:$S$114,T$48,0),\"\")","v":""},{"$f":"IFERROR(VLOOKUP($B82,'LED #4'!$A$14:$S$114,U$48,0),\"\")","v":""}]
[null,{"v":0.5,"d":"0.500"},{"$f":"IFERROR(VLOOKUP($B83,'LED #1'!$A$14:$S$114,C$48,0),\"\")","v":{"v":483.304548985235,"d":"483.30 "}},{"$f":"IFERROR(VLOOKUP($B83,'LED #1'!$A$14:$S$114,D$48,0),\"\")","v":{"v":167.21330419537358,"d":"167.21 "}},{"$f":"IFERROR(VLOOKUP($B83,'LED #1'!$A$14:$S$114,E$48,0),\"\")","v":{"v":5.780694919114061,"d":"5.78 "}},{"$f":"IFERROR(VLOOKUP($B83,'LED #1'!$A$14:$S$114,F$48,0),\"\")","v":{"v":28,"d":"28.00 "}},null,{"$f":"IFERROR(VLOOKUP($B83,'LED #2'!$A$14:$S$114,H$48,0),\"\")","v":{"v":236.57481900751102,"d":"236.57 "}},{"$f":"IFERROR(VLOOKUP($B83,'LED #2'!$A$14:$S$114,I$48,0),\"\")","v":{"v":1.3804380671305203,"d":"1.38 "}},{"$f":"IFERROR(VLOOKUP($B83,'LED #2'!$A$14:$S$114,J$48,0),\"\")","v":{"v":171.37662647863135,"d":"171.38 "}},{"$f":"IFERROR(VLOOKUP($B83,'LED #2'!$A$14:$S$114,K$48,0),\"\")","v":{"v":57,"d":"57.00 "}},null,{"$f":"IFERROR(VLOOKUP($B83,'LED #3'!$A$14:$S$114,M$48,0),\"\")","v":""},{"$f":"IFERROR(VLOOKUP($B83,'LED #3'!$A$14:$S$114,N$48,0),\"\")","v":""},{"$f":"IFERROR(VLOOKUP($B83,'LED #3'!$A$14:$S$114,O$48,0),\"\")","v":""},{"$f":"IFERROR(VLOOKUP($B83,'LED #3'!$A$14:$S$114,P$48,0),\"\")","v":""},null,{"$f":"IFERROR(VLOOKUP($B83,'LED #4'!$A$14:$S$114,R$48,0),\"\")","v":""},{"$f":"IFERROR(VLOOKUP($B83,'LED #4'!$A$14:$S$114,S$48,0),\"\")","v":""},{"$f":"IFERROR(VLOOKUP($B83,'LED #4'!$A$14:$S$114,T$48,0),\"\")","v":""},{"$f":"IFERROR(VLOOKUP($B83,'LED #4'!$A$14:$S$114,U$48,0),\"\")","v":""}]
[null,0.515,{"$f":"IFERROR(VLOOKUP($B84,'LED #1'!$A$14:$S$114,C$48,0),\"\")","v":{"v":496.6154927971619,"d":"496.62 "}},{"$f":"IFERROR(VLOOKUP($B84,'LED #1'!$A$14:$S$114,D$48,0),\"\")","v":{"v":166.2419209614367,"d":"166.24 "}},{"$f":"IFERROR(VLOOKUP($B84,'LED #1'!$A$14:$S$114,E$48,0),\"\")","v":{"v":5.8005942314945305,"d":"5.80 "}},{"$f":"IFERROR(VLOOKUP($B84,'LED #1'!$A$14:$S$114,F$48,0),\"\")","v":{"v":27,"d":"27.00 "}},null,{"$f":"IFERROR(VLOOKUP($B84,'LED #2'!$A$14:$S$114,H$48,0),\"\")","v":{"v":243.01415939061582,"d":"243.01 "}},{"$f":"IFERROR(VLOOKUP($B84,'LED #2'!$A$14:$S$114,I$48,0),\"\")","v":{"v":1.4257299309894227,"d":"1.43 "}},{"$f":"IFERROR(VLOOKUP($B84,'LED #2'!$A$14:$S$114,J$48,0),\"\")","v":{"v":170.44894275451577,"d":"170.45 "}},{"$f":"IFERROR(VLOOKUP($B84,'LED #2'!$A$14:$S$114,K$48,0),\"\")","v":{"v":55,"d":"55.00 "}},null,{"$f":"IFERROR(VLOOKUP($B84,'LED #3'!$A$14:$S$114,M$48,0),\"\")","v":""},{"$f":"IFERROR(VLOOKUP($B84,'LED #3'!$A$14:$S$114,N$48,0),\"\")","v":""},{"$f":"IFERROR(VLOOKUP($B84,'LED #3'!$A$14:$S$114,O$48,0),\"\")","v":""},{"$f":"IFERROR(VLOOKUP($B84,'LED #3'!$A$14:$S$114,P$48,0),\"\")","v":""},null,{"$f":"IFERROR(VLOOKUP($B84,'LED #4'!$A$14:$S$114,R$48,0),\"\")","v":""},{"$f":"IFERROR(VLOOKUP($B84,'LED #4'!$A$14:$S$114,S$48,0),\"\")","v":""},{"$f":"IFERROR(VLOOKUP($B84,'LED #4'!$A$14:$S$114,T$48,0),\"\")","v":""},{"$f":"IFERROR(VLOOKUP($B84,'LED #4'!$A$14:$S$114,U$48,0),\"\")","v":""}]
[null,{"v":0.53,"d":"0.530"},{"$f":"IFERROR(VLOOKUP($B85,'LED #1'!$A$14:$S$114,C$48,0),\"\")","v":{"v":509.86278855861957,"d":"509.86 "}},{"$f":"IFERROR(VLOOKUP($B85,'LED #1'!$A$14:$S$114,D$48,0),\"\")","v":{"v":165.28296418645363,"d":"165.28 "}},{"$f":"IFERROR(VLOOKUP($B85,'LED #1'!$A$14:$S$114,E$48,0),\"\")","v":{"v":5.820353393142996,"d":"5.82 "}},{"$f":"IFERROR(VLOOKUP($B85,'LED #1'!$A$14:$S$114,F$48,0),\"\")","v":{"v":27,"d":"27.00 "}},null,{"$f":"IFERROR(VLOOKUP($B85,'LED #2'!$A$14:$S$114,H$48,0),\"\")","v":{"v":249.42430288969837,"d":"249.42 "}},{"$f":"IFERROR(VLOOKUP($B85,'LED #2'!$A$14:$S$114,I$48,0),\"\")","v":{"v":1.471232231453061,"d":"1.47 "}},{"$f":"IFERROR(VLOOKUP($B85,'LED #2'!$A$14:$S$114,J$48,0),\"\")","v":{"v":169.5342839541754,"d":"169.53 "}},{"$f":"IFERROR(VLOOKUP($B85,'LED #2'!$A$14:$S$114,K$48,0),\"\")","v":{"v":54,"d":"54.00 "}},null,{"$f":"IFERROR(VLOOKUP($B85,'LED #3'!$A$14:$S$114,M$48,0),\"\")","v":""},{"$f":"IFERROR(VLOOKUP($B85,'LED #3'!$A$14:$S$114,N$48,0),\"\")","v":""},{"$f":"IFERROR(VLOOKUP($B85,'LED #3'!$A$14:$S$114,O$48,0),\"\")","v":""},{"$f":"IFERROR(VLOOKUP($B85,'LED #3'!$A$14:$S$114,P$48,0),\"\")","v":""},null,{"$f":"IFERROR(VLOOKUP($B85,'LED #4'!$A$14:$S$114,R$48,0),\"\")","v":""},{"$f":"IFERROR(VLOOKUP($B85,'LED #4'!$A$14:$S$114,S$48,0),\"\")","v":""},{"$f":"IFERROR(VLOOKUP($B85,'LED #4'!$A$14:$S$114,T$48,0),\"\")","v":""},{"$f":"IFERROR(VLOOKUP($B85,'LED #4'!$A$14:$S$114,U$48,0),\"\")","v":""}]
[null,{"$f":"ROUND(B85+$J$4,3)","v":0.545},{"$f":"IFERROR(VLOOKUP($B86,'LED #1'!$A$14:$S$114,C$48,0),\"\")","v":{"v":523.0467406112368,"d":"523.05 "}},{"$f":"IFERROR(VLOOKUP($B86,'LED #1'!$A$14:$S$114,D$48,0),\"\")","v":{"v":164.33615803256038,"d":"164.34 "}},{"$f":"IFERROR(VLOOKUP($B86,'LED #1'!$A$14:$S$114,E$48,0),\"\")","v":{"v":5.839973391140186,"d":"5.84 "}},{"$f":"IFERROR(VLOOKUP($B86,'LED #1'!$A$14:$S$114,F$48,0),\"\")","v":{"v":26,"d":"26.00 "}},null,{"$f":"IFERROR(VLOOKUP($B86,'LED #2'!$A$14:$S$114,H$48,0),\"\")","v":{"v":255.80538188757825,"d":"255.81 "}},{"$f":"IFERROR(VLOOKUP($B86,'LED #2'!$A$14:$S$114,I$48,0),\"\")","v":{"v":1.5169437137317843,"d":"1.52 "}},{"$f":"IFERROR(VLOOKUP($B86,'LED #2'!$A$14:$S$114,J$48,0),\"\")","v":{"v":168.632085404329,"d":"168.63 "}},{"$f":"IFERROR(VLOOKUP($B86,'LED #2'!$A$14:$S$114,K$48,0),\"\")","v":{"v":53,"d":"53.00 "}},null,{"$f":"IFERROR(VLOOKUP($B86,'LED #3'!$A$14:$S$114,M$48,0),\"\")","v":""},{"$f":"IFERROR(VLOOKUP($B86,'LED #3'!$A$14:$S$114,N$48,0),\"\")","v":""},{"$f":"IFERROR(VLOOKUP($B86,'LED #3'!$A$14:$S$114,O$48,0),\"\")","v":""},{"$f":"IFERROR(VLOOKUP($B86,'LED #3'!$A$14:$S$114,P$48,0),\"\")","v":""},null,{"$f":"IFERROR(VLOOKUP($B86,'LED #4'!$A$14:$S$114,R$48,0),\"\")","v":""},{"$f":"IFERROR(VLOOKUP($B86,'LED #4'!$A$14:$S$114,S$48,0),\"\")","v":""},{"$f":"IFERROR(VLOOKUP($B86,'LED #4'!$A$14:$S$114,T$48,0),\"\")","v":""},{"$f":"IFERROR(VLOOKUP($B86,'LED #4'!$A$14:$S$114,U$48,0),\"\")","v":""}]
[null,{"v":0.56,"d":"0.560"},{"$f":"IFERROR(VLOOKUP($B87,'LED #1'!$A$14:$S$114,C$48,0),\"\")","v":{"v":536.1676518413935,"d":"536.17 "}},{"$f":"IFERROR(VLOOKUP($B87,'LED #1'!$A$14:$S$114,D$48,0),\"\")","v":{"v":163.40123814131928,"d":"163.40 "}},{"$f":"IFERROR(VLOOKUP($B87,'LED #1'!$A$14:$S$114,E$48,0),\"\")","v":{"v":5.859455205614817,"d":"5.86 "}},{"$f":"IFERROR(VLOOKUP($B87,'LED #1'!$A$14:$S$114,F$48,0),\"\")","v":{"v":25,"d":"25.00 "}},null,{"$f":"IFERROR(VLOOKUP($B87,'LED #2'!$A$14:$S$114,H$48,0),\"\")","v":{"v":262.15752816683323,"d":"262.16 "}},{"$f":"IFERROR(VLOOKUP($B87,'LED #2'!$A$14:$S$114,I$48,0),\"\")","v":{"v":1.5628631296096265,"d":"1.56 "}},{"$f":"IFERROR(VLOOKUP($B87,'LED #2'!$A$14:$S$114,J$48,0),\"\")","v":{"v":167.74183432960965,"d":"167.74 "}},{"$f":"IFERROR(VLOOKUP($B87,'LED #2'!$A$14:$S$114,K$48,0),\"\")","v":{"v":51,"d":"51.00 "}},null,{"$f":"IFERROR(VLOOKUP($B87,'LED #3'!$A$14:$S$114,M$48,0),\"\")","v":""},{"$f":"IFERROR(VLOOKUP($B87,'LED #3'!$A$14:$S$114,N$48,0),\"\")","v":""},{"$f":"IFERROR(VLOOKUP($B87,'LED #3'!$A$14:$S$114,O$48,0),\"\")","v":""},{"$f":"IFERROR(VLOOKUP($B87,'LED #3'!$A$14:$S$114,P$48,0),\"\")","v":""},null,{"$f":"IFERROR(VLOOKUP($B87,'LED #4'!$A$14:$S$114,R$48,0),\"\")","v":""},{"$f":"IFERROR(VLOOKUP($B87,'LED #4'!$A$14:$S$114,S$48,0),\"\")","v":""},{"$f":"IFERROR(VLOOKUP($B87,'LED #4'!$A$14:$S$114,T$48,0),\"\")","v":""},{"$f":"IFERROR(VLOOKUP($B87,'LED #4'!$A$14:$S$114,U$48,0),\"\")","v":""}]
[null,0.575,{"$f":"IFERROR(VLOOKUP($B88,'LED #1'!$A$14:$S$114,C$48,0),\"\")","v":{"v":549.2258236871771,"d":"549.23 "}},{"$f":"IFERROR(VLOOKUP($B88,'LED #1'!$A$14:$S$114,D$48,0),\"\")","v":{"v":162.47795067827275,"d":"162.48 "}},{"$f":"IFERROR(VLOOKUP($B88,'LED #1'!$A$14:$S$114,E$48,0),\"\")","v":{"v":5.878799809792572,"d":"5.88 "}},{"$f":"IFERROR(VLOOKUP($B88,'LED #1'!$A$14:$S$114,F$48,0),\"\")","v":{"v":25,"d":"25.00 "}},null,{"$f":"IFERROR(VLOOKUP($B88,'LED #2'!$A$14:$S$114,H$48,0),\"\")","v":{"v":268.4808729125187,"d":"268.48 "}},{"$f":"IFERROR(VLOOKUP($B88,'LED #2'!$A$14:$S$114,I$48,0),\"\")","v":{"v":1.6089892374121684,"d":"1.61 "}},{"$f":"IFERROR(VLOOKUP($B88,'LED #2'!$A$14:$S$114,J$48,0),\"\")","v":{"v":166.86306326345115,"d":"166.86 "}},{"$f":"IFERROR(VLOOKUP($B88,'LED #2'!$A$14:$S$114,K$48,0),\"\")","v":{"v":50,"d":"50.00 "}},null,{"$f":"IFERROR(VLOOKUP($B88,'LED #3'!$A$14:$S$114,M$48,0),\"\")","v":""},{"$f":"IFERROR(VLOOKUP($B88,'LED #3'!$A$14:$S$114,N$48,0),\"\")","v":""},{"$f":"IFERROR(VLOOKUP($B88,'LED #3'!$A$14:$S$114,O$48,0),\"\")","v":""},{"$f":"IFERROR(VLOOKUP($B88,'LED #3'!$A$14:$S$114,P$48,0),\"\")","v":""},null,{"$f":"IFERROR(VLOOKUP($B88,'LED #4'!$A$14:$S$114,R$48,0),\"\")","v":""},{"$f":"IFERROR(VLOOKUP($B88,'LED #4'!$A$14:$S$114,S$48,0),\"\")","v":""},{"$f":"IFERROR(VLOOKUP($B88,'LED #4'!$A$14:$S$114,T$48,0),\"\")","v":""},{"$f":"IFERROR(VLOOKUP($B88,'LED #4'!$A$14:$S$114,U$48,0),\"\")","v":""}]
[null,{"v":0.59,"d":"0.590"},{"$f":"IFERROR(VLOOKUP($B89,'LED #1'!$A$14:$S$114,C$48,0),\"\")","v":{"v":562.2215561453085,"d":"562.22 "}},{"$f":"IFERROR(VLOOKUP($B89,'LED #1'!$A$14:$S$114,D$48,0),\"\")","v":{"v":161.56605150387333,"d":"161.57 "}},{"$f":"IFERROR(VLOOKUP($B89,'LED #1'!$A$14:$S$114,E$48,0),\"\")","v":{"v":5.89800817004471,"d":"5.90 "}},{"$f":"IFERROR(VLOOKUP($B89,'LED #1'!$A$14:$S$114,F$48,0),\"\")","v":{"v":24,"d":"24.00 "}},null,{"$f":"IFERROR(VLOOKUP($B89,'LED #2'!$A$14:$S$114,H$48,0),\"\")","v":{"v":274.7755467148796,"d":"274.78 "}},{"$f":"IFERROR(VLOOKUP($B89,'LED #2'!$A$14:$S$114,I$48,0),\"\")","v":{"v":1.6553208019745485,"d":"1.66 "}},{"$f":"IFERROR(VLOOKUP($B89,'LED #2'!$A$14:$S$114,J$48,0),\"\")","v":{"v":165.99534445958378,"d":"166.00 "}},{"$f":"IFERROR(VLOOKUP($B89,'LED #2'!$A$14:$S$114,K$48,0),\"\")","v":{"v":49,"d":"49.00 "}},null,{"$f":"IFERROR(VLOOKUP($B89,'LED #3'!$A$14:$S$114,M$48,0),\"\")","v":""},{"$f":"IFERROR(VLOOKUP($B89,'LED #3'!$A$14:$S$114,N$48,0),\"\")","v":""},{"$f":"IFERROR(VLOOKUP($B89,'LED #3'!$A$14:$S$114,O$48,0),\"\")","v":""},{"$f":"IFERROR(VLOOKUP($B89,'LED #3'!$A$14:$S$114,P$48,0),\"\")","v":""},null,{"$f":"IFERROR(VLOOKUP($B89,'LED #4'!$A$14:$S$114,R$48,0),\"\")","v":""},{"$f":"IFERROR(VLOOKUP($B89,'LED #4'!$A$14:$S$114,S$48,0),\"\")","v":""},{"$f":"IFERROR(VLOOKUP($B89,'LED #4'!$A$14:$S$114,T$48,0),\"\")","v":""},{"$f":"IFERROR(VLOOKUP($B89,'LED #4'!$A$14:$S$114,U$48,0),\"\")","v":""}]
[null,0.605,{"$f":"IFERROR(VLOOKUP($B90,'LED #1'!$A$14:$S$114,C$48,0),\"\")","v":{"v":575.1551477780362,"d":"575.16 "}},{"$f":"IFERROR(VLOOKUP($B90,'LED #1'!$A$14:$S$114,D$48,0),\"\")","v":{"v":160.66530544966054,"d":"160.67 "}},{"$f":"IFERROR(VLOOKUP($B90,'LED #1'!$A$14:$S$114,E$48,0),\"\")","v":{"v":5.917081245936341,"d":"5.92 "}},{"$f":"IFERROR(VLOOKUP($B90,'LED #1'!$A$14:$S$114,F$48,0),\"\")","v":{"v":24,"d":"24.00 "}},null,{"$f":"IFERROR(VLOOKUP($B90,'LED #2'!$A$14:$S$114,H$48,0),\"\")","v":{"v":281.041679572046,"d":"281.04 "}},{"$f":"IFERROR(VLOOKUP($B90,'LED #2'!$A$14:$S$114,I$48,0),\"\")","v":{"v":1.701856594609623,"d":"1.70 "}},{"$f":"IFERROR(VLOOKUP($B90,'LED #2'!$A$14:$S$114,J$48,0),\"\")","v":{"v":165.13828513060596,"d":"165.14 "}},{"$f":"IFERROR(VLOOKUP($B90,'LED #2'!$A$14:$S$114,K$48,0),\"\")","v":{"v":48,"d":"48.00 "}},null,{"$f":"IFERROR(VLOOKUP($B90,'LED #3'!$A$14:$S$114,M$48,0),\"\")","v":""},{"$f":"IFERROR(VLOOKUP($B90,'LED #3'!$A$14:$S$114,N$48,0),\"\")","v":""},{"$f":"IFERROR(VLOOKUP($B90,'LED #3'!$A$14:$S$114,O$48,0),\"\")","v":""},{"$f":"IFERROR(VLOOKUP($B90,'LED #3'!$A$14:$S$114,P$48,0),\"\")","v":""},null,{"$f":"IFERROR(VLOOKUP($B90,'LED #4'!$A$14:$S$114,R$48,0),\"\")","v":""},{"$f":"IFERROR(VLOOKUP($B90,'LED #4'!$A$14:$S$114,S$48,0),\"\")","v":""},{"$f":"IFERROR(VLOOKUP($B90,'LED #4'!$A$14:$S$114,T$48,0),\"\")","v":""},{"$f":"IFERROR(VLOOKUP($B90,'LED #4'!$A$14:$S$114,U$48,0),\"\")","v":""}]
[null,{"v":0.62,"d":"0.620"},{"$f":"IFERROR(VLOOKUP($B91,'LED #1'!$A$14:$S$114,C$48,0),\"\")","v":{"v":588.0268957199913,"d":"588.03 "}},{"$f":"IFERROR(VLOOKUP($B91,'LED #1'!$A$14:$S$114,D$48,0),\"\")","v":{"v":159.77548568260315,"d":"159.78 "}},{"$f":"IFERROR(VLOOKUP($B91,'LED #1'!$A$14:$S$114,E$48,0),\"\")","v":{"v":5.9360199902743656,"d":"5.94 "}},{"$f":"IFERROR(VLOOKUP($B91,'LED #1'!$A$14:$S$114,F$48,0),\"\")","v":{"v":23,"d":"23.00 "}},null,{"$f":"IFERROR(VLOOKUP($B91,'LED #2'!$A$14:$S$114,H$48,0),\"\")","v":{"v":287.27940089271704,"d":"287.28 "}},{"$f":"IFERROR(VLOOKUP($B91,'LED #2'!$A$14:$S$114,I$48,0),\"\")","v":{"v":1.7485953930762772,"d":"1.75 "}},{"$f":"IFERROR(VLOOKUP($B91,'LED #2'!$A$14:$S$114,J$48,0),\"\")","v":{"v":164.29152337368953,"d":"164.29 "}},{"$f":"IFERROR(VLOOKUP($B91,'LED #2'!$A$14:$S$114,K$48,0),\"\")","v":{"v":47,"d":"47.00 "}},null,{"$f":"IFERROR(VLOOKUP($B91,'LED #3'!$A$14:$S$114,M$48,0),\"\")","v":""},{"$f":"IFERROR(VLOOKUP($B91,'LED #3'!$A$14:$S$114,N$48,0),\"\")","v":""},{"$f":"IFERROR(VLOOKUP($B91,'LED #3'!$A$14:$S$114,O$48,0),\"\")","v":""},{"$f":"IFERROR(VLOOKUP($B91,'LED #3'!$A$14:$S$114,P$48,0),\"\")","v":""},null,{"$f":"IFERROR(VLOOKUP($B91,'LED #4'!$A$14:$S$114,R$48,0),\"\")","v":""},{"$f":"IFERROR(VLOOKUP($B91,'LED #4'!$A$14:$S$114,S$48,0),\"\")","v":""},{"$f":"IFERROR(VLOOKUP($B91,'LED #4'!$A$14:$S$114,T$48,0),\"\")","v":""},{"$f":"IFERROR(VLOOKUP($B91,'LED #4'!$A$14:$S$114,U$48,0),\"\")","v":""}]
[null,0.635,{"$f":"IFERROR(VLOOKUP($B92,'LED #1'!$A$14:$S$114,C$48,0),\"\")","v":{"v":600.8370956850174,"d":"600.84 "}},{"$f":"IFERROR(VLOOKUP($B92,'LED #1'!$A$14:$S$114,D$48,0),\"\")","v":{"v":158.89637314372663,"d":"158.90 "}},{"$f":"IFERROR(VLOOKUP($B92,'LED #1'!$A$14:$S$114,E$48,0),\"\")","v":{"v":5.954825349155073,"d":"5.95 "}},{"$f":"IFERROR(VLOOKUP($B92,'LED #1'!$A$14:$S$114,F$48,0),\"\")","v":{"v":23,"d":"23.00 "}},null,{"$f":"IFERROR(VLOOKUP($B92,'LED #2'!$A$14:$S$114,H$48,0),\"\")","v":{"v":293.4888394988356,"d":"293.49 "}},{"$f":"IFERROR(VLOOKUP($B92,'LED #2'!$A$14:$S$114,I$48,0),\"\")","v":{"v":1.7955359815478837,"d":"1.80 "}},{"$f":"IFERROR(VLOOKUP($B92,'LED #2'!$A$14:$S$114,J$48,0),\"\")","v":{"v":163.45472466991538,"d":"163.45 "}},{"$f":"IFERROR(VLOOKUP($B92,'LED #2'!$A$14:$S$114,K$48,0),\"\")","v":{"v":46,"d":"46.00 "}},null,{"$f":"IFERROR(VLOOKUP($B92,'LED #3'!$A$14:$S$114,M$48,0),\"\")","v":""},{"$f":"IFERROR(VLOOKUP($B92,'LED #3'!$A$14:$S$114,N$48,0),\"\")","v":""},{"$f":"IFERROR(VLOOKUP($B92,'LED #3'!$A$14:$S$114,O$48,0),\"\")","v":""},{"$f":"IFERROR(VLOOKUP($B92,'LED #3'!$A$14:$S$114,P$48,0),\"\")","v":""},null,{"$f":"IFERROR(VLOOKUP($B92,'LED #4'!$A$14:$S$114,R$48,0),\"\")","v":""},{"$f":"IFERROR(VLOOKUP($B92,'LED #4'!$A$14:$S$114,S$48,0),\"\")","v":""},{"$f":"IFERROR(VLOOKUP($B92,'LED #4'!$A$14:$S$114,T$48,0),\"\")","v":""},{"$f":"IFERROR(VLOOKUP($B92,'LED #4'!$A$14:$S$114,U$48,0),\"\")","v":""}]
[null,{"v":0.65,"d":"0.650"},{"$f":"IFERROR(VLOOKUP($B93,'LED #1'!$A$14:$S$114,C$48,0),\"\")","v":{"v":613.586041972962,"d":"613.59 "}},{"$f":"IFERROR(VLOOKUP($B93,'LED #1'!$A$14:$S$114,D$48,0),\"\")","v":{"v":158.0277560496673,"d":"158.03 "}},{"$f":"IFERROR(VLOOKUP($B93,'LED #1'!$A$14:$S$114,E$48,0),\"\")","v":{"v":5.9734982620114,"d":"5.97 "}},{"$f":"IFERROR(VLOOKUP($B93,'LED #1'!$A$14:$S$114,F$48,0),\"\")","v":{"v":22,"d":"22.00 "}},null,{"$f":"IFERROR(VLOOKUP($B93,'LED #2'!$A$14:$S$114,H$48,0),\"\")","v":{"v":299.67012362824727,"d":"299.67 "}},{"$f":"IFERROR(VLOOKUP($B93,'LED #2'!$A$14:$S$114,I$48,0),\"\")","v":{"v":1.8426771505809092,"d":"1.84 "}},{"$f":"IFERROR(VLOOKUP($B93,'LED #2'!$A$14:$S$114,J$48,0),\"\")","v":{"v":162.6275788646836,"d":"162.63 "}},{"$f":"IFERROR(VLOOKUP($B93,'LED #2'!$A$14:$S$114,K$48,0),\"\")","v":{"v":45,"d":"45.00 "}},null,{"$f":"IFERROR(VLOOKUP($B93,'LED #3'!$A$14:$S$114,M$48,0),\"\")","v":""},{"$f":"IFERROR(VLOOKUP($B93,'LED #3'!$A$14:$S$114,N$48,0),\"\")","v":""},{"$f":"IFERROR(VLOOKUP($B93,'LED #3'!$A$14:$S$114,O$48,0),\"\")","v":""},{"$f":"IFERROR(VLOOKUP($B93,'LED #3'!$A$14:$S$114,P$48,0),\"\")","v":""},null,{"$f":"IFERROR(VLOOKUP($B93,'LED #4'!$A$14:$S$114,R$48,0),\"\")","v":""},{"$f":"IFERROR(VLOOKUP($B93,'LED #4'!$A$14:$S$114,S$48,0),\"\")","v":""},{"$f":"IFERROR(VLOOKUP($B93,'LED #4'!$A$14:$S$114,T$48,0),\"\")","v":""},{"$f":"IFERROR(VLOOKUP($B93,'LED #4'!$A$14:$S$114,U$48,0),\"\")","v":""}]
[null,0.665,{"$f":"IFERROR(VLOOKUP($B94,'LED #1'!$A$14:$S$114,C$48,0),\"\")","v":{"v":626.2740274764399,"d":"626.27 "}},{"$f":"IFERROR(VLOOKUP($B94,'LED #1'!$A$14:$S$114,D$48,0),\"\")","v":{"v":157.16942944782002,"d":"157.17 "}},{"$f":"IFERROR(VLOOKUP($B94,'LED #1'!$A$14:$S$114,E$48,0),\"\")","v":{"v":5.992039661659863,"d":"5.99 "}},{"$f":"IFERROR(VLOOKUP($B94,'LED #1'!$A$14:$S$114,F$48,0),\"\")","v":{"v":22,"d":"22.00 "}},null,{"$f":"IFERROR(VLOOKUP($B94,'LED #2'!$A$14:$S$114,H$48,0),\"\")","v":{"v":305.82338093734836,"d":"305.82 "}},{"$f":"IFERROR(VLOOKUP($B94,'LED #2'!$A$14:$S$114,I$48,0),\"\")","v":{"v":1.8900176970836675,"d":"1.89 "}},{"$f":"IFERROR(VLOOKUP($B94,'LED #2'!$A$14:$S$114,J$48,0),\"\")","v":{"v":161.80979755334542,"d":"161.81 "}},{"$f":"IFERROR(VLOOKUP($B94,'LED #2'!$A$14:$S$114,K$48,0),\"\")","v":{"v":44,"d":"44.00 "}},null,{"$f":"IFERROR(VLOOKUP($B94,'LED #3'!$A$14:$S$114,M$48,0),\"\")","v":""},{"$f":"IFERROR(VLOOKUP($B94,'LED #3'!$A$14:$S$114,N$48,0),\"\")","v":""},{"$f":"IFERROR(VLOOKUP($B94,'LED #3'!$A$14:$S$114,O$48,0),\"\")","v":""},{"$f":"IFERROR(VLOOKUP($B94,'LED #3'!$A$14:$S$114,P$48,0),\"\")","v":""},null,{"$f":"IFERROR(VLOOKUP($B94,'LED #4'!$A$14:$S$114,R$48,0),\"\")","v":""},{"$f":"IFERROR(VLOOKUP($B94,'LED #4'!$A$14:$S$114,S$48,0),\"\")","v":""},{"$f":"IFERROR(VLOOKUP($B94,'LED #4'!$A$14:$S$114,T$48,0),\"\")","v":""},{"$f":"IFERROR(VLOOKUP($B94,'LED #4'!$A$14:$S$114,U$48,0),\"\")","v":""}]
[null,{"v":0.68,"d":"0.680"},{"$f":"IFERROR(VLOOKUP($B95,'LED #1'!$A$14:$S$114,C$48,0),\"\")","v":{"v":638.9013436875603,"d":"638.90 "}},{"$f":"IFERROR(VLOOKUP($B95,'LED #1'!$A$14:$S$114,D$48,0),\"\")","v":{"v":156.32119481736228,"d":"156.32 "}},{"$f":"IFERROR(VLOOKUP($B95,'LED #1'!$A$14:$S$114,E$48,0),\"\")","v":{"v":6.010450474347159,"d":"6.01 "}},{"$f":"IFERROR(VLOOKUP($B95,'LED #1'!$A$14:$S$114,F$48,0),\"\")","v":{"v":21,"d":"21.00 "}},null,{"$f":"IFERROR(VLOOKUP($B95,'LED #2'!$A$14:$S$114,H$48,0),\"\")","v":{"v":311.94873850372386,"d":"311.95 "}},{"$f":"IFERROR(VLOOKUP($B95,'LED #2'!$A$14:$S$114,I$48,0),\"\")","v":{"v":1.9375564242852201,"d":"1.94 "}},{"$f":"IFERROR(VLOOKUP($B95,'LED #2'!$A$14:$S$114,J$48,0),\"\")","v":{"v":161.0011118095847,"d":"161.00 "}},{"$f":"IFERROR(VLOOKUP($B95,'LED #2'!$A$14:$S$114,K$48,0),\"\")","v":{"v":43,"d":"43.00 "}},null,{"$f":"IFERROR(VLOOKUP($B95,'LED #3'!$A$14:$S$114,M$48,0),\"\")","v":""},{"$f":"IFERROR(VLOOKUP($B95,'LED #3'!$A$14:$S$114,N$48,0),\"\")","v":""},{"$f":"IFERROR(VLOOKUP($B95,'LED #3'!$A$14:$S$114,O$48,0),\"\")","v":""},{"$f":"IFERROR(VLOOKUP($B95,'LED #3'!$A$14:$S$114,P$48,0),\"\")","v":""},null,{"$f":"IFERROR(VLOOKUP($B95,'LED #4'!$A$14:$S$114,R$48,0),\"\")","v":""},{"$f":"IFERROR(VLOOKUP($B95,'LED #4'!$A$14:$S$114,S$48,0),\"\")","v":""},{"$f":"IFERROR(VLOOKUP($B95,'LED #4'!$A$14:$S$114,T$48,0),\"\")","v":""},{"$f":"IFERROR(VLOOKUP($B95,'LED #4'!$A$14:$S$114,U$48,0),\"\")","v":""}]
[null,0.695,{"$f":"IFERROR(VLOOKUP($B96,'LED #1'!$A$14:$S$114,C$48,0),\"\")","v":{"v":651.4682807046237,"d":"651.47 "}},{"$f":"IFERROR(VLOOKUP($B96,'LED #1'!$A$14:$S$114,D$48,0),\"\")","v":{"v":155.48285970974675,"d":"155.48 "}},{"$f":"IFERROR(VLOOKUP($B96,'LED #1'!$A$14:$S$114,E$48,0),\"\")","v":{"v":6.028731619796434,"d":"6.03 "}},{"$f":"IFERROR(VLOOKUP($B96,'LED #1'!$A$14:$S$114,F$48,0),\"\")","v":{"v":21,"d":"21.00 "}},null,{"$f":"IFERROR(VLOOKUP($B96,'LED #2'!$A$14:$S$114,H$48,0),\"\")","v":{"v":318.04632282877026,"d":"318.05 "}},{"$f":"IFERROR(VLOOKUP($B96,'LED #2'!$A$14:$S$114,I$48,0),\"\")","v":{"v":1.9852921417044225,"d":"1.99 "}},{"$f":"IFERROR(VLOOKUP($B96,'LED #2'!$A$14:$S$114,J$48,0),\"\")","v":{"v":160.20127020485742,"d":"160.20 "}},{"$f":"IFERROR(VLOOKUP($B96,'LED #2'!$A$14:$S$114,K$48,0),\"\")","v":{"v":42,"d":"42.00 "}},null,{"$f":"IFERROR(VLOOKUP($B96,'LED #3'!$A$14:$S$114,M$48,0),\"\")","v":""},{"$f":"IFERROR(VLOOKUP($B96,'LED #3'!$A$14:$S$114,N$48,0),\"\")","v":""},{"$f":"IFERROR(VLOOKUP($B96,'LED #3'!$A$14:$S$114,O$48,0),\"\")","v":""},{"$f":"IFERROR(VLOOKUP($B96,'LED #3'!$A$14:$S$114,P$48,0),\"\")","v":""},null,{"$f":"IFERROR(VLOOKUP($B96,'LED #4'!$A$14:$S$114,R$48,0),\"\")","v":""},{"$f":"IFERROR(VLOOKUP($B96,'LED #4'!$A$14:$S$114,S$48,0),\"\")","v":""},{"$f":"IFERROR(VLOOKUP($B96,'LED #4'!$A$14:$S$114,T$48,0),\"\")","v":""},{"$f":"IFERROR(VLOOKUP($B96,'LED #4'!$A$14:$S$114,U$48,0),\"\")","v":""}]
[null,{"v":0.71,"d":"0.710"},{"$f":"IFERROR(VLOOKUP($B97,'LED #1'!$A$14:$S$114,C$48,0),\"\")","v":{"v":663.9751272387872,"d":"663.98 "}},{"$f":"IFERROR(VLOOKUP($B97,'LED #1'!$A$14:$S$114,D$48,0),\"\")","v":{"v":154.6542374233122,"d":"154.65 "}},{"$f":"IFERROR(VLOOKUP($B97,'LED #1'!$A$14:$S$114,E$48,0),\"\")","v":{"v":6.046884011253231,"d":"6.05 "}},{"$f":"IFERROR(VLOOKUP($B97,'LED #1'!$A$14:$S$114,F$48,0),\"\")","v":{"v":21,"d":"21.00 "}},null,{"$f":"IFERROR(VLOOKUP($B97,'LED #2'!$A$14:$S$114,H$48,0),\"\")","v":{"v":324.1162598403092,"d":"324.12 "}},{"$f":"IFERROR(VLOOKUP($B97,'LED #2'!$A$14:$S$114,I$48,0),\"\")","v":{"v":2.033223665119113,"d":"2.03 "}},{"$f":"IFERROR(VLOOKUP($B97,'LED #2'!$A$14:$S$114,J$48,0),\"\")","v":{"v":159.41003707593646,"d":"159.41 "}},{"$f":"IFERROR(VLOOKUP($B97,'LED #2'!$A$14:$S$114,K$48,0),\"\")","v":{"v":42,"d":"42.00 "}},null,{"$f":"IFERROR(VLOOKUP($B97,'LED #3'!$A$14:$S$114,M$48,0),\"\")","v":""},{"$f":"IFERROR(VLOOKUP($B97,'LED #3'!$A$14:$S$114,N$48,0),\"\")","v":""},{"$f":"IFERROR(VLOOKUP($B97,'LED #3'!$A$14:$S$114,O$48,0),\"\")","v":""},{"$f":"IFERROR(VLOOKUP($B97,'LED #3'!$A$14:$S$114,P$48,0),\"\")","v":""},null,{"$f":"IFERROR(VLOOKUP($B97,'LED #4'!$A$14:$S$114,R$48,0),\"\")","v":""},{"$f":"IFERROR(VLOOKUP($B97,'LED #4'!$A$14:$S$114,S$48,0),\"\")","v":""},{"$f":"IFERROR(VLOOKUP($B97,'LED #4'!$A$14:$S$114,T$48,0),\"\")","v":""},{"$f":"IFERROR(VLOOKUP($B97,'LED #4'!$A$14:$S$114,U$48,0),\"\")","v":""}]
[null,0.725,{"$f":"IFERROR(VLOOKUP($B98,'LED #1'!$A$14:$S$114,C$48,0),\"\")","v":{"v":676.4221706206971,"d":"676.42 "}},{"$f":"IFERROR(VLOOKUP($B98,'LED #1'!$A$14:$S$114,D$48,0),\"\")","v":{"v":153.83514670752606,"d":"153.84 "}},{"$f":"IFERROR(VLOOKUP($B98,'LED #1'!$A$14:$S$114,E$48,0),\"\")","v":{"v":6.064908555531109,"d":"6.06 "}},{"$f":"IFERROR(VLOOKUP($B98,'LED #1'!$A$14:$S$114,F$48,0),\"\")","v":{"v":20,"d":"20.00 "}},null,{"$f":"IFERROR(VLOOKUP($B98,'LED #2'!$A$14:$S$114,H$48,0),\"\")","v":{"v":330.15867489518723,"d":"330.16 "}},{"$f":"IFERROR(VLOOKUP($B98,'LED #2'!$A$14:$S$114,I$48,0),\"\")","v":{"v":2.0813498165354507,"d":"2.08 "}},{"$f":"IFERROR(VLOOKUP($B98,'LED #2'!$A$14:$S$114,J$48,0),\"\")","v":{"v":158.62719100471008,"d":"158.63 "}},{"$f":"IFERROR(VLOOKUP($B98,'LED #2'!$A$14:$S$114,K$48,0),\"\")","v":{"v":41,"d":"41.00 "}},null,{"$f":"IFERROR(VLOOKUP($B98,'LED #3'!$A$14:$S$114,M$48,0),\"\")","v":""},{"$f":"IFERROR(VLOOKUP($B98,'LED #3'!$A$14:$S$114,N$48,0),\"\")","v":""},{"$f":"IFERROR(VLOOKUP($B98,'LED #3'!$A$14:$S$114,O$48,0),\"\")","v":""},{"$f":"IFERROR(VLOOKUP($B98,'LED #3'!$A$14:$S$114,P$48,0),\"\")","v":""},null,{"$f":"IFERROR(VLOOKUP($B98,'LED #4'!$A$14:$S$114,R$48,0),\"\")","v":""},{"$f":"IFERROR(VLOOKUP($B98,'LED #4'!$A$14:$S$114,S$48,0),\"\")","v":""},{"$f":"IFERROR(VLOOKUP($B98,'LED #4'!$A$14:$S$114,T$48,0),\"\")","v":""},{"$f":"IFERROR(VLOOKUP($B98,'LED #4'!$A$14:$S$114,U$48,0),\"\")","v":""}]
[null,{"v":0.74,"d":"0.740"},{"$f":"IFERROR(VLOOKUP($B99,'LED #1'!$A$14:$S$114,C$48,0),\"\")","v":{"v":688.8096968070904,"d":"688.81 "}},{"$f":"IFERROR(VLOOKUP($B99,'LED #1'!$A$14:$S$114,D$48,0),\"\")","v":{"v":153.0254114930797,"d":"153.03 "}},{"$f":"IFERROR(VLOOKUP($B99,'LED #1'!$A$14:$S$114,E$48,0),\"\")","v":{"v":6.0828061530569455,"d":"6.08 "}},{"$f":"IFERROR(VLOOKUP($B99,'LED #1'!$A$14:$S$114,F$48,0),\"\")","v":{"v":20,"d":"20.00 "}},null,{"$f":"IFERROR(VLOOKUP($B99,'LED #2'!$A$14:$S$114,H$48,0),\"\")","v":{"v":336.1736927818656,"d":"336.17 "}},{"$f":"IFERROR(VLOOKUP($B99,'LED #2'!$A$14:$S$114,I$48,0),\"\")","v":{"v":2.1296694241573935,"d":"2.13 "}},{"$f":"IFERROR(VLOOKUP($B99,'LED #2'!$A$14:$S$114,J$48,0),\"\")","v":{"v":157.8525234801984,"d":"157.85 "}},{"$f":"IFERROR(VLOOKUP($B99,'LED #2'!$A$14:$S$114,K$48,0),\"\")","v":{"v":40,"d":"40.00 "}},null,{"$f":"IFERROR(VLOOKUP($B99,'LED #3'!$A$14:$S$114,M$48,0),\"\")","v":""},{"$f":"IFERROR(VLOOKUP($B99,'LED #3'!$A$14:$S$114,N$48,0),\"\")","v":""},{"$f":"IFERROR(VLOOKUP($B99,'LED #3'!$A$14:$S$114,O$48,0),\"\")","v":""},{"$f":"IFERROR(VLOOKUP($B99,'LED #3'!$A$14:$S$114,P$48,0),\"\")","v":""},null,{"$f":"IFERROR(VLOOKUP($B99,'LED #4'!$A$14:$S$114,R$48,0),\"\")","v":""},{"$f":"IFERROR(VLOOKUP($B99,'LED #4'!$A$14:$S$114,S$48,0),\"\")","v":""},{"$f":"IFERROR(VLOOKUP($B99,'LED #4'!$A$14:$S$114,T$48,0),\"\")","v":""},{"$f":"IFERROR(VLOOKUP($B99,'LED #4'!$A$14:$S$114,U$48,0),\"\")","v":""}]
[null,0.755,{"$f":"IFERROR(VLOOKUP($B100,'LED #1'!$A$14:$S$114,C$48,0),\"\")","v":{"v":701.1379903873623,"d":"701.14 "}},{"$f":"IFERROR(VLOOKUP($B100,'LED #1'!$A$14:$S$114,D$48,0),\"\")","v":{"v":152.22486064463786,"d":"152.22 "}},{"$f":"IFERROR(VLOOKUP($B100,'LED #1'!$A$14:$S$114,E$48,0),\"\")","v":{"v":6.1005776979159165,"d":"6.10 "}},{"$f":"IFERROR(VLOOKUP($B100,'LED #1'!$A$14:$S$114,F$48,0),\"\")","v":{"v":20,"d":"20.00 "}},null,{"$f":"IFERROR(VLOOKUP($B100,'LED #2'!$A$14:$S$114,H$48,0),\"\")","v":{"v":342.1614377229967,"d":"342.16 "}},{"$f":"IFERROR(VLOOKUP($B100,'LED #2'!$A$14:$S$114,I$48,0),\"\")","v":{"v":2.178181322356319,"d":"2.18 "}},{"$f":"IFERROR(VLOOKUP($B100,'LED #2'!$A$14:$S$114,J$48,0),\"\")","v":{"v":157.0858377175195,"d":"157.09 "}},{"$f":"IFERROR(VLOOKUP($B100,'LED #2'!$A$14:$S$114,K$48,0),\"\")","v":{"v":39,"d":"39.00 "}},null,{"$f":"IFERROR(VLOOKUP($B100,'LED #3'!$A$14:$S$114,M$48,0),\"\")","v":""},{"$f":"IFERROR(VLOOKUP($B100,'LED #3'!$A$14:$S$114,N$48,0),\"\")","v":""},{"$f":"IFERROR(VLOOKUP($B100,'LED #3'!$A$14:$S$114,O$48,0),\"\")","v":""},{"$f":"IFERROR(VLOOKUP($B100,'LED #3'!$A$14:$S$114,P$48,0),\"\")","v":""},null,{"$f":"IFERROR(VLOOKUP($B100,'LED #4'!$A$14:$S$114,R$48,0),\"\")","v":""},{"$f":"IFERROR(VLOOKUP($B100,'LED #4'!$A$14:$S$114,S$48,0),\"\")","v":""},{"$f":"IFERROR(VLOOKUP($B100,'LED #4'!$A$14:$S$114,T$48,0),\"\")","v":""},{"$f":"IFERROR(VLOOKUP($B100,'LED #4'!$A$14:$S$114,U$48,0),\"\")","v":""}]
[null,{"v":0.77,"d":"0.770"},{"$f":"IFERROR(VLOOKUP($B101,'LED #1'!$A$14:$S$114,C$48,0),\"\")","v":{"v":713.4073345901087,"d":"713.41 "}},{"$f":"IFERROR(VLOOKUP($B101,'LED #1'!$A$14:$S$114,D$48,0),\"\")","v":{"v":151.433327733527,"d":"151.43 "}},{"$f":"IFERROR(VLOOKUP($B101,'LED #1'!$A$14:$S$114,E$48,0),\"\")","v":{"v":6.118224077896166,"d":"6.12 "}},{"$f":"IFERROR(VLOOKUP($B101,'LED #1'!$A$14:$S$114,F$48,0),\"\")","v":{"v":19,"d":"19.00 "}},null,{"$f":"IFERROR(VLOOKUP($B101,'LED #2'!$A$14:$S$114,H$48,0),\"\")","v":{"v":348.12203337798996,"d":"348.12 "}},{"$f":"IFERROR(VLOOKUP($B101,'LED #2'!$A$14:$S$114,I$48,0),\"\")","v":{"v":2.2268843516407926,"d":"2.23 "}},{"$f":"IFERROR(VLOOKUP($B101,'LED #2'!$A$14:$S$114,J$48,0),\"\")","v":{"v":156.32694761247475,"d":"156.33 "}},{"$f":"IFERROR(VLOOKUP($B101,'LED #2'!$A$14:$S$114,K$48,0),\"\")","v":{"v":39,"d":"39.00 "}},null,{"$f":"IFERROR(VLOOKUP($B101,'LED #3'!$A$14:$S$114,M$48,0),\"\")","v":""},{"$f":"IFERROR(VLOOKUP($B101,'LED #3'!$A$14:$S$114,N$48,0),\"\")","v":""},{"$f":"IFERROR(VLOOKUP($B101,'LED #3'!$A$14:$S$114,O$48,0),\"\")","v":""},{"$f":"IFERROR(VLOOKUP($B101,'LED #3'!$A$14:$S$114,P$48,0),\"\")","v":""},null,{"$f":"IFERROR(VLOOKUP($B101,'LED #4'!$A$14:$S$114,R$48,0),\"\")","v":""},{"$f":"IFERROR(VLOOKUP($B101,'LED #4'!$A$14:$S$114,S$48,0),\"\")","v":""},{"$f":"IFERROR(VLOOKUP($B101,'LED #4'!$A$14:$S$114,T$48,0),\"\")","v":""},{"$f":"IFERROR(VLOOKUP($B101,'LED #4'!$A$14:$S$114,U$48,0),\"\")","v":""}]
[null,0.785,{"$f":"IFERROR(VLOOKUP($B102,'LED #1'!$A$14:$S$114,C$48,0),\"\")","v":{"v":725.6180112896274,"d":"725.62 "}},{"$f":"IFERROR(VLOOKUP($B102,'LED #1'!$A$14:$S$114,D$48,0),\"\")","v":{"v":150.6506508280408,"d":"150.65 "}},{"$f":"IFERROR(VLOOKUP($B102,'LED #1'!$A$14:$S$114,E$48,0),\"\")","v":{"v":6.135746174533142,"d":"6.14 "}},{"$f":"IFERROR(VLOOKUP($B102,'LED #1'!$A$14:$S$114,F$48,0),\"\")","v":{"v":19,"d":"19.00 "}},null,{"$f":"IFERROR(VLOOKUP($B102,'LED #2'!$A$14:$S$114,H$48,0),\"\")","v":{"v":354.0556028455654,"d":"354.06 "}},{"$f":"IFERROR(VLOOKUP($B102,'LED #2'!$A$14:$S$114,I$48,0),\"\")","v":{"v":2.2757773586264713,"d":"2.28 "}},{"$f":"IFERROR(VLOOKUP($B102,'LED #2'!$A$14:$S$114,J$48,0),\"\")","v":{"v":155.57567681368138,"d":"155.58 "}},{"$f":"IFERROR(VLOOKUP($B102,'LED #2'!$A$14:$S$114,K$48,0),\"\")","v":{"v":38,"d":"38.00 "}},null,{"$f":"IFERROR(VLOOKUP($B102,'LED #3'!$A$14:$S$114,M$48,0),\"\")","v":""},{"$f":"IFERROR(VLOOKUP($B102,'LED #3'!$A$14:$S$114,N$48,0),\"\")","v":""},{"$f":"IFERROR(VLOOKUP($B102,'LED #3'!$A$14:$S$114,O$48,0),\"\")","v":""},{"$f":"IFERROR(VLOOKUP($B102,'LED #3'!$A$14:$S$114,P$48,0),\"\")","v":""},null,{"$f":"IFERROR(VLOOKUP($B102,'LED #4'!$A$14:$S$114,R$48,0),\"\")","v":""},{"$f":"IFERROR(VLOOKUP($B102,'LED #4'!$A$14:$S$114,S$48,0),\"\")","v":""},{"$f":"IFERROR(VLOOKUP($B102,'LED #4'!$A$14:$S$114,T$48,0),\"\")","v":""},{"$f":"IFERROR(VLOOKUP($B102,'LED #4'!$A$14:$S$114,U$48,0),\"\")","v":""}]
[null,{"v":0.8,"d":"0.800"},{"$f":"IFERROR(VLOOKUP($B103,'LED #1'!$A$14:$S$114,C$48,0),\"\")","v":{"v":737.7703010123978,"d":"737.77 "}},{"$f":"IFERROR(VLOOKUP($B103,'LED #1'!$A$14:$S$114,D$48,0),\"\")","v":{"v":149.87667229938057,"d":"149.88 "}},{"$f":"IFERROR(VLOOKUP($B103,'LED #1'!$A$14:$S$114,E$48,0),\"\")","v":{"v":6.153144863153654,"d":"6.15 "}},{"$f":"IFERROR(VLOOKUP($B103,'LED #1'!$A$14:$S$114,F$48,0),\"\")","v":{"v":19,"d":"19.00 "}},null,{"$f":"IFERROR(VLOOKUP($B103,'LED #2'!$A$14:$S$114,H$48,0),\"\")","v":{"v":359.9622686662956,"d":"359.96 "}},{"$f":"IFERROR(VLOOKUP($B103,'LED #2'!$A$14:$S$114,I$48,0),\"\")","v":{"v":2.3248591960061513,"d":"2.32 "}},{"$f":"IFERROR(VLOOKUP($B103,'LED #2'!$A$14:$S$114,J$48,0),\"\")","v":{"v":154.8318578968871,"d":"154.83 "}},{"$f":"IFERROR(VLOOKUP($B103,'LED #2'!$A$14:$S$114,K$48,0),\"\")","v":{"v":38,"d":"38.00 "}},null,{"$f":"IFERROR(VLOOKUP($B103,'LED #3'!$A$14:$S$114,M$48,0),\"\")","v":""},{"$f":"IFERROR(VLOOKUP($B103,'LED #3'!$A$14:$S$114,N$48,0),\"\")","v":""},{"$f":"IFERROR(VLOOKUP($B103,'LED #3'!$A$14:$S$114,O$48,0),\"\")","v":""},{"$f":"IFERROR(VLOOKUP($B103,'LED #3'!$A$14:$S$114,P$48,0),\"\")","v":""},null,{"$f":"IFERROR(VLOOKUP($B103,'LED #4'!$A$14:$S$114,R$48,0),\"\")","v":""},{"$f":"IFERROR(VLOOKUP($B103,'LED #4'!$A$14:$S$114,S$48,0),\"\")","v":""},{"$f":"IFERROR(VLOOKUP($B103,'LED #4'!$A$14:$S$114,T$48,0),\"\")","v":""},{"$f":"IFERROR(VLOOKUP($B103,'LED #4'!$A$14:$S$114,U$48,0),\"\")","v":""}]
[null,0.815,{"$f":"IFERROR(VLOOKUP($B104,'LED #1'!$A$14:$S$114,C$48,0),\"\")","v":""},{"$f":"IFERROR(VLOOKUP($B104,'LED #1'!$A$14:$S$114,D$48,0),\"\")","v":""},{"$f":"IFERROR(VLOOKUP($B104,'LED #1'!$A$14:$S$114,E$48,0),\"\")","v":""},{"$f":"IFERROR(VLOOKUP($B104,'LED #1'!$A$14:$S$114,F$48,0),\"\")","v":""},null,{"$f":"IFERROR(VLOOKUP($B104,'LED #2'!$A$14:$S$114,H$48,0),\"\")","v":{"v":365.8421528251375,"d":"365.84 "}},{"$f":"IFERROR(VLOOKUP($B104,'LED #2'!$A$14:$S$114,I$48,0),\"\")","v":{"v":2.374128722519961,"d":"2.37 "}},{"$f":"IFERROR(VLOOKUP($B104,'LED #2'!$A$14:$S$114,J$48,0),\"\")","v":{"v":154.09533162836397,"d":"154.10 "}},{"$f":"IFERROR(VLOOKUP($B104,'LED #2'!$A$14:$S$114,K$48,0),\"\")","v":{"v":37,"d":"37.00 "}},null,{"$f":"IFERROR(VLOOKUP($B104,'LED #3'!$A$14:$S$114,M$48,0),\"\")","v":""},{"$f":"IFERROR(VLOOKUP($B104,'LED #3'!$A$14:$S$114,N$48,0),\"\")","v":""},{"$f":"IFERROR(VLOOKUP($B104,'LED #3'!$A$14:$S$114,O$48,0),\"\")","v":""},{"$f":"IFERROR(VLOOKUP($B104,'LED #3'!$A$14:$S$114,P$48,0),\"\")","v":""},null,{"$f":"IFERROR(VLOOKUP($B104,'LED #4'!$A$14:$S$114,R$48,0),\"\")","v":""},{"$f":"IFERROR(VLOOKUP($B104,'LED #4'!$A$14:$S$114,S$48,0),\"\")","v":""},{"$f":"IFERROR(VLOOKUP($B104,'LED #4'!$A$14:$S$114,T$48,0),\"\")","v":""},{"$f":"IFERROR(VLOOKUP($B104,'LED #4'!$A$14:$S$114,U$48,0),\"\")","v":""}]
[null,{"v":0.83,"d":"0.830"},{"$f":"IFERROR(VLOOKUP($B105,'LED #1'!$A$14:$S$114,C$48,0),\"\")","v":""},{"$f":"IFERROR(VLOOKUP($B105,'LED #1'!$A$14:$S$114,D$48,0),\"\")","v":""},{"$f":"IFERROR(VLOOKUP($B105,'LED #1'!$A$14:$S$114,E$48,0),\"\")","v":""},{"$f":"IFERROR(VLOOKUP($B105,'LED #1'!$A$14:$S$114,F$48,0),\"\")","v":""},null,{"$f":"IFERROR(VLOOKUP($B105,'LED #2'!$A$14:$S$114,H$48,0),\"\")","v":{"v":371.69537675394986,"d":"371.70 "}},{"$f":"IFERROR(VLOOKUP($B105,'LED #2'!$A$14:$S$114,I$48,0),\"\")","v":{"v":2.423584802925683,"d":"2.42 "}},{"$f":"IFERROR(VLOOKUP($B105,'LED #2'!$A$14:$S$114,J$48,0),\"\")","v":{"v":153.36594630617,"d":"153.37 "}},{"$f":"IFERROR(VLOOKUP($B105,'LED #2'!$A$14:$S$114,K$48,0),\"\")","v":{"v":36,"d":"36.00 "}},null,{"$f":"IFERROR(VLOOKUP($B105,'LED #3'!$A$14:$S$114,M$48,0),\"\")","v":""},{"$f":"IFERROR(VLOOKUP($B105,'LED #3'!$A$14:$S$114,N$48,0),\"\")","v":""},{"$f":"IFERROR(VLOOKUP($B105,'LED #3'!$A$14:$S$114,O$48,0),\"\")","v":""},{"$f":"IFERROR(VLOOKUP($B105,'LED #3'!$A$14:$S$114,P$48,0),\"\")","v":""},null,{"$f":"IFERROR(VLOOKUP($B105,'LED #4'!$A$14:$S$114,R$48,0),\"\")","v":""},{"$f":"IFERROR(VLOOKUP($B105,'LED #4'!$A$14:$S$114,S$48,0),\"\")","v":""},{"$f":"IFERROR(VLOOKUP($B105,'LED #4'!$A$14:$S$114,T$48,0),\"\")","v":""},{"$f":"IFERROR(VLOOKUP($B105,'LED #4'!$A$14:$S$114,U$48,0),\"\")","v":""}]
[null,0.845,{"$f":"IFERROR(VLOOKUP($B106,'LED #1'!$A$14:$S$114,C$48,0),\"\")","v":""},{"$f":"IFERROR(VLOOKUP($B106,'LED #1'!$A$14:$S$114,D$48,0),\"\")","v":""},{"$f":"IFERROR(VLOOKUP($B106,'LED #1'!$A$14:$S$114,E$48,0),\"\")","v":""},{"$f":"IFERROR(VLOOKUP($B106,'LED #1'!$A$14:$S$114,F$48,0),\"\")","v":""},null,{"$f":"IFERROR(VLOOKUP($B106,'LED #2'!$A$14:$S$114,H$48,0),\"\")","v":{"v":377.5220613340035,"d":"377.52 "}},{"$f":"IFERROR(VLOOKUP($B106,'LED #2'!$A$14:$S$114,I$48,0),\"\")","v":{"v":2.4732263079692265,"d":"2.47 "}},{"$f":"IFERROR(VLOOKUP($B106,'LED #2'!$A$14:$S$114,J$48,0),\"\")","v":{"v":152.6435571696583,"d":"152.64 "}},{"$f":"IFERROR(VLOOKUP($B106,'LED #2'!$A$14:$S$114,K$48,0),\"\")","v":{"v":36,"d":"36.00 "}},null,{"$f":"IFERROR(VLOOKUP($B106,'LED #3'!$A$14:$S$114,M$48,0),\"\")","v":""},{"$f":"IFERROR(VLOOKUP($B106,'LED #3'!$A$14:$S$114,N$48,0),\"\")","v":""},{"$f":"IFERROR(VLOOKUP($B106,'LED #3'!$A$14:$S$114,O$48,0),\"\")","v":""},{"$f":"IFERROR(VLOOKUP($B106,'LED #3'!$A$14:$S$114,P$48,0),\"\")","v":""},null,{"$f":"IFERROR(VLOOKUP($B106,'LED #4'!$A$14:$S$114,R$48,0),\"\")","v":""},{"$f":"IFERROR(VLOOKUP($B106,'LED #4'!$A$14:$S$114,S$48,0),\"\")","v":""},{"$f":"IFERROR(VLOOKUP($B106,'LED #4'!$A$14:$S$114,T$48,0),\"\")","v":""},{"$f":"IFERROR(VLOOKUP($B106,'LED #4'!$A$14:$S$114,U$48,0),\"\")","v":""}]
[null,{"v":0.86,"d":"0.860"},{"$f":"IFERROR(VLOOKUP($B107,'LED #1'!$A$14:$S$114,C$48,0),\"\")","v":""},{"$f":"IFERROR(VLOOKUP($B107,'LED #1'!$A$14:$S$114,D$48,0),\"\")","v":""},{"$f":"IFERROR(VLOOKUP($B107,'LED #1'!$A$14:$S$114,E$48,0),\"\")","v":""},{"$f":"IFERROR(VLOOKUP($B107,'LED #1'!$A$14:$S$114,F$48,0),\"\")","v":""},null,{"$f":"IFERROR(VLOOKUP($B107,'LED #2'!$A$14:$S$114,H$48,0),\"\")","v":{"v":383.32232689847547,"d":"383.32 "}},{"$f":"IFERROR(VLOOKUP($B107,'LED #2'!$A$14:$S$114,I$48,0),\"\")","v":{"v":2.5230521143552296,"d":"2.52 "}},{"$f":"IFERROR(VLOOKUP($B107,'LED #2'!$A$14:$S$114,J$48,0),\"\")","v":{"v":151.92802586895203,"d":"151.93 "}},{"$f":"IFERROR(VLOOKUP($B107,'LED #2'!$A$14:$S$114,K$48,0),\"\")","v":{"v":35,"d":"35.00 "}},null,{"$f":"IFERROR(VLOOKUP($B107,'LED #3'!$A$14:$S$114,M$48,0),\"\")","v":""},{"$f":"IFERROR(VLOOKUP($B107,'LED #3'!$A$14:$S$114,N$48,0),\"\")","v":""},{"$f":"IFERROR(VLOOKUP($B107,'LED #3'!$A$14:$S$114,O$48,0),\"\")","v":""},{"$f":"IFERROR(VLOOKUP($B107,'LED #3'!$A$14:$S$114,P$48,0),\"\")","v":""},null,{"$f":"IFERROR(VLOOKUP($B107,'LED #4'!$A$14:$S$114,R$48,0),\"\")","v":""},{"$f":"IFERROR(VLOOKUP($B107,'LED #4'!$A$14:$S$114,S$48,0),\"\")","v":""},{"$f":"IFERROR(VLOOKUP($B107,'LED #4'!$A$14:$S$114,T$48,0),\"\")","v":""},{"$f":"IFERROR(VLOOKUP($B107,'LED #4'!$A$14:$S$114,U$48,0),\"\")","v":""}]
[null,0.875,{"$f":"IFERROR(VLOOKUP($B108,'LED #1'!$A$14:$S$114,C$48,0),\"\")","v":""},{"$f":"IFERROR(VLOOKUP($B108,'LED #1'!$A$14:$S$114,D$48,0),\"\")","v":""},{"$f":"IFERROR(VLOOKUP($B108,'LED #1'!$A$14:$S$114,E$48,0),\"\")","v":""},{"$f":"IFERROR(VLOOKUP($B108,'LED #1'!$A$14:$S$114,F$48,0),\"\")","v":""},null,{"$f":"IFERROR(VLOOKUP($B108,'LED #2'!$A$14:$S$114,H$48,0),\"\")","v":{"v":389.09629323493505,"d":"389.10 "}},{"$f":"IFERROR(VLOOKUP($B108,'LED #2'!$A$14:$S$114,I$48,0),\"\")","v":{"v":2.5730611047178087,"d":"2.57 "}},{"$f":"IFERROR(VLOOKUP($B108,'LED #2'!$A$14:$S$114,J$48,0),\"\")","v":{"v":151.21921998724076,"d":"151.22 "}},{"$f":"IFERROR(VLOOKUP($B108,'LED #2'!$A$14:$S$114,K$48,0),\"\")","v":{"v":35,"d":"35.00 "}},null,{"$f":"IFERROR(VLOOKUP($B108,'LED #3'!$A$14:$S$114,M$48,0),\"\")","v":""},{"$f":"IFERROR(VLOOKUP($B108,'LED #3'!$A$14:$S$114,N$48,0),\"\")","v":""},{"$f":"IFERROR(VLOOKUP($B108,'LED #3'!$A$14:$S$114,O$48,0),\"\")","v":""},{"$f":"IFERROR(VLOOKUP($B108,'LED #3'!$A$14:$S$114,P$48,0),\"\")","v":""},null,{"$f":"IFERROR(VLOOKUP($B108,'LED #4'!$A$14:$S$114,R$48,0),\"\")","v":""},{"$f":"IFERROR(VLOOKUP($B108,'LED #4'!$A$14:$S$114,S$48,0),\"\")","v":""},{"$f":"IFERROR(VLOOKUP($B108,'LED #4'!$A$14:$S$114,T$48,0),\"\")","v":""},{"$f":"IFERROR(VLOOKUP($B108,'LED #4'!$A$14:$S$114,U$48,0),\"\")","v":""}]
[null,{"v":0.89,"d":"0.890"},{"$f":"IFERROR(VLOOKUP($B109,'LED #1'!$A$14:$S$114,C$48,0),\"\")","v":""},{"$f":"IFERROR(VLOOKUP($B109,'LED #1'!$A$14:$S$114,D$48,0),\"\")","v":""},{"$f":"IFERROR(VLOOKUP($B109,'LED #1'!$A$14:$S$114,E$48,0),\"\")","v":""},{"$f":"IFERROR(VLOOKUP($B109,'LED #1'!$A$14:$S$114,F$48,0),\"\")","v":""},null,{"$f":"IFERROR(VLOOKUP($B109,'LED #2'!$A$14:$S$114,H$48,0),\"\")","v":{"v":394.84407958781804,"d":"394.84 "}},{"$f":"IFERROR(VLOOKUP($B109,'LED #2'!$A$14:$S$114,I$48,0),\"\")","v":{"v":2.623252167591434,"d":"2.62 "}},{"$f":"IFERROR(VLOOKUP($B109,'LED #2'!$A$14:$S$114,J$48,0),\"\")","v":{"v":150.51701260971348,"d":"150.52 "}},{"$f":"IFERROR(VLOOKUP($B109,'LED #2'!$A$14:$S$114,K$48,0),\"\")","v":{"v":34,"d":"34.00 "}},null,{"$f":"IFERROR(VLOOKUP($B109,'LED #3'!$A$14:$S$114,M$48,0),\"\")","v":""},{"$f":"IFERROR(VLOOKUP($B109,'LED #3'!$A$14:$S$114,N$48,0),\"\")","v":""},{"$f":"IFERROR(VLOOKUP($B109,'LED #3'!$A$14:$S$114,O$48,0),\"\")","v":""},{"$f":"IFERROR(VLOOKUP($B109,'LED #3'!$A$14:$S$114,P$48,0),\"\")","v":""},null,{"$f":"IFERROR(VLOOKUP($B109,'LED #4'!$A$14:$S$114,R$48,0),\"\")","v":""},{"$f":"IFERROR(VLOOKUP($B109,'LED #4'!$A$14:$S$114,S$48,0),\"\")","v":""},{"$f":"IFERROR(VLOOKUP($B109,'LED #4'!$A$14:$S$114,T$48,0),\"\")","v":""},{"$f":"IFERROR(VLOOKUP($B109,'LED #4'!$A$14:$S$114,U$48,0),\"\")","v":""}]
[null,0.905,{"$f":"IFERROR(VLOOKUP($B110,'LED #1'!$A$14:$S$114,C$48,0),\"\")","v":""},{"$f":"IFERROR(VLOOKUP($B110,'LED #1'!$A$14:$S$114,D$48,0),\"\")","v":""},{"$f":"IFERROR(VLOOKUP($B110,'LED #1'!$A$14:$S$114,E$48,0),\"\")","v":""},{"$f":"IFERROR(VLOOKUP($B110,'LED #1'!$A$14:$S$114,F$48,0),\"\")","v":""},null,{"$f":"IFERROR(VLOOKUP($B110,'LED #2'!$A$14:$S$114,H$48,0),\"\")","v":{"v":400.56580466088917,"d":"400.57 "}},{"$f":"IFERROR(VLOOKUP($B110,'LED #2'!$A$14:$S$114,I$48,0),\"\")","v":{"v":2.673624197381952,"d":"2.67 "}},{"$f":"IFERROR(VLOOKUP($B110,'LED #2'!$A$14:$S$114,J$48,0),\"\")","v":{"v":149.82128193376187,"d":"149.82 "}},{"$f":"IFERROR(VLOOKUP($B110,'LED #2'!$A$14:$S$114,K$48,0),\"\")","v":{"v":34,"d":"34.00 "}},null,{"$f":"IFERROR(VLOOKUP($B110,'LED #3'!$A$14:$S$114,M$48,0),\"\")","v":""},{"$f":"IFERROR(VLOOKUP($B110,'LED #3'!$A$14:$S$114,N$48,0),\"\")","v":""},{"$f":"IFERROR(VLOOKUP($B110,'LED #3'!$A$14:$S$114,O$48,0),\"\")","v":""},{"$f":"IFERROR(VLOOKUP($B110,'LED #3'!$A$14:$S$114,P$48,0),\"\")","v":""},null,{"$f":"IFERROR(VLOOKUP($B110,'LED #4'!$A$14:$S$114,R$48,0),\"\")","v":""},{"$f":"IFERROR(VLOOKUP($B110,'LED #4'!$A$14:$S$114,S$48,0),\"\")","v":""},{"$f":"IFERROR(VLOOKUP($B110,'LED #4'!$A$14:$S$114,T$48,0),\"\")","v":""},{"$f":"IFERROR(VLOOKUP($B110,'LED #4'!$A$14:$S$114,U$48,0),\"\")","v":""}]
[null,{"v":0.92,"d":"0.920"},{"$f":"IFERROR(VLOOKUP($B111,'LED #1'!$A$14:$S$114,C$48,0),\"\")","v":""},{"$f":"IFERROR(VLOOKUP($B111,'LED #1'!$A$14:$S$114,D$48,0),\"\")","v":""},{"$f":"IFERROR(VLOOKUP($B111,'LED #1'!$A$14:$S$114,E$48,0),\"\")","v":""},{"$f":"IFERROR(VLOOKUP($B111,'LED #1'!$A$14:$S$114,F$48,0),\"\")","v":""},null,{"$f":"IFERROR(VLOOKUP($B111,'LED #2'!$A$14:$S$114,H$48,0),\"\")","v":{"v":406.2615866196929,"d":"406.26 "}},{"$f":"IFERROR(VLOOKUP($B111,'LED #2'!$A$14:$S$114,I$48,0),\"\")","v":{"v":2.724176094337741,"d":"2.72 "}},{"$f":"IFERROR(VLOOKUP($B111,'LED #2'!$A$14:$S$114,J$48,0),\"\")","v":{"v":149.1319109157871,"d":"149.13 "}},{"$f":"IFERROR(VLOOKUP($B111,'LED #2'!$A$14:$S$114,K$48,0),\"\")","v":{"v":33,"d":"33.00 "}},null,{"$f":"IFERROR(VLOOKUP($B111,'LED #3'!$A$14:$S$114,M$48,0),\"\")","v":""},{"$f":"IFERROR(VLOOKUP($B111,'LED #3'!$A$14:$S$114,N$48,0),\"\")","v":""},{"$f":"IFERROR(VLOOKUP($B111,'LED #3'!$A$14:$S$114,O$48,0),\"\")","v":""},{"$f":"IFERROR(VLOOKUP($B111,'LED #3'!$A$14:$S$114,P$48,0),\"\")","v":""},null,{"$f":"IFERROR(VLOOKUP($B111,'LED #4'!$A$14:$S$114,R$48,0),\"\")","v":""},{"$f":"IFERROR(VLOOKUP($B111,'LED #4'!$A$14:$S$114,S$48,0),\"\")","v":""},{"$f":"IFERROR(VLOOKUP($B111,'LED #4'!$A$14:$S$114,T$48,0),\"\")","v":""},{"$f":"IFERROR(VLOOKUP($B111,'LED #4'!$A$14:$S$114,U$48,0),\"\")","v":""}]
[null,0.935,{"$f":"IFERROR(VLOOKUP($B112,'LED #1'!$A$14:$S$114,C$48,0),\"\")","v":""},{"$f":"IFERROR(VLOOKUP($B112,'LED #1'!$A$14:$S$114,D$48,0),\"\")","v":""},{"$f":"IFERROR(VLOOKUP($B112,'LED #1'!$A$14:$S$114,E$48,0),\"\")","v":""},{"$f":"IFERROR(VLOOKUP($B112,'LED #1'!$A$14:$S$114,F$48,0),\"\")","v":""},null,{"$f":"IFERROR(VLOOKUP($B112,'LED #2'!$A$14:$S$114,H$48,0),\"\")","v":{"v":411.9315430939946,"d":"411.93 "}},{"$f":"IFERROR(VLOOKUP($B112,'LED #2'!$A$14:$S$114,I$48,0),\"\")","v":{"v":2.7749067645209973,"d":"2.77 "}},{"$f":"IFERROR(VLOOKUP($B112,'LED #2'!$A$14:$S$114,J$48,0),\"\")","v":{"v":148.44878695054175,"d":"148.45 "}},{"$f":"IFERROR(VLOOKUP($B112,'LED #2'!$A$14:$S$114,K$48,0),\"\")","v":{"v":33,"d":"33.00 "}},null,{"$f":"IFERROR(VLOOKUP($B112,'LED #3'!$A$14:$S$114,M$48,0),\"\")","v":""},{"$f":"IFERROR(VLOOKUP($B112,'LED #3'!$A$14:$S$114,N$48,0),\"\")","v":""},{"$f":"IFERROR(VLOOKUP($B112,'LED #3'!$A$14:$S$114,O$48,0),\"\")","v":""},{"$f":"IFERROR(VLOOKUP($B112,'LED #3'!$A$14:$S$114,P$48,0),\"\")","v":""},null,{"$f":"IFERROR(VLOOKUP($B112,'LED #4'!$A$14:$S$114,R$48,0),\"\")","v":""},{"$f":"IFERROR(VLOOKUP($B112,'LED #4'!$A$14:$S$114,S$48,0),\"\")","v":""},{"$f":"IFERROR(VLOOKUP($B112,'LED #4'!$A$14:$S$114,T$48,0),\"\")","v":""},{"$f":"IFERROR(VLOOKUP($B112,'LED #4'!$A$14:$S$114,U$48,0),\"\")","v":""}]
[null,{"v":0.95,"d":"0.950"},{"$f":"IFERROR(VLOOKUP($B113,'LED #1'!$A$14:$S$114,C$48,0),\"\")","v":""},{"$f":"IFERROR(VLOOKUP($B113,'LED #1'!$A$14:$S$114,D$48,0),\"\")","v":""},{"$f":"IFERROR(VLOOKUP($B113,'LED #1'!$A$14:$S$114,E$48,0),\"\")","v":""},{"$f":"IFERROR(VLOOKUP($B113,'LED #1'!$A$14:$S$114,F$48,0),\"\")","v":""},null,{"$f":"IFERROR(VLOOKUP($B113,'LED #2'!$A$14:$S$114,H$48,0),\"\")","v":{"v":417.57579118020976,"d":"417.58 "}},{"$f":"IFERROR(VLOOKUP($B113,'LED #2'!$A$14:$S$114,I$48,0),\"\")","v":{"v":2.82581511977916,"d":"2.83 "}},{"$f":"IFERROR(VLOOKUP($B113,'LED #2'!$A$14:$S$114,J$48,0),\"\")","v":{"v":147.77180157944787,"d":"147.77 "}},{"$f":"IFERROR(VLOOKUP($B113,'LED #2'!$A$14:$S$114,K$48,0),\"\")","v":{"v":32,"d":"32.00 "}},null,{"$f":"IFERROR(VLOOKUP($B113,'LED #3'!$A$14:$S$114,M$48,0),\"\")","v":""},{"$f":"IFERROR(VLOOKUP($B113,'LED #3'!$A$14:$S$114,N$48,0),\"\")","v":""},{"$f":"IFERROR(VLOOKUP($B113,'LED #3'!$A$14:$S$114,O$48,0),\"\")","v":""},{"$f":"IFERROR(VLOOKUP($B113,'LED #3'!$A$14:$S$114,P$48,0),\"\")","v":""},null,{"$f":"IFERROR(VLOOKUP($B113,'LED #4'!$A$14:$S$114,R$48,0),\"\")","v":""},{"$f":"IFERROR(VLOOKUP($B113,'LED #4'!$A$14:$S$114,S$48,0),\"\")","v":""},{"$f":"IFERROR(VLOOKUP($B113,'LED #4'!$A$14:$S$114,T$48,0),\"\")","v":""},{"$f":"IFERROR(VLOOKUP($B113,'LED #4'!$A$14:$S$114,U$48,0),\"\")","v":""}]
[null,0.965,{"$f":"IFERROR(VLOOKUP($B114,'LED #1'!$A$14:$S$114,C$48,0),\"\")","v":""},{"$f":"IFERROR(VLOOKUP($B114,'LED #1'!$A$14:$S$114,D$48,0),\"\")","v":""},{"$f":"IFERROR(VLOOKUP($B114,'LED #1'!$A$14:$S$114,E$48,0),\"\")","v":""},{"$f":"IFERROR(VLOOKUP($B114,'LED #1'!$A$14:$S$114,F$48,0),\"\")","v":""},null,{"$f":"IFERROR(VLOOKUP($B114,'LED #2'!$A$14:$S$114,H$48,0),\"\")","v":{"v":423.1944474438218,"d":"423.19 "}},{"$f":"IFERROR(VLOOKUP($B114,'LED #2'!$A$14:$S$114,I$48,0),\"\")","v":{"v":2.8769000777164777,"d":"2.88 "}},{"$f":"IFERROR(VLOOKUP($B114,'LED #2'!$A$14:$S$114,J$48,0),\"\")","v":{"v":147.1008502247773,"d":"147.10 "}},{"$f":"IFERROR(VLOOKUP($B114,'LED #2'!$A$14:$S$114,K$48,0),\"\")","v":{"v":32,"d":"32.00 "}},null,{"$f":"IFERROR(VLOOKUP($B114,'LED #3'!$A$14:$S$114,M$48,0),\"\")","v":""},{"$f":"IFERROR(VLOOKUP($B114,'LED #3'!$A$14:$S$114,N$48,0),\"\")","v":""},{"$f":"IFERROR(VLOOKUP($B114,'LED #3'!$A$14:$S$114,O$48,0),\"\")","v":""},{"$f":"IFERROR(VLOOKUP($B114,'LED #3'!$A$14:$S$114,P$48,0),\"\")","v":""},null,{"$f":"IFERROR(VLOOKUP($B114,'LED #4'!$A$14:$S$114,R$48,0),\"\")","v":""},{"$f":"IFERROR(VLOOKUP($B114,'LED #4'!$A$14:$S$114,S$48,0),\"\")","v":""},{"$f":"IFERROR(VLOOKUP($B114,'LED #4'!$A$14:$S$114,T$48,0),\"\")","v":""},{"$f":"IFERROR(VLOOKUP($B114,'LED #4'!$A$14:$S$114,U$48,0),\"\")","v":""}]
[null,{"v":0.98,"d":"0.980"},{"$f":"IFERROR(VLOOKUP($B115,'LED #1'!$A$14:$S$114,C$48,0),\"\")","v":""},{"$f":"IFERROR(VLOOKUP($B115,'LED #1'!$A$14:$S$114,D$48,0),\"\")","v":""},{"$f":"IFERROR(VLOOKUP($B115,'LED #1'!$A$14:$S$114,E$48,0),\"\")","v":""},{"$f":"IFERROR(VLOOKUP($B115,'LED #1'!$A$14:$S$114,F$48,0),\"\")","v":""},null,{"$f":"IFERROR(VLOOKUP($B115,'LED #2'!$A$14:$S$114,H$48,0),\"\")","v":{"v":428.7876279217898,"d":"428.79 "}},{"$f":"IFERROR(VLOOKUP($B115,'LED #2'!$A$14:$S$114,I$48,0),\"\")","v":{"v":2.9281605616656905,"d":"2.93 "}},{"$f":"IFERROR(VLOOKUP($B115,'LED #2'!$A$14:$S$114,J$48,0),\"\")","v":{"v":146.4358319469589,"d":"146.44 "}},{"$f":"IFERROR(VLOOKUP($B115,'LED #2'!$A$14:$S$114,K$48,0),\"\")","v":{"v":32,"d":"32.00 "}},null,{"$f":"IFERROR(VLOOKUP($B115,'LED #3'!$A$14:$S$114,M$48,0),\"\")","v":""},{"$f":"IFERROR(VLOOKUP($B115,'LED #3'!$A$14:$S$114,N$48,0),\"\")","v":""},{"$f":"IFERROR(VLOOKUP($B115,'LED #3'!$A$14:$S$114,O$48,0),\"\")","v":""},{"$f":"IFERROR(VLOOKUP($B115,'LED #3'!$A$14:$S$114,P$48,0),\"\")","v":""},null,{"$f":"IFERROR(VLOOKUP($B115,'LED #4'!$A$14:$S$114,R$48,0),\"\")","v":""},{"$f":"IFERROR(VLOOKUP($B115,'LED #4'!$A$14:$S$114,S$48,0),\"\")","v":""},{"$f":"IFERROR(VLOOKUP($B115,'LED #4'!$A$14:$S$114,T$48,0),\"\")","v":""},{"$f":"IFERROR(VLOOKUP($B115,'LED #4'!$A$14:$S$114,U$48,0),\"\")","v":""}]
[null,0.995,{"$f":"IFERROR(VLOOKUP($B116,'LED #1'!$A$14:$S$114,C$48,0),\"\")","v":""},{"$f":"IFERROR(VLOOKUP($B116,'LED #1'!$A$14:$S$114,D$48,0),\"\")","v":""},{"$f":"IFERROR(VLOOKUP($B116,'LED #1'!$A$14:$S$114,E$48,0),\"\")","v":""},{"$f":"IFERROR(VLOOKUP($B116,'LED #1'!$A$14:$S$114,F$48,0),\"\")","v":""},null,{"$f":"IFERROR(VLOOKUP($B116,'LED #2'!$A$14:$S$114,H$48,0),\"\")","v":{"v":434.3554481249448,"d":"434.36 "}},{"$f":"IFERROR(VLOOKUP($B116,'LED #2'!$A$14:$S$114,I$48,0),\"\")","v":{"v":2.979595500659865,"d":"2.98 "}},{"$f":"IFERROR(VLOOKUP($B116,'LED #2'!$A$14:$S$114,J$48,0),\"\")","v":{"v":145.77664922260485,"d":"145.78 "}},{"$f":"IFERROR(VLOOKUP($B116,'LED #2'!$A$14:$S$114,K$48,0),\"\")","v":{"v":31,"d":"31.00 "}},null,{"$f":"IFERROR(VLOOKUP($B116,'LED #3'!$A$14:$S$114,M$48,0),\"\")","v":""},{"$f":"IFERROR(VLOOKUP($B116,'LED #3'!$A$14:$S$114,N$48,0),\"\")","v":""},{"$f":"IFERROR(VLOOKUP($B116,'LED #3'!$A$14:$S$114,O$48,0),\"\")","v":""},{"$f":"IFERROR(VLOOKUP($B116,'LED #3'!$A$14:$S$114,P$48,0),\"\")","v":""},null,{"$f":"IFERROR(VLOOKUP($B116,'LED #4'!$A$14:$S$114,R$48,0),\"\")","v":""},{"$f":"IFERROR(VLOOKUP($B116,'LED #4'!$A$14:$S$114,S$48,0),\"\")","v":""},{"$f":"IFERROR(VLOOKUP($B116,'LED #4'!$A$14:$S$114,T$48,0),\"\")","v":""},{"$f":"IFERROR(VLOOKUP($B116,'LED #4'!$A$14:$S$114,U$48,0),\"\")","v":""}]
[null,{"v":1.01,"d":"1.010"},{"$f":"IFERROR(VLOOKUP($B117,'LED #1'!$A$14:$S$114,C$48,0),\"\")","v":""},{"$f":"IFERROR(VLOOKUP($B117,'LED #1'!$A$14:$S$114,D$48,0),\"\")","v":""},{"$f":"IFERROR(VLOOKUP($B117,'LED #1'!$A$14:$S$114,E$48,0),\"\")","v":""},{"$f":"IFERROR(VLOOKUP($B117,'LED #1'!$A$14:$S$114,F$48,0),\"\")","v":""},null,{"$f":"IFERROR(VLOOKUP($B117,'LED #2'!$A$14:$S$114,H$48,0),\"\")","v":{"v":439.8980230403751,"d":"439.90 "}},{"$f":"IFERROR(VLOOKUP($B117,'LED #2'!$A$14:$S$114,I$48,0),\"\")","v":{"v":3.031203829404347,"d":"3.03 "}},{"$f":"IFERROR(VLOOKUP($B117,'LED #2'!$A$14:$S$114,J$48,0),\"\")","v":{"v":145.12320774113635,"d":"145.12 "}},{"$f":"IFERROR(VLOOKUP($B117,'LED #2'!$A$14:$S$114,K$48,0),\"\")","v":{"v":31,"d":"31.00 "}},null,{"$f":"IFERROR(VLOOKUP($B117,'LED #3'!$A$14:$S$114,M$48,0),\"\")","v":""},{"$f":"IFERROR(VLOOKUP($B117,'LED #3'!$A$14:$S$114,N$48,0),\"\")","v":""},{"$f":"IFERROR(VLOOKUP($B117,'LED #3'!$A$14:$S$114,O$48,0),\"\")","v":""},{"$f":"IFERROR(VLOOKUP($B117,'LED #3'!$A$14:$S$114,P$48,0),\"\")","v":""},null,{"$f":"IFERROR(VLOOKUP($B117,'LED #4'!$A$14:$S$114,R$48,0),\"\")","v":""},{"$f":"IFERROR(VLOOKUP($B117,'LED #4'!$A$14:$S$114,S$48,0),\"\")","v":""},{"$f":"IFERROR(VLOOKUP($B117,'LED #4'!$A$14:$S$114,T$48,0),\"\")","v":""},{"$f":"IFERROR(VLOOKUP($B117,'LED #4'!$A$14:$S$114,U$48,0),\"\")","v":""}]
[null,{"$f":"ROUND(B117+$J$4,3)","v":1.025},{"$f":"IFERROR(VLOOKUP($B118,'LED #1'!$A$14:$S$114,C$48,0),\"\")","v":""},{"$f":"IFERROR(VLOOKUP($B118,'LED #1'!$A$14:$S$114,D$48,0),\"\")","v":""},{"$f":"IFERROR(VLOOKUP($B118,'LED #1'!$A$14:$S$114,E$48,0),\"\")","v":""},{"$f":"IFERROR(VLOOKUP($B118,'LED #1'!$A$14:$S$114,F$48,0),\"\")","v":""},null,{"$f":"IFERROR(VLOOKUP($B118,'LED #2'!$A$14:$S$114,H$48,0),\"\")","v":{"v":445.4154671338017,"d":"445.42 "}},{"$f":"IFERROR(VLOOKUP($B118,'LED #2'!$A$14:$S$114,I$48,0),\"\")","v":{"v":3.082984488248854,"d":"3.08 "}},{"$f":"IFERROR(VLOOKUP($B118,'LED #2'!$A$14:$S$114,J$48,0),\"\")","v":{"v":144.47541621813326,"d":"144.48 "}},{"$f":"IFERROR(VLOOKUP($B118,'LED #2'!$A$14:$S$114,K$48,0),\"\")","v":{"v":30,"d":"30.00 "}},null,{"$f":"IFERROR(VLOOKUP($B118,'LED #3'!$A$14:$S$114,M$48,0),\"\")","v":""},{"$f":"IFERROR(VLOOKUP($B118,'LED #3'!$A$14:$S$114,N$48,0),\"\")","v":""},{"$f":"IFERROR(VLOOKUP($B118,'LED #3'!$A$14:$S$114,O$48,0),\"\")","v":""},{"$f":"IFERROR(VLOOKUP($B118,'LED #3'!$A$14:$S$114,P$48,0),\"\")","v":""},null,{"$f":"IFERROR(VLOOKUP($B118,'LED #4'!$A$14:$S$114,R$48,0),\"\")","v":""},{"$f":"IFERROR(VLOOKUP($B118,'LED #4'!$A$14:$S$114,S$48,0),\"\")","v":""},{"$f":"IFERROR(VLOOKUP($B118,'LED #4'!$A$14:$S$114,T$48,0),\"\")","v":""},{"$f":"IFERROR(VLOOKUP($B118,'LED #4'!$A$14:$S$114,U$48,0),\"\")","v":""}]
[null,{"v":1.04,"d":"1.040"},{"$f":"IFERROR(VLOOKUP($B119,'LED #1'!$A$14:$S$114,C$48,0),\"\")","v":""},{"$f":"IFERROR(VLOOKUP($B119,'LED #1'!$A$14:$S$114,D$48,0),\"\")","v":""},{"$f":"IFERROR(VLOOKUP($B119,'LED #1'!$A$14:$S$114,E$48,0),\"\")","v":""},{"$f":"IFERROR(VLOOKUP($B119,'LED #1'!$A$14:$S$114,F$48,0),\"\")","v":""},null,{"$f":"IFERROR(VLOOKUP($B119,'LED #2'!$A$14:$S$114,H$48,0),\"\")","v":{"v":450.9078943519415,"d":"450.91 "}},{"$f":"IFERROR(VLOOKUP($B119,'LED #2'!$A$14:$S$114,I$48,0),\"\")","v":{"v":3.1349364231596977,"d":"3.13 "}},{"$f":"IFERROR(VLOOKUP($B119,'LED #2'!$A$14:$S$114,J$48,0),\"\")","v":{"v":143.8331862237487,"d":"143.83 "}},{"$f":"IFERROR(VLOOKUP($B119,'LED #2'!$A$14:$S$114,K$48,0),\"\")","v":{"v":30,"d":"30.00 "}},null,{"$f":"IFERROR(VLOOKUP($B119,'LED #3'!$A$14:$S$114,M$48,0),\"\")","v":""},{"$f":"IFERROR(VLOOKUP($B119,'LED #3'!$A$14:$S$114,N$48,0),\"\")","v":""},{"$f":"IFERROR(VLOOKUP($B119,'LED #3'!$A$14:$S$114,O$48,0),\"\")","v":""},{"$f":"IFERROR(VLOOKUP($B119,'LED #3'!$A$14:$S$114,P$48,0),\"\")","v":""},null,{"$f":"IFERROR(VLOOKUP($B119,'LED #4'!$A$14:$S$114,R$48,0),\"\")","v":""},{"$f":"IFERROR(VLOOKUP($B119,'LED #4'!$A$14:$S$114,S$48,0),\"\")","v":""},{"$f":"IFERROR(VLOOKUP($B119,'LED #4'!$A$14:$S$114,T$48,0),\"\")","v":""},{"$f":"IFERROR(VLOOKUP($B119,'LED #4'!$A$14:$S$114,U$48,0),\"\")","v":""}]
[null,1.055,{"$f":"IFERROR(VLOOKUP($B120,'LED #1'!$A$14:$S$114,C$48,0),\"\")","v":""},{"$f":"IFERROR(VLOOKUP($B120,'LED #1'!$A$14:$S$114,D$48,0),\"\")","v":""},{"$f":"IFERROR(VLOOKUP($B120,'LED #1'!$A$14:$S$114,E$48,0),\"\")","v":""},{"$f":"IFERROR(VLOOKUP($B120,'LED #1'!$A$14:$S$114,F$48,0),\"\")","v":""},null,{"$f":"IFERROR(VLOOKUP($B120,'LED #2'!$A$14:$S$114,H$48,0),\"\")","v":{"v":456.37541812486035,"d":"456.38 "}},{"$f":"IFERROR(VLOOKUP($B120,'LED #2'!$A$14:$S$114,I$48,0),\"\")","v":{"v":3.1870585856921343,"d":"3.19 "}},{"$f":"IFERROR(VLOOKUP($B120,'LED #2'!$A$14:$S$114,J$48,0),\"\")","v":{"v":143.19643202471886,"d":"143.20 "}},{"$f":"IFERROR(VLOOKUP($B120,'LED #2'!$A$14:$S$114,K$48,0),\"\")","v":{"v":30,"d":"30.00 "}},null,{"$f":"IFERROR(VLOOKUP($B120,'LED #3'!$A$14:$S$114,M$48,0),\"\")","v":""},{"$f":"IFERROR(VLOOKUP($B120,'LED #3'!$A$14:$S$114,N$48,0),\"\")","v":""},{"$f":"IFERROR(VLOOKUP($B120,'LED #3'!$A$14:$S$114,O$48,0),\"\")","v":""},{"$f":"IFERROR(VLOOKUP($B120,'LED #3'!$A$14:$S$114,P$48,0),\"\")","v":""},null,{"$f":"IFERROR(VLOOKUP($B120,'LED #4'!$A$14:$S$114,R$48,0),\"\")","v":""},{"$f":"IFERROR(VLOOKUP($B120,'LED #4'!$A$14:$S$114,S$48,0),\"\")","v":""},{"$f":"IFERROR(VLOOKUP($B120,'LED #4'!$A$14:$S$114,T$48,0),\"\")","v":""},{"$f":"IFERROR(VLOOKUP($B120,'LED #4'!$A$14:$S$114,U$48,0),\"\")","v":""}]
[null,{"v":1.07,"d":"1.070"},{"$f":"IFERROR(VLOOKUP($B121,'LED #1'!$A$14:$S$114,C$48,0),\"\")","v":""},{"$f":"IFERROR(VLOOKUP($B121,'LED #1'!$A$14:$S$114,D$48,0),\"\")","v":""},{"$f":"IFERROR(VLOOKUP($B121,'LED #1'!$A$14:$S$114,E$48,0),\"\")","v":""},{"$f":"IFERROR(VLOOKUP($B121,'LED #1'!$A$14:$S$114,F$48,0),\"\")","v":""},null,{"$f":"IFERROR(VLOOKUP($B121,'LED #2'!$A$14:$S$114,H$48,0),\"\")","v":{"v":461.8181513683167,"d":"461.82 "}},{"$f":"IFERROR(VLOOKUP($B121,'LED #2'!$A$14:$S$114,I$48,0),\"\")","v":{"v":3.2393499329628455,"d":"3.24 "}},{"$f":"IFERROR(VLOOKUP($B121,'LED #2'!$A$14:$S$114,J$48,0),\"\")","v":{"v":142.56507043866003,"d":"142.57 "}},{"$f":"IFERROR(VLOOKUP($B121,'LED #2'!$A$14:$S$114,K$48,0),\"\")","v":{"v":29,"d":"29.00 "}},null,{"$f":"IFERROR(VLOOKUP($B121,'LED #3'!$A$14:$S$114,M$48,0),\"\")","v":""},{"$f":"IFERROR(VLOOKUP($B121,'LED #3'!$A$14:$S$114,N$48,0),\"\")","v":""},{"$f":"IFERROR(VLOOKUP($B121,'LED #3'!$A$14:$S$114,O$48,0),\"\")","v":""},{"$f":"IFERROR(VLOOKUP($B121,'LED #3'!$A$14:$S$114,P$48,0),\"\")","v":""},null,{"$f":"IFERROR(VLOOKUP($B121,'LED #4'!$A$14:$S$114,R$48,0),\"\")","v":""},{"$f":"IFERROR(VLOOKUP($B121,'LED #4'!$A$14:$S$114,S$48,0),\"\")","v":""},{"$f":"IFERROR(VLOOKUP($B121,'LED #4'!$A$14:$S$114,T$48,0),\"\")","v":""},{"$f":"IFERROR(VLOOKUP($B121,'LED #4'!$A$14:$S$114,U$48,0),\"\")","v":""}]
[null,1.085,{"$f":"IFERROR(VLOOKUP($B122,'LED #1'!$A$14:$S$114,C$48,0),\"\")","v":""},{"$f":"IFERROR(VLOOKUP($B122,'LED #1'!$A$14:$S$114,D$48,0),\"\")","v":""},{"$f":"IFERROR(VLOOKUP($B122,'LED #1'!$A$14:$S$114,E$48,0),\"\")","v":""},{"$f":"IFERROR(VLOOKUP($B122,'LED #1'!$A$14:$S$114,F$48,0),\"\")","v":""},null,{"$f":"IFERROR(VLOOKUP($B122,'LED #2'!$A$14:$S$114,H$48,0),\"\")","v":{"v":467.23620648609295,"d":"467.24 "}},{"$f":"IFERROR(VLOOKUP($B122,'LED #2'!$A$14:$S$114,I$48,0),\"\")","v":{"v":3.2918094276225562,"d":"3.29 "}},{"$f":"IFERROR(VLOOKUP($B122,'LED #2'!$A$14:$S$114,J$48,0),\"\")","v":{"v":141.9390206994896,"d":"141.94 "}},{"$f":"IFERROR(VLOOKUP($B122,'LED #2'!$A$14:$S$114,K$48,0),\"\")","v":{"v":29,"d":"29.00 "}},null,{"$f":"IFERROR(VLOOKUP($B122,'LED #3'!$A$14:$S$114,M$48,0),\"\")","v":""},{"$f":"IFERROR(VLOOKUP($B122,'LED #3'!$A$14:$S$114,N$48,0),\"\")","v":""},{"$f":"IFERROR(VLOOKUP($B122,'LED #3'!$A$14:$S$114,O$48,0),\"\")","v":""},{"$f":"IFERROR(VLOOKUP($B122,'LED #3'!$A$14:$S$114,P$48,0),\"\")","v":""},null,{"$f":"IFERROR(VLOOKUP($B122,'LED #4'!$A$14:$S$114,R$48,0),\"\")","v":""},{"$f":"IFERROR(VLOOKUP($B122,'LED #4'!$A$14:$S$114,S$48,0),\"\")","v":""},{"$f":"IFERROR(VLOOKUP($B122,'LED #4'!$A$14:$S$114,T$48,0),\"\")","v":""},{"$f":"IFERROR(VLOOKUP($B122,'LED #4'!$A$14:$S$114,U$48,0),\"\")","v":""}]
[null,{"v":1.1,"d":"1.100"},{"$f":"IFERROR(VLOOKUP($B123,'LED #1'!$A$14:$S$114,C$48,0),\"\")","v":""},{"$f":"IFERROR(VLOOKUP($B123,'LED #1'!$A$14:$S$114,D$48,0),\"\")","v":""},{"$f":"IFERROR(VLOOKUP($B123,'LED #1'!$A$14:$S$114,E$48,0),\"\")","v":""},{"$f":"IFERROR(VLOOKUP($B123,'LED #1'!$A$14:$S$114,F$48,0),\"\")","v":""},null,{"$f":"IFERROR(VLOOKUP($B123,'LED #2'!$A$14:$S$114,H$48,0),\"\")","v":{"v":472.6296953723161,"d":"472.63 "}},{"$f":"IFERROR(VLOOKUP($B123,'LED #2'!$A$14:$S$114,I$48,0),\"\")","v":{"v":3.344436037828766,"d":"3.34 "}},{"$f":"IFERROR(VLOOKUP($B123,'LED #2'!$A$14:$S$114,J$48,0),\"\")","v":{"v":141.31820433293473,"d":"141.32 "}},{"$f":"IFERROR(VLOOKUP($B123,'LED #2'!$A$14:$S$114,K$48,0),\"\")","v":{"v":29,"d":"29.00 "}},null,{"$f":"IFERROR(VLOOKUP($B123,'LED #3'!$A$14:$S$114,M$48,0),\"\")","v":""},{"$f":"IFERROR(VLOOKUP($B123,'LED #3'!$A$14:$S$114,N$48,0),\"\")","v":""},{"$f":"IFERROR(VLOOKUP($B123,'LED #3'!$A$14:$S$114,O$48,0),\"\")","v":""},{"$f":"IFERROR(VLOOKUP($B123,'LED #3'!$A$14:$S$114,P$48,0),\"\")","v":""},null,{"$f":"IFERROR(VLOOKUP($B123,'LED #4'!$A$14:$S$114,R$48,0),\"\")","v":""},{"$f":"IFERROR(VLOOKUP($B123,'LED #4'!$A$14:$S$114,S$48,0),\"\")","v":""},{"$f":"IFERROR(VLOOKUP($B123,'LED #4'!$A$14:$S$114,T$48,0),\"\")","v":""},{"$f":"IFERROR(VLOOKUP($B123,'LED #4'!$A$14:$S$114,U$48,0),\"\")","v":""}]
[null,1.115,{"$f":"IFERROR(VLOOKUP($B124,'LED #1'!$A$14:$S$114,C$48,0),\"\")","v":""},{"$f":"IFERROR(VLOOKUP($B124,'LED #1'!$A$14:$S$114,D$48,0),\"\")","v":""},{"$f":"IFERROR(VLOOKUP($B124,'LED #1'!$A$14:$S$114,E$48,0),\"\")","v":""},{"$f":"IFERROR(VLOOKUP($B124,'LED #1'!$A$14:$S$114,F$48,0),\"\")","v":""},null,{"$f":"IFERROR(VLOOKUP($B124,'LED #2'!$A$14:$S$114,H$48,0),\"\")","v":{"v":477.9987294137699,"d":"478.00 "}},{"$f":"IFERROR(VLOOKUP($B124,'LED #2'!$A$14:$S$114,I$48,0),\"\")","v":{"v":3.397228737218626,"d":"3.40 "}},{"$f":"IFERROR(VLOOKUP($B124,'LED #2'!$A$14:$S$114,J$48,0),\"\")","v":{"v":140.70254504120211,"d":"140.70 "}},{"$f":"IFERROR(VLOOKUP($B124,'LED #2'!$A$14:$S$114,K$48,0),\"\")","v":{"v":28,"d":"28.00 "}},null,{"$f":"IFERROR(VLOOKUP($B124,'LED #3'!$A$14:$S$114,M$48,0),\"\")","v":""},{"$f":"IFERROR(VLOOKUP($B124,'LED #3'!$A$14:$S$114,N$48,0),\"\")","v":""},{"$f":"IFERROR(VLOOKUP($B124,'LED #3'!$A$14:$S$114,O$48,0),\"\")","v":""},{"$f":"IFERROR(VLOOKUP($B124,'LED #3'!$A$14:$S$114,P$48,0),\"\")","v":""},null,{"$f":"IFERROR(VLOOKUP($B124,'LED #4'!$A$14:$S$114,R$48,0),\"\")","v":""},{"$f":"IFERROR(VLOOKUP($B124,'LED #4'!$A$14:$S$114,S$48,0),\"\")","v":""},{"$f":"IFERROR(VLOOKUP($B124,'LED #4'!$A$14:$S$114,T$48,0),\"\")","v":""},{"$f":"IFERROR(VLOOKUP($B124,'LED #4'!$A$14:$S$114,U$48,0),\"\")","v":""}]
[null,{"v":1.13,"d":"1.130"},{"$f":"IFERROR(VLOOKUP($B125,'LED #1'!$A$14:$S$114,C$48,0),\"\")","v":""},{"$f":"IFERROR(VLOOKUP($B125,'LED #1'!$A$14:$S$114,D$48,0),\"\")","v":""},{"$f":"IFERROR(VLOOKUP($B125,'LED #1'!$A$14:$S$114,E$48,0),\"\")","v":""},{"$f":"IFERROR(VLOOKUP($B125,'LED #1'!$A$14:$S$114,F$48,0),\"\")","v":""},null,{"$f":"IFERROR(VLOOKUP($B125,'LED #2'!$A$14:$S$114,H$48,0),\"\")","v":{"v":483.34341949219464,"d":"483.34 "}},{"$f":"IFERROR(VLOOKUP($B125,'LED #2'!$A$14:$S$114,I$48,0),\"\")","v":{"v":3.4501865048819313,"d":"3.45 "}},{"$f":"IFERROR(VLOOKUP($B125,'LED #2'!$A$14:$S$114,J$48,0),\"\")","v":{"v":140.09196859598032,"d":"140.09 "}},{"$f":"IFERROR(VLOOKUP($B125,'LED #2'!$A$14:$S$114,K$48,0),\"\")","v":{"v":28,"d":"28.00 "}},null,{"$f":"IFERROR(VLOOKUP($B125,'LED #3'!$A$14:$S$114,M$48,0),\"\")","v":""},{"$f":"IFERROR(VLOOKUP($B125,'LED #3'!$A$14:$S$114,N$48,0),\"\")","v":""},{"$f":"IFERROR(VLOOKUP($B125,'LED #3'!$A$14:$S$114,O$48,0),\"\")","v":""},{"$f":"IFERROR(VLOOKUP($B125,'LED #3'!$A$14:$S$114,P$48,0),\"\")","v":""},null,{"$f":"IFERROR(VLOOKUP($B125,'LED #4'!$A$14:$S$114,R$48,0),\"\")","v":""},{"$f":"IFERROR(VLOOKUP($B125,'LED #4'!$A$14:$S$114,S$48,0),\"\")","v":""},{"$f":"IFERROR(VLOOKUP($B125,'LED #4'!$A$14:$S$114,T$48,0),\"\")","v":""},{"$f":"IFERROR(VLOOKUP($B125,'LED #4'!$A$14:$S$114,U$48,0),\"\")","v":""}]
[null,1.145,{"$f":"IFERROR(VLOOKUP($B126,'LED #1'!$A$14:$S$114,C$48,0),\"\")","v":""},{"$f":"IFERROR(VLOOKUP($B126,'LED #1'!$A$14:$S$114,D$48,0),\"\")","v":""},{"$f":"IFERROR(VLOOKUP($B126,'LED #1'!$A$14:$S$114,E$48,0),\"\")","v":""},{"$f":"IFERROR(VLOOKUP($B126,'LED #1'!$A$14:$S$114,F$48,0),\"\")","v":""},null,{"$f":"IFERROR(VLOOKUP($B126,'LED #2'!$A$14:$S$114,H$48,0),\"\")","v":{"v":488.66387598657644,"d":"488.66 "}},{"$f":"IFERROR(VLOOKUP($B126,'LED #2'!$A$14:$S$114,I$48,0),\"\")","v":{"v":3.5033083253342467,"d":"3.50 "}},{"$f":"IFERROR(VLOOKUP($B126,'LED #2'!$A$14:$S$114,J$48,0),\"\")","v":{"v":139.486402739032,"d":"139.49 "}},{"$f":"IFERROR(VLOOKUP($B126,'LED #2'!$A$14:$S$114,K$48,0),\"\")","v":{"v":28,"d":"28.00 "}},null,{"$f":"IFERROR(VLOOKUP($B126,'LED #3'!$A$14:$S$114,M$48,0),\"\")","v":""},{"$f":"IFERROR(VLOOKUP($B126,'LED #3'!$A$14:$S$114,N$48,0),\"\")","v":""},{"$f":"IFERROR(VLOOKUP($B126,'LED #3'!$A$14:$S$114,O$48,0),\"\")","v":""},{"$f":"IFERROR(VLOOKUP($B126,'LED #3'!$A$14:$S$114,P$48,0),\"\")","v":""},null,{"$f":"IFERROR(VLOOKUP($B126,'LED #4'!$A$14:$S$114,R$48,0),\"\")","v":""},{"$f":"IFERROR(VLOOKUP($B126,'LED #4'!$A$14:$S$114,S$48,0),\"\")","v":""},{"$f":"IFERROR(VLOOKUP($B126,'LED #4'!$A$14:$S$114,T$48,0),\"\")","v":""},{"$f":"IFERROR(VLOOKUP($B126,'LED #4'!$A$14:$S$114,U$48,0),\"\")","v":""}]
[null,{"v":1.16,"d":"1.160"},{"$f":"IFERROR(VLOOKUP($B127,'LED #1'!$A$14:$S$114,C$48,0),\"\")","v":""},{"$f":"IFERROR(VLOOKUP($B127,'LED #1'!$A$14:$S$114,D$48,0),\"\")","v":""},{"$f":"IFERROR(VLOOKUP($B127,'LED #1'!$A$14:$S$114,E$48,0),\"\")","v":""},{"$f":"IFERROR(VLOOKUP($B127,'LED #1'!$A$14:$S$114,F$48,0),\"\")","v":""},null,{"$f":"IFERROR(VLOOKUP($B127,'LED #2'!$A$14:$S$114,H$48,0),\"\")","v":{"v":493.9602087754279,"d":"493.96 "}},{"$f":"IFERROR(VLOOKUP($B127,'LED #2'!$A$14:$S$114,I$48,0),\"\")","v":{"v":3.5565931884901523,"d":"3.56 "}},{"$f":"IFERROR(VLOOKUP($B127,'LED #2'!$A$14:$S$114,J$48,0),\"\")","v":{"v":138.885777089711,"d":"138.89 "}},{"$f":"IFERROR(VLOOKUP($B127,'LED #2'!$A$14:$S$114,K$48,0),\"\")","v":{"v":27,"d":"27.00 "}},null,{"$f":"IFERROR(VLOOKUP($B127,'LED #3'!$A$14:$S$114,M$48,0),\"\")","v":""},{"$f":"IFERROR(VLOOKUP($B127,'LED #3'!$A$14:$S$114,N$48,0),\"\")","v":""},{"$f":"IFERROR(VLOOKUP($B127,'LED #3'!$A$14:$S$114,O$48,0),\"\")","v":""},{"$f":"IFERROR(VLOOKUP($B127,'LED #3'!$A$14:$S$114,P$48,0),\"\")","v":""},null,{"$f":"IFERROR(VLOOKUP($B127,'LED #4'!$A$14:$S$114,R$48,0),\"\")","v":""},{"$f":"IFERROR(VLOOKUP($B127,'LED #4'!$A$14:$S$114,S$48,0),\"\")","v":""},{"$f":"IFERROR(VLOOKUP($B127,'LED #4'!$A$14:$S$114,T$48,0),\"\")","v":""},{"$f":"IFERROR(VLOOKUP($B127,'LED #4'!$A$14:$S$114,U$48,0),\"\")","v":""}]
[null,1.175,{"$f":"IFERROR(VLOOKUP($B128,'LED #1'!$A$14:$S$114,C$48,0),\"\")","v":""},{"$f":"IFERROR(VLOOKUP($B128,'LED #1'!$A$14:$S$114,D$48,0),\"\")","v":""},{"$f":"IFERROR(VLOOKUP($B128,'LED #1'!$A$14:$S$114,E$48,0),\"\")","v":""},{"$f":"IFERROR(VLOOKUP($B128,'LED #1'!$A$14:$S$114,F$48,0),\"\")","v":""},null,{"$f":"IFERROR(VLOOKUP($B128,'LED #2'!$A$14:$S$114,H$48,0),\"\")","v":{"v":499.2325272390568,"d":"499.23 "}},{"$f":"IFERROR(VLOOKUP($B128,'LED #2'!$A$14:$S$114,I$48,0),\"\")","v":{"v":3.610040089636625,"d":"3.61 "}},{"$f":"IFERROR(VLOOKUP($B128,'LED #2'!$A$14:$S$114,J$48,0),\"\")","v":{"v":138.2900230588043,"d":"138.29 "}},{"$f":"IFERROR(VLOOKUP($B128,'LED #2'!$A$14:$S$114,K$48,0),\"\")","v":{"v":27,"d":"27.00 "}},null,{"$f":"IFERROR(VLOOKUP($B128,'LED #3'!$A$14:$S$114,M$48,0),\"\")","v":""},{"$f":"IFERROR(VLOOKUP($B128,'LED #3'!$A$14:$S$114,N$48,0),\"\")","v":""},{"$f":"IFERROR(VLOOKUP($B128,'LED #3'!$A$14:$S$114,O$48,0),\"\")","v":""},{"$f":"IFERROR(VLOOKUP($B128,'LED #3'!$A$14:$S$114,P$48,0),\"\")","v":""},null,{"$f":"IFERROR(VLOOKUP($B128,'LED #4'!$A$14:$S$114,R$48,0),\"\")","v":""},{"$f":"IFERROR(VLOOKUP($B128,'LED #4'!$A$14:$S$114,S$48,0),\"\")","v":""},{"$f":"IFERROR(VLOOKUP($B128,'LED #4'!$A$14:$S$114,T$48,0),\"\")","v":""},{"$f":"IFERROR(VLOOKUP($B128,'LED #4'!$A$14:$S$114,U$48,0),\"\")","v":""}]
[null,{"v":1.19,"d":"1.190"},{"$f":"IFERROR(VLOOKUP($B129,'LED #1'!$A$14:$S$114,C$48,0),\"\")","v":""},{"$f":"IFERROR(VLOOKUP($B129,'LED #1'!$A$14:$S$114,D$48,0),\"\")","v":""},{"$f":"IFERROR(VLOOKUP($B129,'LED #1'!$A$14:$S$114,E$48,0),\"\")","v":""},{"$f":"IFERROR(VLOOKUP($B129,'LED #1'!$A$14:$S$114,F$48,0),\"\")","v":""},null,{"$f":"IFERROR(VLOOKUP($B129,'LED #2'!$A$14:$S$114,H$48,0),\"\")","v":{"v":504.480940261825,"d":"504.48 "}},{"$f":"IFERROR(VLOOKUP($B129,'LED #2'!$A$14:$S$114,I$48,0),\"\")","v":{"v":3.663648029406538,"d":"3.66 "}},{"$f":"IFERROR(VLOOKUP($B129,'LED #2'!$A$14:$S$114,J$48,0),\"\")","v":{"v":137.69907376816005,"d":"137.70 "}},{"$f":"IFERROR(VLOOKUP($B129,'LED #2'!$A$14:$S$114,K$48,0),\"\")","v":{"v":27,"d":"27.00 "}},null,{"$f":"IFERROR(VLOOKUP($B129,'LED #3'!$A$14:$S$114,M$48,0),\"\")","v":""},{"$f":"IFERROR(VLOOKUP($B129,'LED #3'!$A$14:$S$114,N$48,0),\"\")","v":""},{"$f":"IFERROR(VLOOKUP($B129,'LED #3'!$A$14:$S$114,O$48,0),\"\")","v":""},{"$f":"IFERROR(VLOOKUP($B129,'LED #3'!$A$14:$S$114,P$48,0),\"\")","v":""},null,{"$f":"IFERROR(VLOOKUP($B129,'LED #4'!$A$14:$S$114,R$48,0),\"\")","v":""},{"$f":"IFERROR(VLOOKUP($B129,'LED #4'!$A$14:$S$114,S$48,0),\"\")","v":""},{"$f":"IFERROR(VLOOKUP($B129,'LED #4'!$A$14:$S$114,T$48,0),\"\")","v":""},{"$f":"IFERROR(VLOOKUP($B129,'LED #4'!$A$14:$S$114,U$48,0),\"\")","v":""}]
[null,1.205,{"$f":"IFERROR(VLOOKUP($B130,'LED #1'!$A$14:$S$114,C$48,0),\"\")","v":""},{"$f":"IFERROR(VLOOKUP($B130,'LED #1'!$A$14:$S$114,D$48,0),\"\")","v":""},{"$f":"IFERROR(VLOOKUP($B130,'LED #1'!$A$14:$S$114,E$48,0),\"\")","v":""},{"$f":"IFERROR(VLOOKUP($B130,'LED #1'!$A$14:$S$114,F$48,0),\"\")","v":""},null,{"$f":"IFERROR(VLOOKUP($B130,'LED #2'!$A$14:$S$114,H$48,0),\"\")","v":{"v":509.70555623439714,"d":"509.71 "}},{"$f":"IFERROR(VLOOKUP($B130,'LED #2'!$A$14:$S$114,I$48,0),\"\")","v":{"v":3.7174160137522883,"d":"3.72 "}},{"$f":"IFERROR(VLOOKUP($B130,'LED #2'!$A$14:$S$114,J$48,0),\"\")","v":{"v":137.1128639756168,"d":"137.11 "}},{"$f":"IFERROR(VLOOKUP($B130,'LED #2'!$A$14:$S$114,K$48,0),\"\")","v":{"v":27,"d":"27.00 "}},null,{"$f":"IFERROR(VLOOKUP($B130,'LED #3'!$A$14:$S$114,M$48,0),\"\")","v":""},{"$f":"IFERROR(VLOOKUP($B130,'LED #3'!$A$14:$S$114,N$48,0),\"\")","v":""},{"$f":"IFERROR(VLOOKUP($B130,'LED #3'!$A$14:$S$114,O$48,0),\"\")","v":""},{"$f":"IFERROR(VLOOKUP($B130,'LED #3'!$A$14:$S$114,P$48,0),\"\")","v":""},null,{"$f":"IFERROR(VLOOKUP($B130,'LED #4'!$A$14:$S$114,R$48,0),\"\")","v":""},{"$f":"IFERROR(VLOOKUP($B130,'LED #4'!$A$14:$S$114,S$48,0),\"\")","v":""},{"$f":"IFERROR(VLOOKUP($B130,'LED #4'!$A$14:$S$114,T$48,0),\"\")","v":""},{"$f":"IFERROR(VLOOKUP($B130,'LED #4'!$A$14:$S$114,U$48,0),\"\")","v":""}]
[null,{"v":1.22,"d":"1.220"},{"$f":"IFERROR(VLOOKUP($B131,'LED #1'!$A$14:$S$114,C$48,0),\"\")","v":""},{"$f":"IFERROR(VLOOKUP($B131,'LED #1'!$A$14:$S$114,D$48,0),\"\")","v":""},{"$f":"IFERROR(VLOOKUP($B131,'LED #1'!$A$14:$S$114,E$48,0),\"\")","v":""},{"$f":"IFERROR(VLOOKUP($B131,'LED #1'!$A$14:$S$114,F$48,0),\"\")","v":""},null,{"$f":"IFERROR(VLOOKUP($B131,'LED #2'!$A$14:$S$114,H$48,0),\"\")","v":{"v":514.9064830559793,"d":"514.91 "}},{"$f":"IFERROR(VLOOKUP($B131,'LED #2'!$A$14:$S$114,I$48,0),\"\")","v":{"v":3.7713430539195407,"d":"3.77 "}},{"$f":"IFERROR(VLOOKUP($B131,'LED #2'!$A$14:$S$114,J$48,0),\"\")","v":{"v":136.53133000479474,"d":"136.53 "}},{"$f":"IFERROR(VLOOKUP($B131,'LED #2'!$A$14:$S$114,K$48,0),\"\")","v":{"v":26,"d":"26.00 "}},null,{"$f":"IFERROR(VLOOKUP($B131,'LED #3'!$A$14:$S$114,M$48,0),\"\")","v":""},{"$f":"IFERROR(VLOOKUP($B131,'LED #3'!$A$14:$S$114,N$48,0),\"\")","v":""},{"$f":"IFERROR(VLOOKUP($B131,'LED #3'!$A$14:$S$114,O$48,0),\"\")","v":""},{"$f":"IFERROR(VLOOKUP($B131,'LED #3'!$A$14:$S$114,P$48,0),\"\")","v":""},null,{"$f":"IFERROR(VLOOKUP($B131,'LED #4'!$A$14:$S$114,R$48,0),\"\")","v":""},{"$f":"IFERROR(VLOOKUP($B131,'LED #4'!$A$14:$S$114,S$48,0),\"\")","v":""},{"$f":"IFERROR(VLOOKUP($B131,'LED #4'!$A$14:$S$114,T$48,0),\"\")","v":""},{"$f":"IFERROR(VLOOKUP($B131,'LED #4'!$A$14:$S$114,U$48,0),\"\")","v":""}]
[null,1.235,{"$f":"IFERROR(VLOOKUP($B132,'LED #1'!$A$14:$S$114,C$48,0),\"\")","v":""},{"$f":"IFERROR(VLOOKUP($B132,'LED #1'!$A$14:$S$114,D$48,0),\"\")","v":""},{"$f":"IFERROR(VLOOKUP($B132,'LED #1'!$A$14:$S$114,E$48,0),\"\")","v":""},{"$f":"IFERROR(VLOOKUP($B132,'LED #1'!$A$14:$S$114,F$48,0),\"\")","v":""},null,{"$f":"IFERROR(VLOOKUP($B132,'LED #2'!$A$14:$S$114,H$48,0),\"\")","v":{"v":520.0838281365473,"d":"520.08 "}},{"$f":"IFERROR(VLOOKUP($B132,'LED #2'!$A$14:$S$114,I$48,0),\"\")","v":{"v":3.825428166421115,"d":"3.83 "}},{"$f":"IFERROR(VLOOKUP($B132,'LED #2'!$A$14:$S$114,J$48,0),\"\")","v":{"v":135.95440967935164,"d":"135.95 "}},{"$f":"IFERROR(VLOOKUP($B132,'LED #2'!$A$14:$S$114,K$48,0),\"\")","v":{"v":26,"d":"26.00 "}},null,{"$f":"IFERROR(VLOOKUP($B132,'LED #3'!$A$14:$S$114,M$48,0),\"\")","v":""},{"$f":"IFERROR(VLOOKUP($B132,'LED #3'!$A$14:$S$114,N$48,0),\"\")","v":""},{"$f":"IFERROR(VLOOKUP($B132,'LED #3'!$A$14:$S$114,O$48,0),\"\")","v":""},{"$f":"IFERROR(VLOOKUP($B132,'LED #3'!$A$14:$S$114,P$48,0),\"\")","v":""},null,{"$f":"IFERROR(VLOOKUP($B132,'LED #4'!$A$14:$S$114,R$48,0),\"\")","v":""},{"$f":"IFERROR(VLOOKUP($B132,'LED #4'!$A$14:$S$114,S$48,0),\"\")","v":""},{"$f":"IFERROR(VLOOKUP($B132,'LED #4'!$A$14:$S$114,T$48,0),\"\")","v":""},{"$f":"IFERROR(VLOOKUP($B132,'LED #4'!$A$14:$S$114,U$48,0),\"\")","v":""}]
[null,{"v":1.25,"d":"1.250"},{"$f":"IFERROR(VLOOKUP($B133,'LED #1'!$A$14:$S$114,C$48,0),\"\")","v":""},{"$f":"IFERROR(VLOOKUP($B133,'LED #1'!$A$14:$S$114,D$48,0),\"\")","v":""},{"$f":"IFERROR(VLOOKUP($B133,'LED #1'!$A$14:$S$114,E$48,0),\"\")","v":""},{"$f":"IFERROR(VLOOKUP($B133,'LED #1'!$A$14:$S$114,F$48,0),\"\")","v":""},null,{"$f":"IFERROR(VLOOKUP($B133,'LED #2'!$A$14:$S$114,H$48,0),\"\")","v":{"v":525.2376983990645,"d":"525.24 "}},{"$f":"IFERROR(VLOOKUP($B133,'LED #2'!$A$14:$S$114,I$48,0),\"\")","v":{"v":3.8796703730109696,"d":"3.88 "}},{"$f":"IFERROR(VLOOKUP($B133,'LED #2'!$A$14:$S$114,J$48,0),\"\")","v":{"v":135.38204226134636,"d":"135.38 "}},{"$f":"IFERROR(VLOOKUP($B133,'LED #2'!$A$14:$S$114,K$48,0),\"\")","v":{"v":26,"d":"26.00 "}},null,{"$f":"IFERROR(VLOOKUP($B133,'LED #3'!$A$14:$S$114,M$48,0),\"\")","v":""},{"$f":"IFERROR(VLOOKUP($B133,'LED #3'!$A$14:$S$114,N$48,0),\"\")","v":""},{"$f":"IFERROR(VLOOKUP($B133,'LED #3'!$A$14:$S$114,O$48,0),\"\")","v":""},{"$f":"IFERROR(VLOOKUP($B133,'LED #3'!$A$14:$S$114,P$48,0),\"\")","v":""},null,{"$f":"IFERROR(VLOOKUP($B133,'LED #4'!$A$14:$S$114,R$48,0),\"\")","v":""},{"$f":"IFERROR(VLOOKUP($B133,'LED #4'!$A$14:$S$114,S$48,0),\"\")","v":""},{"$f":"IFERROR(VLOOKUP($B133,'LED #4'!$A$14:$S$114,T$48,0),\"\")","v":""},{"$f":"IFERROR(VLOOKUP($B133,'LED #4'!$A$14:$S$114,U$48,0),\"\")","v":""}]
[null,1.265,{"$f":"IFERROR(VLOOKUP($B134,'LED #1'!$A$14:$S$114,C$48,0),\"\")","v":""},{"$f":"IFERROR(VLOOKUP($B134,'LED #1'!$A$14:$S$114,D$48,0),\"\")","v":""},{"$f":"IFERROR(VLOOKUP($B134,'LED #1'!$A$14:$S$114,E$48,0),\"\")","v":""},{"$f":"IFERROR(VLOOKUP($B134,'LED #1'!$A$14:$S$114,F$48,0),\"\")","v":""},null,{"$f":"IFERROR(VLOOKUP($B134,'LED #2'!$A$14:$S$114,H$48,0),\"\")","v":{"v":530.3682002816905,"d":"530.37 "}},{"$f":"IFERROR(VLOOKUP($B134,'LED #2'!$A$14:$S$114,I$48,0),\"\")","v":{"v":3.9340687006583277,"d":"3.93 "}},{"$f":"IFERROR(VLOOKUP($B134,'LED #2'!$A$14:$S$114,J$48,0),\"\")","v":{"v":134.8141683933833,"d":"134.81 "}},{"$f":"IFERROR(VLOOKUP($B134,'LED #2'!$A$14:$S$114,K$48,0),\"\")","v":{"v":26,"d":"26.00 "}},null,{"$f":"IFERROR(VLOOKUP($B134,'LED #3'!$A$14:$S$114,M$48,0),\"\")","v":""},{"$f":"IFERROR(VLOOKUP($B134,'LED #3'!$A$14:$S$114,N$48,0),\"\")","v":""},{"$f":"IFERROR(VLOOKUP($B134,'LED #3'!$A$14:$S$114,O$48,0),\"\")","v":""},{"$f":"IFERROR(VLOOKUP($B134,'LED #3'!$A$14:$S$114,P$48,0),\"\")","v":""},null,{"$f":"IFERROR(VLOOKUP($B134,'LED #4'!$A$14:$S$114,R$48,0),\"\")","v":""},{"$f":"IFERROR(VLOOKUP($B134,'LED #4'!$A$14:$S$114,S$48,0),\"\")","v":""},{"$f":"IFERROR(VLOOKUP($B134,'LED #4'!$A$14:$S$114,T$48,0),\"\")","v":""},{"$f":"IFERROR(VLOOKUP($B134,'LED #4'!$A$14:$S$114,U$48,0),\"\")","v":""}]
[null,{"v":1.28,"d":"1.280"},{"$f":"IFERROR(VLOOKUP($B135,'LED #1'!$A$14:$S$114,C$48,0),\"\")","v":""},{"$f":"IFERROR(VLOOKUP($B135,'LED #1'!$A$14:$S$114,D$48,0),\"\")","v":""},{"$f":"IFERROR(VLOOKUP($B135,'LED #1'!$A$14:$S$114,E$48,0),\"\")","v":""},{"$f":"IFERROR(VLOOKUP($B135,'LED #1'!$A$14:$S$114,F$48,0),\"\")","v":""},null,{"$f":"IFERROR(VLOOKUP($B135,'LED #2'!$A$14:$S$114,H$48,0),\"\")","v":{"v":535.4754397399796,"d":"535.48 "}},{"$f":"IFERROR(VLOOKUP($B135,'LED #2'!$A$14:$S$114,I$48,0),\"\")","v":{"v":3.9886221815219223,"d":"3.99 "}},{"$f":"IFERROR(VLOOKUP($B135,'LED #2'!$A$14:$S$114,J$48,0),\"\")","v":{"v":134.2507300442431,"d":"134.25 "}},{"$f":"IFERROR(VLOOKUP($B135,'LED #2'!$A$14:$S$114,K$48,0),\"\")","v":{"v":25,"d":"25.00 "}},null,{"$f":"IFERROR(VLOOKUP($B135,'LED #3'!$A$14:$S$114,M$48,0),\"\")","v":""},{"$f":"IFERROR(VLOOKUP($B135,'LED #3'!$A$14:$S$114,N$48,0),\"\")","v":""},{"$f":"IFERROR(VLOOKUP($B135,'LED #3'!$A$14:$S$114,O$48,0),\"\")","v":""},{"$f":"IFERROR(VLOOKUP($B135,'LED #3'!$A$14:$S$114,P$48,0),\"\")","v":""},null,{"$f":"IFERROR(VLOOKUP($B135,'LED #4'!$A$14:$S$114,R$48,0),\"\")","v":""},{"$f":"IFERROR(VLOOKUP($B135,'LED #4'!$A$14:$S$114,S$48,0),\"\")","v":""},{"$f":"IFERROR(VLOOKUP($B135,'LED #4'!$A$14:$S$114,T$48,0),\"\")","v":""},{"$f":"IFERROR(VLOOKUP($B135,'LED #4'!$A$14:$S$114,U$48,0),\"\")","v":""}]
[null,1.295,{"$f":"IFERROR(VLOOKUP($B136,'LED #1'!$A$14:$S$114,C$48,0),\"\")","v":""},{"$f":"IFERROR(VLOOKUP($B136,'LED #1'!$A$14:$S$114,D$48,0),\"\")","v":""},{"$f":"IFERROR(VLOOKUP($B136,'LED #1'!$A$14:$S$114,E$48,0),\"\")","v":""},{"$f":"IFERROR(VLOOKUP($B136,'LED #1'!$A$14:$S$114,F$48,0),\"\")","v":""},null,{"$f":"IFERROR(VLOOKUP($B136,'LED #2'!$A$14:$S$114,H$48,0),\"\")","v":{"v":540.5595222490681,"d":"540.56 "}},{"$f":"IFERROR(VLOOKUP($B136,'LED #2'!$A$14:$S$114,I$48,0),\"\")","v":{"v":4.043329852924352,"d":"4.04 "}},{"$f":"IFERROR(VLOOKUP($B136,'LED #2'!$A$14:$S$114,J$48,0),\"\")","v":{"v":133.6916704577309,"d":"133.69 "}},{"$f":"IFERROR(VLOOKUP($B136,'LED #2'!$A$14:$S$114,K$48,0),\"\")","v":{"v":25,"d":"25.00 "}},null,{"$f":"IFERROR(VLOOKUP($B136,'LED #3'!$A$14:$S$114,M$48,0),\"\")","v":""},{"$f":"IFERROR(VLOOKUP($B136,'LED #3'!$A$14:$S$114,N$48,0),\"\")","v":""},{"$f":"IFERROR(VLOOKUP($B136,'LED #3'!$A$14:$S$114,O$48,0),\"\")","v":""},{"$f":"IFERROR(VLOOKUP($B136,'LED #3'!$A$14:$S$114,P$48,0),\"\")","v":""},null,{"$f":"IFERROR(VLOOKUP($B136,'LED #4'!$A$14:$S$114,R$48,0),\"\")","v":""},{"$f":"IFERROR(VLOOKUP($B136,'LED #4'!$A$14:$S$114,S$48,0),\"\")","v":""},{"$f":"IFERROR(VLOOKUP($B136,'LED #4'!$A$14:$S$114,T$48,0),\"\")","v":""},{"$f":"IFERROR(VLOOKUP($B136,'LED #4'!$A$14:$S$114,U$48,0),\"\")","v":""}]
[null,{"v":1.31,"d":"1.310"},{"$f":"IFERROR(VLOOKUP($B137,'LED #1'!$A$14:$S$114,C$48,0),\"\")","v":""},{"$f":"IFERROR(VLOOKUP($B137,'LED #1'!$A$14:$S$114,D$48,0),\"\")","v":""},{"$f":"IFERROR(VLOOKUP($B137,'LED #1'!$A$14:$S$114,E$48,0),\"\")","v":""},{"$f":"IFERROR(VLOOKUP($B137,'LED #1'!$A$14:$S$114,F$48,0),\"\")","v":""},null,{"$f":"IFERROR(VLOOKUP($B137,'LED #2'!$A$14:$S$114,H$48,0),\"\")","v":{"v":545.6205528058531,"d":"545.62 "}},{"$f":"IFERROR(VLOOKUP($B137,'LED #2'!$A$14:$S$114,I$48,0),\"\")","v":{"v":4.098190757326573,"d":"4.10 "}},{"$f":"IFERROR(VLOOKUP($B137,'LED #2'!$A$14:$S$114,J$48,0),\"\")","v":{"v":133.13693410449858,"d":"133.14 "}},{"$f":"IFERROR(VLOOKUP($B137,'LED #2'!$A$14:$S$114,K$48,0),\"\")","v":{"v":25,"d":"25.00 "}},null,{"$f":"IFERROR(VLOOKUP($B137,'LED #3'!$A$14:$S$114,M$48,0),\"\")","v":""},{"$f":"IFERROR(VLOOKUP($B137,'LED #3'!$A$14:$S$114,N$48,0),\"\")","v":""},{"$f":"IFERROR(VLOOKUP($B137,'LED #3'!$A$14:$S$114,O$48,0),\"\")","v":""},{"$f":"IFERROR(VLOOKUP($B137,'LED #3'!$A$14:$S$114,P$48,0),\"\")","v":""},null,{"$f":"IFERROR(VLOOKUP($B137,'LED #4'!$A$14:$S$114,R$48,0),\"\")","v":""},{"$f":"IFERROR(VLOOKUP($B137,'LED #4'!$A$14:$S$114,S$48,0),\"\")","v":""},{"$f":"IFERROR(VLOOKUP($B137,'LED #4'!$A$14:$S$114,T$48,0),\"\")","v":""},{"$f":"IFERROR(VLOOKUP($B137,'LED #4'!$A$14:$S$114,U$48,0),\"\")","v":""}]
[null,1.325,{"$f":"IFERROR(VLOOKUP($B138,'LED #1'!$A$14:$S$114,C$48,0),\"\")","v":""},{"$f":"IFERROR(VLOOKUP($B138,'LED #1'!$A$14:$S$114,D$48,0),\"\")","v":""},{"$f":"IFERROR(VLOOKUP($B138,'LED #1'!$A$14:$S$114,E$48,0),\"\")","v":""},{"$f":"IFERROR(VLOOKUP($B138,'LED #1'!$A$14:$S$114,F$48,0),\"\")","v":""},null,{"$f":"IFERROR(VLOOKUP($B138,'LED #2'!$A$14:$S$114,H$48,0),\"\")","v":{"v":550.6586359311611,"d":"550.66 "}},{"$f":"IFERROR(VLOOKUP($B138,'LED #2'!$A$14:$S$114,I$48,0),\"\")","v":{"v":4.153203942302493,"d":"4.15 "}},{"$f":"IFERROR(VLOOKUP($B138,'LED #2'!$A$14:$S$114,J$48,0),\"\")","v":{"v":132.5864666366183,"d":"132.59 "}},{"$f":"IFERROR(VLOOKUP($B138,'LED #2'!$A$14:$S$114,K$48,0),\"\")","v":{"v":25,"d":"25.00 "}},null,{"$f":"IFERROR(VLOOKUP($B138,'LED #3'!$A$14:$S$114,M$48,0),\"\")","v":""},{"$f":"IFERROR(VLOOKUP($B138,'LED #3'!$A$14:$S$114,N$48,0),\"\")","v":""},{"$f":"IFERROR(VLOOKUP($B138,'LED #3'!$A$14:$S$114,O$48,0),\"\")","v":""},{"$f":"IFERROR(VLOOKUP($B138,'LED #3'!$A$14:$S$114,P$48,0),\"\")","v":""},null,{"$f":"IFERROR(VLOOKUP($B138,'LED #4'!$A$14:$S$114,R$48,0),\"\")","v":""},{"$f":"IFERROR(VLOOKUP($B138,'LED #4'!$A$14:$S$114,S$48,0),\"\")","v":""},{"$f":"IFERROR(VLOOKUP($B138,'LED #4'!$A$14:$S$114,T$48,0),\"\")","v":""},{"$f":"IFERROR(VLOOKUP($B138,'LED #4'!$A$14:$S$114,U$48,0),\"\")","v":""}]
[null,{"v":1.34,"d":"1.340"},{"$f":"IFERROR(VLOOKUP($B139,'LED #1'!$A$14:$S$114,C$48,0),\"\")","v":""},{"$f":"IFERROR(VLOOKUP($B139,'LED #1'!$A$14:$S$114,D$48,0),\"\")","v":""},{"$f":"IFERROR(VLOOKUP($B139,'LED #1'!$A$14:$S$114,E$48,0),\"\")","v":""},{"$f":"IFERROR(VLOOKUP($B139,'LED #1'!$A$14:$S$114,F$48,0),\"\")","v":""},null,{"$f":"IFERROR(VLOOKUP($B139,'LED #2'!$A$14:$S$114,H$48,0),\"\")","v":{"v":555.673875671906,"d":"555.67 "}},{"$f":"IFERROR(VLOOKUP($B139,'LED #2'!$A$14:$S$114,I$48,0),\"\")","v":{"v":4.208368460513711,"d":"4.21 "}},{"$f":"IFERROR(VLOOKUP($B139,'LED #2'!$A$14:$S$114,J$48,0),\"\")","v":{"v":132.04021484470385,"d":"132.04 "}},{"$f":"IFERROR(VLOOKUP($B139,'LED #2'!$A$14:$S$114,K$48,0),\"\")","v":{"v":24,"d":"24.00 "}},null,{"$f":"IFERROR(VLOOKUP($B139,'LED #3'!$A$14:$S$114,M$48,0),\"\")","v":""},{"$f":"IFERROR(VLOOKUP($B139,'LED #3'!$A$14:$S$114,N$48,0),\"\")","v":""},{"$f":"IFERROR(VLOOKUP($B139,'LED #3'!$A$14:$S$114,O$48,0),\"\")","v":""},{"$f":"IFERROR(VLOOKUP($B139,'LED #3'!$A$14:$S$114,P$48,0),\"\")","v":""},null,{"$f":"IFERROR(VLOOKUP($B139,'LED #4'!$A$14:$S$114,R$48,0),\"\")","v":""},{"$f":"IFERROR(VLOOKUP($B139,'LED #4'!$A$14:$S$114,S$48,0),\"\")","v":""},{"$f":"IFERROR(VLOOKUP($B139,'LED #4'!$A$14:$S$114,T$48,0),\"\")","v":""},{"$f":"IFERROR(VLOOKUP($B139,'LED #4'!$A$14:$S$114,U$48,0),\"\")","v":""}]
[null,1.355,{"$f":"IFERROR(VLOOKUP($B140,'LED #1'!$A$14:$S$114,C$48,0),\"\")","v":""},{"$f":"IFERROR(VLOOKUP($B140,'LED #1'!$A$14:$S$114,D$48,0),\"\")","v":""},{"$f":"IFERROR(VLOOKUP($B140,'LED #1'!$A$14:$S$114,E$48,0),\"\")","v":""},{"$f":"IFERROR(VLOOKUP($B140,'LED #1'!$A$14:$S$114,F$48,0),\"\")","v":""},null,{"$f":"IFERROR(VLOOKUP($B140,'LED #2'!$A$14:$S$114,H$48,0),\"\")","v":{"v":560.6663756032384,"d":"560.67 "}},{"$f":"IFERROR(VLOOKUP($B140,'LED #2'!$A$14:$S$114,I$48,0),\"\")","v":{"v":4.263683369684345,"d":"4.26 "}},{"$f":"IFERROR(VLOOKUP($B140,'LED #2'!$A$14:$S$114,J$48,0),\"\")","v":{"v":131.4981266173962,"d":"131.50 "}},{"$f":"IFERROR(VLOOKUP($B140,'LED #2'!$A$14:$S$114,K$48,0),\"\")","v":{"v":24,"d":"24.00 "}},null,{"$f":"IFERROR(VLOOKUP($B140,'LED #3'!$A$14:$S$114,M$48,0),\"\")","v":""},{"$f":"IFERROR(VLOOKUP($B140,'LED #3'!$A$14:$S$114,N$48,0),\"\")","v":""},{"$f":"IFERROR(VLOOKUP($B140,'LED #3'!$A$14:$S$114,O$48,0),\"\")","v":""},{"$f":"IFERROR(VLOOKUP($B140,'LED #3'!$A$14:$S$114,P$48,0),\"\")","v":""},null,{"$f":"IFERROR(VLOOKUP($B140,'LED #4'!$A$14:$S$114,R$48,0),\"\")","v":""},{"$f":"IFERROR(VLOOKUP($B140,'LED #4'!$A$14:$S$114,S$48,0),\"\")","v":""},{"$f":"IFERROR(VLOOKUP($B140,'LED #4'!$A$14:$S$114,T$48,0),\"\")","v":""},{"$f":"IFERROR(VLOOKUP($B140,'LED #4'!$A$14:$S$114,U$48,0),\"\")","v":""}]
[null,{"v":1.37,"d":"1.370"},{"$f":"IFERROR(VLOOKUP($B141,'LED #1'!$A$14:$S$114,C$48,0),\"\")","v":""},{"$f":"IFERROR(VLOOKUP($B141,'LED #1'!$A$14:$S$114,D$48,0),\"\")","v":""},{"$f":"IFERROR(VLOOKUP($B141,'LED #1'!$A$14:$S$114,E$48,0),\"\")","v":""},{"$f":"IFERROR(VLOOKUP($B141,'LED #1'!$A$14:$S$114,F$48,0),\"\")","v":""},null,{"$f":"IFERROR(VLOOKUP($B141,'LED #2'!$A$14:$S$114,H$48,0),\"\")","v":{"v":565.6362388306846,"d":"565.64 "}},{"$f":"IFERROR(VLOOKUP($B141,'LED #2'!$A$14:$S$114,I$48,0),\"\")","v":{"v":4.319147732576002,"d":"4.32 "}},{"$f":"IFERROR(VLOOKUP($B141,'LED #2'!$A$14:$S$114,J$48,0),\"\")","v":{"v":130.96015090304195,"d":"130.96 "}},{"$f":"IFERROR(VLOOKUP($B141,'LED #2'!$A$14:$S$114,K$48,0),\"\")","v":{"v":24,"d":"24.00 "}},null,{"$f":"IFERROR(VLOOKUP($B141,'LED #3'!$A$14:$S$114,M$48,0),\"\")","v":""},{"$f":"IFERROR(VLOOKUP($B141,'LED #3'!$A$14:$S$114,N$48,0),\"\")","v":""},{"$f":"IFERROR(VLOOKUP($B141,'LED #3'!$A$14:$S$114,O$48,0),\"\")","v":""},{"$f":"IFERROR(VLOOKUP($B141,'LED #3'!$A$14:$S$114,P$48,0),\"\")","v":""},null,{"$f":"IFERROR(VLOOKUP($B141,'LED #4'!$A$14:$S$114,R$48,0),\"\")","v":""},{"$f":"IFERROR(VLOOKUP($B141,'LED #4'!$A$14:$S$114,S$48,0),\"\")","v":""},{"$f":"IFERROR(VLOOKUP($B141,'LED #4'!$A$14:$S$114,T$48,0),\"\")","v":""},{"$f":"IFERROR(VLOOKUP($B141,'LED #4'!$A$14:$S$114,U$48,0),\"\")","v":""}]
[null,1.385,{"$f":"IFERROR(VLOOKUP($B142,'LED #1'!$A$14:$S$114,C$48,0),\"\")","v":""},{"$f":"IFERROR(VLOOKUP($B142,'LED #1'!$A$14:$S$114,D$48,0),\"\")","v":""},{"$f":"IFERROR(VLOOKUP($B142,'LED #1'!$A$14:$S$114,E$48,0),\"\")","v":""},{"$f":"IFERROR(VLOOKUP($B142,'LED #1'!$A$14:$S$114,F$48,0),\"\")","v":""},null,{"$f":"IFERROR(VLOOKUP($B142,'LED #2'!$A$14:$S$114,H$48,0),\"\")","v":{"v":570.5835679922754,"d":"570.58 "}},{"$f":"IFERROR(VLOOKUP($B142,'LED #2'!$A$14:$S$114,I$48,0),\"\")","v":{"v":4.37476061696286,"d":"4.37 "}},{"$f":"IFERROR(VLOOKUP($B142,'LED #2'!$A$14:$S$114,J$48,0),\"\")","v":{"v":130.42623767341087,"d":"130.43 "}},{"$f":"IFERROR(VLOOKUP($B142,'LED #2'!$A$14:$S$114,K$48,0),\"\")","v":{"v":24,"d":"24.00 "}},null,{"$f":"IFERROR(VLOOKUP($B142,'LED #3'!$A$14:$S$114,M$48,0),\"\")","v":""},{"$f":"IFERROR(VLOOKUP($B142,'LED #3'!$A$14:$S$114,N$48,0),\"\")","v":""},{"$f":"IFERROR(VLOOKUP($B142,'LED #3'!$A$14:$S$114,O$48,0),\"\")","v":""},{"$f":"IFERROR(VLOOKUP($B142,'LED #3'!$A$14:$S$114,P$48,0),\"\")","v":""},null,{"$f":"IFERROR(VLOOKUP($B142,'LED #4'!$A$14:$S$114,R$48,0),\"\")","v":""},{"$f":"IFERROR(VLOOKUP($B142,'LED #4'!$A$14:$S$114,S$48,0),\"\")","v":""},{"$f":"IFERROR(VLOOKUP($B142,'LED #4'!$A$14:$S$114,T$48,0),\"\")","v":""},{"$f":"IFERROR(VLOOKUP($B142,'LED #4'!$A$14:$S$114,U$48,0),\"\")","v":""}]
[null,{"v":1.4,"d":"1.400"},{"$f":"IFERROR(VLOOKUP($B143,'LED #1'!$A$14:$S$114,C$48,0),\"\")","v":""},{"$f":"IFERROR(VLOOKUP($B143,'LED #1'!$A$14:$S$114,D$48,0),\"\")","v":""},{"$f":"IFERROR(VLOOKUP($B143,'LED #1'!$A$14:$S$114,E$48,0),\"\")","v":""},{"$f":"IFERROR(VLOOKUP($B143,'LED #1'!$A$14:$S$114,F$48,0),\"\")","v":""},null,{"$f":"IFERROR(VLOOKUP($B143,'LED #2'!$A$14:$S$114,H$48,0),\"\")","v":{"v":575.5084652606664,"d":"575.51 "}},{"$f":"IFERROR(VLOOKUP($B143,'LED #2'!$A$14:$S$114,I$48,0),\"\")","v":{"v":4.430521095606859,"d":"4.43 "}},{"$f":"IFERROR(VLOOKUP($B143,'LED #2'!$A$14:$S$114,J$48,0),\"\")","v":{"v":129.89633788931044,"d":"129.90 "}},{"$f":"IFERROR(VLOOKUP($B143,'LED #2'!$A$14:$S$114,K$48,0),\"\")","v":{"v":24,"d":"24.00 "}},null,{"$f":"IFERROR(VLOOKUP($B143,'LED #3'!$A$14:$S$114,M$48,0),\"\")","v":""},{"$f":"IFERROR(VLOOKUP($B143,'LED #3'!$A$14:$S$114,N$48,0),\"\")","v":""},{"$f":"IFERROR(VLOOKUP($B143,'LED #3'!$A$14:$S$114,O$48,0),\"\")","v":""},{"$f":"IFERROR(VLOOKUP($B143,'LED #3'!$A$14:$S$114,P$48,0),\"\")","v":""},null,{"$f":"IFERROR(VLOOKUP($B143,'LED #4'!$A$14:$S$114,R$48,0),\"\")","v":""},{"$f":"IFERROR(VLOOKUP($B143,'LED #4'!$A$14:$S$114,S$48,0),\"\")","v":""},{"$f":"IFERROR(VLOOKUP($B143,'LED #4'!$A$14:$S$114,T$48,0),\"\")","v":""},{"$f":"IFERROR(VLOOKUP($B143,'LED #4'!$A$14:$S$114,U$48,0),\"\")","v":""}]
[null,1.415,{"$f":"IFERROR(VLOOKUP($B144,'LED #1'!$A$14:$S$114,C$48,0),\"\")","v":""},{"$f":"IFERROR(VLOOKUP($B144,'LED #1'!$A$14:$S$114,D$48,0),\"\")","v":""},{"$f":"IFERROR(VLOOKUP($B144,'LED #1'!$A$14:$S$114,E$48,0),\"\")","v":""},{"$f":"IFERROR(VLOOKUP($B144,'LED #1'!$A$14:$S$114,F$48,0),\"\")","v":""},null,{"$f":"IFERROR(VLOOKUP($B144,'LED #2'!$A$14:$S$114,H$48,0),\"\")","v":{"v":580.4110323452481,"d":"580.41 "}},{"$f":"IFERROR(VLOOKUP($B144,'LED #2'!$A$14:$S$114,I$48,0),\"\")","v":{"v":4.486428246233026,"d":"4.49 "}},{"$f":"IFERROR(VLOOKUP($B144,'LED #2'!$A$14:$S$114,J$48,0),\"\")","v":{"v":129.37040346796655,"d":"129.37 "}},{"$f":"IFERROR(VLOOKUP($B144,'LED #2'!$A$14:$S$114,K$48,0),\"\")","v":{"v":23,"d":"23.00 "}},null,{"$f":"IFERROR(VLOOKUP($B144,'LED #3'!$A$14:$S$114,M$48,0),\"\")","v":""},{"$f":"IFERROR(VLOOKUP($B144,'LED #3'!$A$14:$S$114,N$48,0),\"\")","v":""},{"$f":"IFERROR(VLOOKUP($B144,'LED #3'!$A$14:$S$114,O$48,0),\"\")","v":""},{"$f":"IFERROR(VLOOKUP($B144,'LED #3'!$A$14:$S$114,P$48,0),\"\")","v":""},null,{"$f":"IFERROR(VLOOKUP($B144,'LED #4'!$A$14:$S$114,R$48,0),\"\")","v":""},{"$f":"IFERROR(VLOOKUP($B144,'LED #4'!$A$14:$S$114,S$48,0),\"\")","v":""},{"$f":"IFERROR(VLOOKUP($B144,'LED #4'!$A$14:$S$114,T$48,0),\"\")","v":""},{"$f":"IFERROR(VLOOKUP($B144,'LED #4'!$A$14:$S$114,U$48,0),\"\")","v":""}]
[null,{"v":1.43,"d":"1.430"},{"$f":"IFERROR(VLOOKUP($B145,'LED #1'!$A$14:$S$114,C$48,0),\"\")","v":""},{"$f":"IFERROR(VLOOKUP($B145,'LED #1'!$A$14:$S$114,D$48,0),\"\")","v":""},{"$f":"IFERROR(VLOOKUP($B145,'LED #1'!$A$14:$S$114,E$48,0),\"\")","v":""},{"$f":"IFERROR(VLOOKUP($B145,'LED #1'!$A$14:$S$114,F$48,0),\"\")","v":""},null,{"$f":"IFERROR(VLOOKUP($B145,'LED #2'!$A$14:$S$114,H$48,0),\"\")","v":{"v":585.2913704942458,"d":"585.29 "}},{"$f":"IFERROR(VLOOKUP($B145,'LED #2'!$A$14:$S$114,I$48,0),\"\")","v":{"v":4.542481151504893,"d":"4.54 "}},{"$f":"IFERROR(VLOOKUP($B145,'LED #2'!$A$14:$S$114,J$48,0),\"\")","v":{"v":128.8483872520512,"d":"128.85 "}},{"$f":"IFERROR(VLOOKUP($B145,'LED #2'!$A$14:$S$114,K$48,0),\"\")","v":{"v":23,"d":"23.00 "}},null,{"$f":"IFERROR(VLOOKUP($B145,'LED #3'!$A$14:$S$114,M$48,0),\"\")","v":""},{"$f":"IFERROR(VLOOKUP($B145,'LED #3'!$A$14:$S$114,N$48,0),\"\")","v":""},{"$f":"IFERROR(VLOOKUP($B145,'LED #3'!$A$14:$S$114,O$48,0),\"\")","v":""},{"$f":"IFERROR(VLOOKUP($B145,'LED #3'!$A$14:$S$114,P$48,0),\"\")","v":""},null,{"$f":"IFERROR(VLOOKUP($B145,'LED #4'!$A$14:$S$114,R$48,0),\"\")","v":""},{"$f":"IFERROR(VLOOKUP($B145,'LED #4'!$A$14:$S$114,S$48,0),\"\")","v":""},{"$f":"IFERROR(VLOOKUP($B145,'LED #4'!$A$14:$S$114,T$48,0),\"\")","v":""},{"$f":"IFERROR(VLOOKUP($B145,'LED #4'!$A$14:$S$114,U$48,0),\"\")","v":""}]
[null,1.445,{"$f":"IFERROR(VLOOKUP($B146,'LED #1'!$A$14:$S$114,C$48,0),\"\")","v":""},{"$f":"IFERROR(VLOOKUP($B146,'LED #1'!$A$14:$S$114,D$48,0),\"\")","v":""},{"$f":"IFERROR(VLOOKUP($B146,'LED #1'!$A$14:$S$114,E$48,0),\"\")","v":""},{"$f":"IFERROR(VLOOKUP($B146,'LED #1'!$A$14:$S$114,F$48,0),\"\")","v":""},null,{"$f":"IFERROR(VLOOKUP($B146,'LED #2'!$A$14:$S$114,H$48,0),\"\")","v":{"v":590.1495804968112,"d":"590.15 "}},{"$f":"IFERROR(VLOOKUP($B146,'LED #2'!$A$14:$S$114,I$48,0),\"\")","v":{"v":4.598678899000058,"d":"4.60 "}},{"$f":"IFERROR(VLOOKUP($B146,'LED #2'!$A$14:$S$114,J$48,0),\"\")","v":{"v":128.33024298024677,"d":"128.33 "}},{"$f":"IFERROR(VLOOKUP($B146,'LED #2'!$A$14:$S$114,K$48,0),\"\")","v":{"v":23,"d":"23.00 "}},null,{"$f":"IFERROR(VLOOKUP($B146,'LED #3'!$A$14:$S$114,M$48,0),\"\")","v":""},{"$f":"IFERROR(VLOOKUP($B146,'LED #3'!$A$14:$S$114,N$48,0),\"\")","v":""},{"$f":"IFERROR(VLOOKUP($B146,'LED #3'!$A$14:$S$114,O$48,0),\"\")","v":""},{"$f":"IFERROR(VLOOKUP($B146,'LED #3'!$A$14:$S$114,P$48,0),\"\")","v":""},null,{"$f":"IFERROR(VLOOKUP($B146,'LED #4'!$A$14:$S$114,R$48,0),\"\")","v":""},{"$f":"IFERROR(VLOOKUP($B146,'LED #4'!$A$14:$S$114,S$48,0),\"\")","v":""},{"$f":"IFERROR(VLOOKUP($B146,'LED #4'!$A$14:$S$114,T$48,0),\"\")","v":""},{"$f":"IFERROR(VLOOKUP($B146,'LED #4'!$A$14:$S$114,U$48,0),\"\")","v":""}]
[null,{"v":1.46,"d":"1.460"},{"$f":"IFERROR(VLOOKUP($B147,'LED #1'!$A$14:$S$114,C$48,0),\"\")","v":""},{"$f":"IFERROR(VLOOKUP($B147,'LED #1'!$A$14:$S$114,D$48,0),\"\")","v":""},{"$f":"IFERROR(VLOOKUP($B147,'LED #1'!$A$14:$S$114,E$48,0),\"\")","v":""},{"$f":"IFERROR(VLOOKUP($B147,'LED #1'!$A$14:$S$114,F$48,0),\"\")","v":""},null,{"$f":"IFERROR(VLOOKUP($B147,'LED #2'!$A$14:$S$114,H$48,0),\"\")","v":{"v":594.9857626851034,"d":"594.99 "}},{"$f":"IFERROR(VLOOKUP($B147,'LED #2'!$A$14:$S$114,I$48,0),\"\")","v":{"v":4.655020581185838,"d":"4.66 "}},{"$f":"IFERROR(VLOOKUP($B147,'LED #2'!$A$14:$S$114,J$48,0),\"\")","v":{"v":127.81592525924654,"d":"127.82 "}},{"$f":"IFERROR(VLOOKUP($B147,'LED #2'!$A$14:$S$114,K$48,0),\"\")","v":{"v":23,"d":"23.00 "}},null,{"$f":"IFERROR(VLOOKUP($B147,'LED #3'!$A$14:$S$114,M$48,0),\"\")","v":""},{"$f":"IFERROR(VLOOKUP($B147,'LED #3'!$A$14:$S$114,N$48,0),\"\")","v":""},{"$f":"IFERROR(VLOOKUP($B147,'LED #3'!$A$14:$S$114,O$48,0),\"\")","v":""},{"$f":"IFERROR(VLOOKUP($B147,'LED #3'!$A$14:$S$114,P$48,0),\"\")","v":""},null,{"$f":"IFERROR(VLOOKUP($B147,'LED #4'!$A$14:$S$114,R$48,0),\"\")","v":""},{"$f":"IFERROR(VLOOKUP($B147,'LED #4'!$A$14:$S$114,S$48,0),\"\")","v":""},{"$f":"IFERROR(VLOOKUP($B147,'LED #4'!$A$14:$S$114,T$48,0),\"\")","v":""},{"$f":"IFERROR(VLOOKUP($B147,'LED #4'!$A$14:$S$114,U$48,0),\"\")","v":""}]
[null,1.475,{"$f":"IFERROR(VLOOKUP($B148,'LED #1'!$A$14:$S$114,C$48,0),\"\")","v":""},{"$f":"IFERROR(VLOOKUP($B148,'LED #1'!$A$14:$S$114,D$48,0),\"\")","v":""},{"$f":"IFERROR(VLOOKUP($B148,'LED #1'!$A$14:$S$114,E$48,0),\"\")","v":""},{"$f":"IFERROR(VLOOKUP($B148,'LED #1'!$A$14:$S$114,F$48,0),\"\")","v":""},null,{"$f":"IFERROR(VLOOKUP($B148,'LED #2'!$A$14:$S$114,H$48,0),\"\")","v":{"v":599.8000169363615,"d":"599.80 "}},{"$f":"IFERROR(VLOOKUP($B148,'LED #2'!$A$14:$S$114,I$48,0),\"\")","v":{"v":4.711505295395052,"d":"4.71 "}},{"$f":"IFERROR(VLOOKUP($B148,'LED #2'!$A$14:$S$114,J$48,0),\"\")","v":{"v":127.30538953709681,"d":"127.31 "}},{"$f":"IFERROR(VLOOKUP($B148,'LED #2'!$A$14:$S$114,K$48,0),\"\")","v":{"v":23,"d":"23.00 "}},null,{"$f":"IFERROR(VLOOKUP($B148,'LED #3'!$A$14:$S$114,M$48,0),\"\")","v":""},{"$f":"IFERROR(VLOOKUP($B148,'LED #3'!$A$14:$S$114,N$48,0),\"\")","v":""},{"$f":"IFERROR(VLOOKUP($B148,'LED #3'!$A$14:$S$114,O$48,0),\"\")","v":""},{"$f":"IFERROR(VLOOKUP($B148,'LED #3'!$A$14:$S$114,P$48,0),\"\")","v":""},null,{"$f":"IFERROR(VLOOKUP($B148,'LED #4'!$A$14:$S$114,R$48,0),\"\")","v":""},{"$f":"IFERROR(VLOOKUP($B148,'LED #4'!$A$14:$S$114,S$48,0),\"\")","v":""},{"$f":"IFERROR(VLOOKUP($B148,'LED #4'!$A$14:$S$114,T$48,0),\"\")","v":""},{"$f":"IFERROR(VLOOKUP($B148,'LED #4'!$A$14:$S$114,U$48,0),\"\")","v":""}]
[null,{"v":1.49,"d":"1.490"},{"$f":"IFERROR(VLOOKUP($B149,'LED #1'!$A$14:$S$114,C$48,0),\"\")","v":""},{"$f":"IFERROR(VLOOKUP($B149,'LED #1'!$A$14:$S$114,D$48,0),\"\")","v":""},{"$f":"IFERROR(VLOOKUP($B149,'LED #1'!$A$14:$S$114,E$48,0),\"\")","v":""},{"$f":"IFERROR(VLOOKUP($B149,'LED #1'!$A$14:$S$114,F$48,0),\"\")","v":""},null,{"$f":"IFERROR(VLOOKUP($B149,'LED #2'!$A$14:$S$114,H$48,0),\"\")","v":{"v":604.5924426749672,"d":"604.59 "}},{"$f":"IFERROR(VLOOKUP($B149,'LED #2'!$A$14:$S$114,I$48,0),\"\")","v":{"v":4.768132143801911,"d":"4.77 "}},{"$f":"IFERROR(VLOOKUP($B149,'LED #2'!$A$14:$S$114,J$48,0),\"\")","v":{"v":126.79859207779636,"d":"126.80 "}},{"$f":"IFERROR(VLOOKUP($B149,'LED #2'!$A$14:$S$114,K$48,0),\"\")","v":{"v":23,"d":"23.00 "}},null,{"$f":"IFERROR(VLOOKUP($B149,'LED #3'!$A$14:$S$114,M$48,0),\"\")","v":""},{"$f":"IFERROR(VLOOKUP($B149,'LED #3'!$A$14:$S$114,N$48,0),\"\")","v":""},{"$f":"IFERROR(VLOOKUP($B149,'LED #3'!$A$14:$S$114,O$48,0),\"\")","v":""},{"$f":"IFERROR(VLOOKUP($B149,'LED #3'!$A$14:$S$114,P$48,0),\"\")","v":""},null,{"$f":"IFERROR(VLOOKUP($B149,'LED #4'!$A$14:$S$114,R$48,0),\"\")","v":""},{"$f":"IFERROR(VLOOKUP($B149,'LED #4'!$A$14:$S$114,S$48,0),\"\")","v":""},{"$f":"IFERROR(VLOOKUP($B149,'LED #4'!$A$14:$S$114,T$48,0),\"\")","v":""},{"$f":"IFERROR(VLOOKUP($B149,'LED #4'!$A$14:$S$114,U$48,0),\"\")","v":""}]
[null,1.505,{"$f":"IFERROR(VLOOKUP($B150,'LED #1'!$A$14:$S$114,C$48,0),\"\")","v":""},{"$f":"IFERROR(VLOOKUP($B150,'LED #1'!$A$14:$S$114,D$48,0),\"\")","v":""},{"$f":"IFERROR(VLOOKUP($B150,'LED #1'!$A$14:$S$114,E$48,0),\"\")","v":""},{"$f":"IFERROR(VLOOKUP($B150,'LED #1'!$A$14:$S$114,F$48,0),\"\")","v":""},null,{"$f":"IFERROR(VLOOKUP($B150,'LED #2'!$A$14:$S$114,H$48,0),\"\")","v":""},{"$f":"IFERROR(VLOOKUP($B150,'LED #2'!$A$14:$S$114,I$48,0),\"\")","v":""},{"$f":"IFERROR(VLOOKUP($B150,'LED #2'!$A$14:$S$114,J$48,0),\"\")","v":""},{"$f":"IFERROR(VLOOKUP($B150,'LED #2'!$A$14:$S$114,K$48,0),\"\")","v":""},null,{"$f":"IFERROR(VLOOKUP($B150,'LED #3'!$A$14:$S$114,M$48,0),\"\")","v":""},{"$f":"IFERROR(VLOOKUP($B150,'LED #3'!$A$14:$S$114,N$48,0),\"\")","v":""},{"$f":"IFERROR(VLOOKUP($B150,'LED #3'!$A$14:$S$114,O$48,0),\"\")","v":""},{"$f":"IFERROR(VLOOKUP($B150,'LED #3'!$A$14:$S$114,P$48,0),\"\")","v":""},null,{"$f":"IFERROR(VLOOKUP($B150,'LED #4'!$A$14:$S$114,R$48,0),\"\")","v":""},{"$f":"IFERROR(VLOOKUP($B150,'LED #4'!$A$14:$S$114,S$48,0),\"\")","v":""},{"$f":"IFERROR(VLOOKUP($B150,'LED #4'!$A$14:$S$114,T$48,0),\"\")","v":""},{"$f":"IFERROR(VLOOKUP($B150,'LED #4'!$A$14:$S$114,U$48,0),\"\")","v":""}]
[null,{"v":1.52,"d":"1.520"},{"$f":"IFERROR(VLOOKUP($B151,'LED #1'!$A$14:$S$114,C$48,0),\"\")","v":""},{"$f":"IFERROR(VLOOKUP($B151,'LED #1'!$A$14:$S$114,D$48,0),\"\")","v":""},{"$f":"IFERROR(VLOOKUP($B151,'LED #1'!$A$14:$S$114,E$48,0),\"\")","v":""},{"$f":"IFERROR(VLOOKUP($B151,'LED #1'!$A$14:$S$114,F$48,0),\"\")","v":""},null,{"$f":"IFERROR(VLOOKUP($B151,'LED #2'!$A$14:$S$114,H$48,0),\"\")","v":""},{"$f":"IFERROR(VLOOKUP($B151,'LED #2'!$A$14:$S$114,I$48,0),\"\")","v":""},{"$f":"IFERROR(VLOOKUP($B151,'LED #2'!$A$14:$S$114,J$48,0),\"\")","v":""},{"$f":"IFERROR(VLOOKUP($B151,'LED #2'!$A$14:$S$114,K$48,0),\"\")","v":""},null,{"$f":"IFERROR(VLOOKUP($B151,'LED #3'!$A$14:$S$114,M$48,0),\"\")","v":""},{"$f":"IFERROR(VLOOKUP($B151,'LED #3'!$A$14:$S$114,N$48,0),\"\")","v":""},{"$f":"IFERROR(VLOOKUP($B151,'LED #3'!$A$14:$S$114,O$48,0),\"\")","v":""},{"$f":"IFERROR(VLOOKUP($B151,'LED #3'!$A$14:$S$114,P$48,0),\"\")","v":""},null,{"$f":"IFERROR(VLOOKUP($B151,'LED #4'!$A$14:$S$114,R$48,0),\"\")","v":""},{"$f":"IFERROR(VLOOKUP($B151,'LED #4'!$A$14:$S$114,S$48,0),\"\")","v":""},{"$f":"IFERROR(VLOOKUP($B151,'LED #4'!$A$14:$S$114,T$48,0),\"\")","v":""},{"$f":"IFERROR(VLOOKUP($B151,'LED #4'!$A$14:$S$114,U$48,0),\"\")","v":""}]
[null,1.535,{"$f":"IFERROR(VLOOKUP($B152,'LED #1'!$A$14:$S$114,C$48,0),\"\")","v":""},{"$f":"IFERROR(VLOOKUP($B152,'LED #1'!$A$14:$S$114,D$48,0),\"\")","v":""},{"$f":"IFERROR(VLOOKUP($B152,'LED #1'!$A$14:$S$114,E$48,0),\"\")","v":""},{"$f":"IFERROR(VLOOKUP($B152,'LED #1'!$A$14:$S$114,F$48,0),\"\")","v":""},null,{"$f":"IFERROR(VLOOKUP($B152,'LED #2'!$A$14:$S$114,H$48,0),\"\")","v":""},{"$f":"IFERROR(VLOOKUP($B152,'LED #2'!$A$14:$S$114,I$48,0),\"\")","v":""},{"$f":"IFERROR(VLOOKUP($B152,'LED #2'!$A$14:$S$114,J$48,0),\"\")","v":""},{"$f":"IFERROR(VLOOKUP($B152,'LED #2'!$A$14:$S$114,K$48,0),\"\")","v":""},null,{"$f":"IFERROR(VLOOKUP($B152,'LED #3'!$A$14:$S$114,M$48,0),\"\")","v":""},{"$f":"IFERROR(VLOOKUP($B152,'LED #3'!$A$14:$S$114,N$48,0),\"\")","v":""},{"$f":"IFERROR(VLOOKUP($B152,'LED #3'!$A$14:$S$114,O$48,0),\"\")","v":""},{"$f":"IFERROR(VLOOKUP($B152,'LED #3'!$A$14:$S$114,P$48,0),\"\")","v":""},null,{"$f":"IFERROR(VLOOKUP($B152,'LED #4'!$A$14:$S$114,R$48,0),\"\")","v":""},{"$f":"IFERROR(VLOOKUP($B152,'LED #4'!$A$14:$S$114,S$48,0),\"\")","v":""},{"$f":"IFERROR(VLOOKUP($B152,'LED #4'!$A$14:$S$114,T$48,0),\"\")","v":""},{"$f":"IFERROR(VLOOKUP($B152,'LED #4'!$A$14:$S$114,U$48,0),\"\")","v":""}]

{"sheet":"Graph","index":1,"n_rows":139,"n_cols":10,"rows_kept":139,"merged":[[3,1,3,2],[3,3,3,4],[33,6,33,7],[33,8,33,9],[37,1,38,1],[37,2,37,3],[37,4,37,5],[37,6,37,7],[37,8,37,9]]}
[]
[]
[]
[null,"Y-Value",null,"Scale Range"]
[null,"Unit","Decimal","min","max"]
[null,"PD",1]
{"$rows_empty":27}
[{"$nulls":6},"X-Value",null,"Scale Range"]
[{"$nulls":6},"Unit","Decimal","min","max"]
[{"$nulls":6},"VF",4]
[]
[null,"IF",{"$f":"Table!D7","v":"STW0L8PA"},null,{"$f":"Table!I7","v":"SZ5-M3-Wx-C7"},null,{"$f":"Table!N7","v":0},null,{"$f":"Table!S7","v":0}]
[null,null,{"$f":"VLOOKUP($G$36,참조!$E$3:$F$11,2,0)","v":3},{"$f":"VLOOKUP($B$6,참조!$E$3:$F$11,2,0)","v":4},{"$f":"C39","v":3},{"$f":"D39","v":4},{"$f":"E39","v":3},{"$f":"F39","v":4},{"$f":"G39","v":3},4]
[null,{"$f":"Table!B53","v":{"v":0.05,"d":"0.050"}},{"$f":"VLOOKUP($B40,'LED #1'!$A$15:$I$114,C$39,0)","v":5.113350856029354},{"$f":"VLOOKUP($B40,'LED #1'!$A$15:$I$114,D$39,0)","v":0.2556675428014677},{"$f":"VLOOKUP($B40,'LED #2'!$A$15:$I$114,E$39,0)","v":2.520742350130427},{"$f":"VLOOKUP($B40,'LED #2'!$A$15:$I$114,F$39,0)","v":0.12603711750652136},{"$f":"VLOOKUP($B40,'LED #3'!$A$15:$I$114,G$39,0)","v":{"$error":"#N/A"}},{"$f":"VLOOKUP($B40,'LED #3'!$A$15:$I$114,H$39,0)","v":{"$error":"#N/A"}},{"$f":"VLOOKUP($B40,'LED #4'!$A$15:$I$114,I$39,0)","v":{"$error":"#N/A"}},{"$f":"VLOOKUP($B40,'LED #4'!$A$15:$I$114,J$39,0)","v":{"$error":"#N/A"}}]
[null,{"$f":"Table!B54","v":0.065},{"$f":"VLOOKUP($B41,'LED #1'!$A$15:$I$114,C$39,0)","v":5.137950268451003},{"$f":"VLOOKUP($B41,'LED #1'!$A$15:$I$114,D$39,0)","v":0.3339667674493152},{"$f":"VLOOKUP($B41,'LED #2'!$A$15:$I$114,E$39,0)","v":2.529206806187943},{"$f":"VLOOKUP($B41,'LED #2'!$A$15:$I$114,F$39,0)","v":0.1643984424022163},{"$f":"VLOOKUP($B41,'LED #3'!$A$15:$I$114,G$39,0)","v":{"$error":"#N/A"}},{"$f":"VLOOKUP($B41,'LED #3'!$A$15:$I$114,H$39,0)","v":{"$error":"#N/A"}},{"$f":"VLOOKUP($B41,'LED #4'!$A$15:$I$114,I$39,0)","v":{"$error":"#N/A"}},{"$f":"VLOOKUP($B41,'LED #4'!$A$15:$I$114,J$39,0)","v":{"$error":"#N/A"}}]
[null,{"$f":"Table!B55","v":{"v":0.08,"d":"0.080"}},{"$f":"VLOOKUP($B42,'LED #1'!$A$15:$I$114,C$39,0)","v":5.162376427365606},{"$f":"VLOOKUP($B42,'LED #1'!$A$15:$I$114,D$39,0)","v":0.41299011418924847},{"$f":"VLOOKUP($B42,'LED #2'!$A$15:$I$114,E$39,0)","v":2.537638376509091},{"$f":"VLOOKUP($B42,'LED #2'!$A$15:$I$114,F$39,0)","v":0.20301107012072728},{"$f":"VLOOKUP($B42,'LED #3'!$A$15:$I$114,G$39,0)","v":{"$error":"#N/A"}},{"$f":"VLOOKUP($B42,'LED #3'!$A$15:$I$114,H$39,0)","v":{"$error":"#N/A"}},{"$f":"VLOOKUP($B42,'LED #4'!$A$15:$I$114,I$39,0)","v":{"$error":"#N/A"}},{"$f":"VLOOKUP($B42,'LED #4'!$A$15:$I$114,J$39,0)","v":{"$error":"#N/A"}}]
[null,{"$f":"Table!B56","v":0.095},{"$f":"VLOOKUP($B43,'LED #1'!$A$15:$I$114,C$39,0)","v":5.186630552996523},{"$f":"VLOOKUP($B43,'LED #1'!$A$15:$I$114,D$39,0)","v":0.4927299025346697},{"$f":"VLOOKUP($B43,'LED #2'!$A$15:$I$114,E$39,0)","v":2.5460371888601014},{"$f":"VLOOKUP($B43,'LED #2'!$A$15:$I$114,F$39,0)","v":0.24187353294170963},{"$f":"VLOOKUP($B43,'LED #3'!$A$15:$I$114,G$39,0)","v":{"$error":"#N/A"}},{"$f":"VLOOKUP($B43,'LED #3'!$A$15:$I$114,H$39,0)","v":{"$error":"#N/A"}},{"$f":"VLOOKUP($B43,'LED #4'!$A$15:$I$114,I$39,0)","v":{"$error":"#N/A"}},{"$f":"VLOOKUP($B43,'LED #4'!$A$15:$I$114,J$39,0)","v":{"$error":"#N/A"}}]
[null,{"$f":"Table!B57","v":{"v":0.11,"d":"0.110"}},{"$f":"VLOOKUP($B44,'LED #1'!$A$15:$I$114,C$39,0)","v":5.210713856973091},{"$f":"VLOOKUP($B44,'LED #1'!$A$15:$I$114,D$39,0)","v":0.57317852426704},{"$f":"VLOOKUP($B44,'LED #2'!$A$15:$I$114,E$39,0)","v":2.554403370510816},{"$f":"VLOOKUP($B44,'LED #2'!$A$15:$I$114,F$39,0)","v":0.28098437075618976},{"$f":"VLOOKUP($B44,'LED #3'!$A$15:$I$114,G$39,0)","v":{"$error":"#N/A"}},{"$f":"VLOOKUP($B44,'LED #3'!$A$15:$I$114,H$39,0)","v":{"$error":"#N/A"}},{"$f":"VLOOKUP($B44,'LED #4'!$A$15:$I$114,I$39,0)","v":{"$error":"#N/A"}},{"$f":"VLOOKUP($B44,'LED #4'!$A$15:$I$114,J$39,0)","v":{"$error":"#N/A"}}]
[null,{"$f":"Table!B58","v":0.125},{"$f":"VLOOKUP($B45,'LED #1'!$A$15:$I$114,C$39,0)","v":5.234627542391146},{"$f":"VLOOKUP($B45,'LED #1'!$A$15:$I$114,D$39,0)","v":0.6543284427988932},{"$f":"VLOOKUP($B45,'LED #2'!$A$15:$I$114,E$39,0)","v":2.562737048236611},{"$f":"VLOOKUP($B45,'LED #2'!$A$15:$I$114,F$39,0)","v":0.32034213102957637},{"$f":"VLOOKUP($B45,'LED #3'!$A$15:$I$114,G$39,0)","v":{"$error":"#N/A"}},{"$f":"VLOOKUP($B45,'LED #3'!$A$15:$I$114,H$39,0)","v":{"$error":"#N/A"}},{"$f":"VLOOKUP($B45,'LED #4'!$A$15:$I$114,I$39,0)","v":{"$error":"#N/A"}},{"$f":"VLOOKUP($B45,'LED #4'!$A$15:$I$114,J$39,0)","v":{"$error":"#N/A"}}]
[null,{"$f":"Table!B59","v":{"v":0.14,"d":"0.140"}},{"$f":"VLOOKUP($B46,'LED #1'!$A$15:$I$114,C$39,0)","v":5.25837280387313},{"$f":"VLOOKUP($B46,'LED #1'!$A$15:$I$114,D$39,0)","v":0.7361721925422383},{"$f":"VLOOKUP($B46,'LED #2'!$A$15:$I$114,E$39,0)","v":2.571038348320321},{"$f":"VLOOKUP($B46,'LED #2'!$A$15:$I$114,F$39,0)","v":0.359945368764845},{"$f":"VLOOKUP($B46,'LED #3'!$A$15:$I$114,G$39,0)","v":{"$error":"#N/A"}},{"$f":"VLOOKUP($B46,'LED #3'!$A$15:$I$114,H$39,0)","v":{"$error":"#N/A"}},{"$f":"VLOOKUP($B46,'LED #4'!$A$15:$I$114,I$39,0)","v":{"$error":"#N/A"}},{"$f":"VLOOKUP($B46,'LED #4'!$A$15:$I$114,J$39,0)","v":{"$error":"#N/A"}}]
[null,{"$f":"Table!B60","v":0.155},{"$f":"VLOOKUP($B47,'LED #1'!$A$15:$I$114,C$39,0)","v":5.281950827627767},{"$f":"VLOOKUP($B47,'LED #1'!$A$15:$I$114,D$39,0)","v":0.818702378282304},{"$f":"VLOOKUP($B47,'LED #2'!$A$15:$I$114,E$39,0)","v":2.579307396554153},{"$f":"VLOOKUP($B47,'LED #2'!$A$15:$I$114,F$39,0)","v":0.39979264646589374},{"$f":"VLOOKUP($B47,'LED #3'!$A$15:$I$114,G$39,0)","v":{"$error":"#N/A"}},{"$f":"VLOOKUP($B47,'LED #3'!$A$15:$I$114,H$39,0)","v":{"$error":"#N/A"}},{"$f":"VLOOKUP($B47,'LED #4'!$A$15:$I$114,I$39,0)","v":{"$error":"#N/A"}},{"$f":"VLOOKUP($B47,'LED #4'!$A$15:$I$114,J$39,0)","v":{"$error":"#N/A"}}]
[null,{"$f":"Table!B61","v":{"v":0.17,"d":"0.170"}},{"$f":"VLOOKUP($B48,'LED #1'!$A$15:$I$114,C$39,0)","v":5.30536279150932},{"$f":"VLOOKUP($B48,'LED #1'!$A$15:$I$114,D$39,0)","v":0.9019116745565845},{"$f":"VLOOKUP($B48,'LED #2'!$A$15:$I$114,E$39,0)","v":2.58754431824159},{"$f":"VLOOKUP($B48,'LED #2'!$A$15:$I$114,F$39,0)","v":0.4398825341010703},{"$f":"VLOOKUP($B48,'LED #3'!$A$15:$I$114,G$39,0)","v":{"$error":"#N/A"}},{"$f":"VLOOKUP($B48,'LED #3'!$A$15:$I$114,H$39,0)","v":{"$error":"#N/A"}},{"$f":"VLOOKUP($B48,'LED #4'!$A$15:$I$114,I$39,0)","v":{"$error":"#N/A"}},{"$f":"VLOOKUP($B48,'LED #4'!$A$15:$I$114,J$39,0)","v":{"$error":"#N/A"}}]
[null,{"$f":"Table!B62","v":0.185},{"$f":"VLOOKUP($B49,'LED #1'!$A$15:$I$114,C$39,0)","v":5.328609865076428},{"$f":"VLOOKUP($B49,'LED #1'!$A$15:$I$114,D$39,0)","v":0.9857928250391392},{"$f":"VLOOKUP($B49,'LED #2'!$A$15:$I$114,E$39,0)","v":2.595749238199293},{"$f":"VLOOKUP($B49,'LED #2'!$A$15:$I$114,F$39,0)","v":0.48021360906686916},{"$f":"VLOOKUP($B49,'LED #3'!$A$15:$I$114,G$39,0)","v":{"$error":"#N/A"}},{"$f":"VLOOKUP($B49,'LED #3'!$A$15:$I$114,H$39,0)","v":{"$error":"#N/A"}},{"$f":"VLOOKUP($B49,'LED #4'!$A$15:$I$114,I$39,0)","v":{"$error":"#N/A"}},{"$f":"VLOOKUP($B49,'LED #4'!$A$15:$I$114,J$39,0)","v":{"$error":"#N/A"}}]
[null,{"$f":"Table!B63","v":{"v":0.2,"d":"0.200"}},{"$f":"VLOOKUP($B50,'LED #1'!$A$15:$I$114,C$39,0)","v":5.351693209650541},{"$f":"VLOOKUP($B50,'LED #1'!$A$15:$I$114,D$39,0)","v":1.0703386419301084},{"$f":"VLOOKUP($B50,'LED #2'!$A$15:$I$114,E$39,0)","v":2.603922280758989},{"$f":"VLOOKUP($B50,'LED #2'!$A$15:$I$114,F$39,0)","v":0.5207844561517978},{"$f":"VLOOKUP($B50,'LED #3'!$A$15:$I$114,G$39,0)","v":{"$error":"#N/A"}},{"$f":"VLOOKUP($B50,'LED #3'!$A$15:$I$114,H$39,0)","v":{"$error":"#N/A"}},{"$f":"VLOOKUP($B50,'LED #4'!$A$15:$I$114,I$39,0)","v":{"$error":"#N/A"}},{"$f":"VLOOKUP($B50,'LED #4'!$A$15:$I$114,J$39,0)","v":{"$error":"#N/A"}}]
[null,{"$f":"Table!B64","v":0.215},{"$f":"VLOOKUP($B51,'LED #1'!$A$15:$I$114,C$39,0)","v":5.374613978373929},{"$f":"VLOOKUP($B51,'LED #1'!$A$15:$I$114,D$39,0)","v":1.1555420053503946},{"$f":"VLOOKUP($B51,'LED #2'!$A$15:$I$114,E$39,0)","v":2.6120635697693575},{"$f":"VLOOKUP($B51,'LED #2'!$A$15:$I$114,F$39,0)","v":0.5615936675004118},{"$f":"VLOOKUP($B51,'LED #3'!$A$15:$I$114,G$39,0)","v":{"$error":"#N/A"}},{"$f":"VLOOKUP($B51,'LED #3'!$A$15:$I$114,H$39,0)","v":{"$error":"#N/A"}},{"$f":"VLOOKUP($B51,'LED #4'!$A$15:$I$114,I$39,0)","v":{"$error":"#N/A"}},{"$f":"VLOOKUP($B51,'LED #4'!$A$15:$I$114,J$39,0)","v":{"$error":"#N/A"}}]
[null,{"$f":"Table!B65","v":{"v":0.23,"d":"0.230"}},{"$f":"VLOOKUP($B52,'LED #1'!$A$15:$I$114,C$39,0)","v":5.3973733162672834},{"$f":"VLOOKUP($B52,'LED #1'!$A$15:$I$114,D$39,0)","v":1.2413958627414752},{"$f":"VLOOKUP($B52,'LED #2'!$A$15:$I$114,E$39,0)","v":2.620173228597908},{"$f":"VLOOKUP($B52,'LED #2'!$A$15:$I$114,F$39,0)","v":0.6026398425775189},{"$f":"VLOOKUP($B52,'LED #3'!$A$15:$I$114,G$39,0)","v":{"$error":"#N/A"}},{"$f":"VLOOKUP($B52,'LED #3'!$A$15:$I$114,H$39,0)","v":{"$error":"#N/A"}},{"$f":"VLOOKUP($B52,'LED #4'!$A$15:$I$114,I$39,0)","v":{"$error":"#N/A"}},{"$f":"VLOOKUP($B52,'LED #4'!$A$15:$I$114,J$39,0)","v":{"$error":"#N/A"}}]
[null,{"$f":"Table!B66","v":0.245},{"$f":"VLOOKUP($B53,'LED #1'!$A$15:$I$114,C$39,0)","v":5.419972360286927},{"$f":"VLOOKUP($B53,'LED #1'!$A$15:$I$114,D$39,0)","v":1.327893228270297},{"$f":"VLOOKUP($B53,'LED #2'!$A$15:$I$114,E$39,0)","v":2.6282513801328458},{"$f":"VLOOKUP($B53,'LED #2'!$A$15:$I$114,F$39,0)","v":0.6439215881325472},{"$f":"VLOOKUP($B53,'LED #3'!$A$15:$I$114,G$39,0)","v":{"$error":"#N/A"}},{"$f":"VLOOKUP($B53,'LED #3'!$A$15:$I$114,H$39,0)","v":{"$error":"#N/A"}},{"$f":"VLOOKUP($B53,'LED #4'!$A$15:$I$114,I$39,0)","v":{"$error":"#N/A"}},{"$f":"VLOOKUP($B53,'LED #4'!$A$15:$I$114,J$39,0)","v":{"$error":"#N/A"}}]
[null,{"$f":"Table!B67","v":{"v":0.26,"d":"0.260"}},{"$f":"VLOOKUP($B54,'LED #1'!$A$15:$I$114,C$39,0)","v":5.442412239381605},{"$f":"VLOOKUP($B54,'LED #1'!$A$15:$I$114,D$39,0)","v":1.4150271822392173},{"$f":"VLOOKUP($B54,'LED #2'!$A$15:$I$114,E$39,0)","v":2.6362981467849367},{"$f":"VLOOKUP($B54,'LED #2'!$A$15:$I$114,F$39,0)","v":0.6854375181640836},{"$f":"VLOOKUP($B54,'LED #3'!$A$15:$I$114,G$39,0)","v":{"$error":"#N/A"}},{"$f":"VLOOKUP($B54,'LED #3'!$A$15:$I$114,H$39,0)","v":{"$error":"#N/A"}},{"$f":"VLOOKUP($B54,'LED #4'!$A$15:$I$114,I$39,0)","v":{"$error":"#N/A"}},{"$f":"VLOOKUP($B54,'LED #4'!$A$15:$I$114,J$39,0)","v":{"$error":"#N/A"}}]
[null,{"$f":"Table!B68","v":0.275},{"$f":"VLOOKUP($B55,'LED #1'!$A$15:$I$114,C$39,0)","v":5.464694074548884},{"$f":"VLOOKUP($B55,'LED #1'!$A$15:$I$114,D$39,0)","v":1.5027908705009432},{"$f":"VLOOKUP($B55,'LED #2'!$A$15:$I$114,E$39,0)","v":2.6443136504893627},{"$f":"VLOOKUP($B55,'LED #2'!$A$15:$I$114,F$39,0)","v":0.7271862538845748},{"$f":"VLOOKUP($B55,'LED #3'!$A$15:$I$114,G$39,0)","v":{"$error":"#N/A"}},{"$f":"VLOOKUP($B55,'LED #3'!$A$15:$I$114,H$39,0)","v":{"$error":"#N/A"}},{"$f":"VLOOKUP($B55,'LED #4'!$A$15:$I$114,I$39,0)","v":{"$error":"#N/A"}},{"$f":"VLOOKUP($B55,'LED #4'!$A$15:$I$114,J$39,0)","v":{"$error":"#N/A"}}]
[null,{"$f":"Table!B69","v":{"v":0.29,"d":"0.290"}},{"$f":"VLOOKUP($B56,'LED #1'!$A$15:$I$114,C$39,0)","v":5.486818978891149},{"$f":"VLOOKUP($B56,'LED #1'!$A$15:$I$114,D$39,0)","v":1.591177503878433},{"$f":"VLOOKUP($B56,'LED #2'!$A$15:$I$114,E$39,0)","v":2.6522980127075675},{"$f":"VLOOKUP($B56,'LED #2'!$A$15:$I$114,F$39,0)","v":0.7691664236851945},{"$f":"VLOOKUP($B56,'LED #3'!$A$15:$I$114,G$39,0)","v":{"$error":"#N/A"}},{"$f":"VLOOKUP($B56,'LED #3'!$A$15:$I$114,H$39,0)","v":{"$error":"#N/A"}},{"$f":"VLOOKUP($B56,'LED #4'!$A$15:$I$114,I$39,0)","v":{"$error":"#N/A"}},{"$f":"VLOOKUP($B56,'LED #4'!$A$15:$I$114,J$39,0)","v":{"$error":"#N/A"}}]
[null,{"$f":"Table!B70","v":0.305},{"$f":"VLOOKUP($B57,'LED #1'!$A$15:$I$114,C$39,0)","v":5.508788057671215},{"$f":"VLOOKUP($B57,'LED #1'!$A$15:$I$114,D$39,0)","v":1.6801803575897207},{"$f":"VLOOKUP($B57,'LED #2'!$A$15:$I$114,E$39,0)","v":2.660251354429098},{"$f":"VLOOKUP($B57,'LED #2'!$A$15:$I$114,F$39,0)","v":0.811376663100875},{"$f":"VLOOKUP($B57,'LED #3'!$A$15:$I$114,G$39,0)","v":{"$error":"#N/A"}},{"$f":"VLOOKUP($B57,'LED #3'!$A$15:$I$114,H$39,0)","v":{"$error":"#N/A"}},{"$f":"VLOOKUP($B57,'LED #4'!$A$15:$I$114,I$39,0)","v":{"$error":"#N/A"}},{"$f":"VLOOKUP($B57,'LED #4'!$A$15:$I$114,J$39,0)","v":{"$error":"#N/A"}}]
[null,{"$f":"Table!B71","v":{"v":0.32,"d":"0.320"}},{"$f":"VLOOKUP($B58,'LED #1'!$A$15:$I$114,C$39,0)","v":5.530602408367538},{"$f":"VLOOKUP($B58,'LED #1'!$A$15:$I$114,D$39,0)","v":1.7697927706776122},{"$f":"VLOOKUP($B58,'LED #2'!$A$15:$I$114,E$39,0)","v":2.6681737961734386},{"$f":"VLOOKUP($B58,'LED #2'!$A$15:$I$114,F$39,0)","v":0.8538156147755004},{"$f":"VLOOKUP($B58,'LED #3'!$A$15:$I$114,G$39,0)","v":{"$error":"#N/A"}},{"$f":"VLOOKUP($B58,'LED #3'!$A$15:$I$114,H$39,0)","v":{"$error":"#N/A"}},{"$f":"VLOOKUP($B58,'LED #4'!$A$15:$I$114,I$39,0)","v":{"$error":"#N/A"}},{"$f":"VLOOKUP($B58,'LED #4'!$A$15:$I$114,J$39,0)","v":{"$error":"#N/A"}}]
[null,{"$f":"Table!B72","v":0.335},{"$f":"VLOOKUP($B59,'LED #1'!$A$15:$I$114,C$39,0)","v":5.552263120729038},{"$f":"VLOOKUP($B59,'LED #1'!$A$15:$I$114,D$39,0)","v":1.8600081454442279},{"$f":"VLOOKUP($B59,'LED #2'!$A$15:$I$114,E$39,0)","v":2.676065457991836},{"$f":"VLOOKUP($B59,'LED #2'!$A$15:$I$114,F$39,0)","v":0.896481928427265},{"$f":"VLOOKUP($B59,'LED #3'!$A$15:$I$114,G$39,0)","v":{"$error":"#N/A"}},{"$f":"VLOOKUP($B59,'LED #3'!$A$15:$I$114,H$39,0)","v":{"$error":"#N/A"}},{"$f":"VLOOKUP($B59,'LED #4'!$A$15:$I$114,I$39,0)","v":{"$error":"#N/A"}},{"$f":"VLOOKUP($B59,'LED #4'!$A$15:$I$114,J$39,0)","v":{"$error":"#N/A"}}]
[null,{"$f":"Table!B73","v":{"v":0.35,"d":"0.350"}},{"$f":"VLOOKUP($B60,'LED #1'!$A$15:$I$114,C$39,0)","v":5.573771276829542},{"$f":"VLOOKUP($B60,'LED #1'!$A$15:$I$114,D$39,0)","v":1.9508199468903396},{"$f":"VLOOKUP($B60,'LED #2'!$A$15:$I$114,E$39,0)","v":2.6839264594691192},{"$f":"VLOOKUP($B60,'LED #2'!$A$15:$I$114,F$39,0)","v":0.9393742608141916},{"$f":"VLOOKUP($B60,'LED #3'!$A$15:$I$114,G$39,0)","v":{"$error":"#N/A"}},{"$f":"VLOOKUP($B60,'LED #3'!$A$15:$I$114,H$39,0)","v":{"$error":"#N/A"}},{"$f":"VLOOKUP($B60,'LED #4'!$A$15:$I$114,I$39,0)","v":{"$error":"#N/A"}},{"$f":"VLOOKUP($B60,'LED #4'!$A$15:$I$114,J$39,0)","v":{"$error":"#N/A"}}]
[null,{"$f":"Table!B74","v":0.365},{"$f":"VLOOKUP($B61,'LED #1'!$A$15:$I$114,C$39,0)","v":5.595127951121837},{"$f":"VLOOKUP($B61,'LED #1'!$A$15:$I$114,D$39,0)","v":2.0422217021594706},{"$f":"VLOOKUP($B61,'LED #2'!$A$15:$I$114,E$39,0)","v":2.6917569197255107},{"$f":"VLOOKUP($B61,'LED #2'!$A$15:$I$114,F$39,0)","v":0.9824912756998114},{"$f":"VLOOKUP($B61,'LED #3'!$A$15:$I$114,G$39,0)","v":{"$error":"#N/A"}},{"$f":"VLOOKUP($B61,'LED #3'!$A$15:$I$114,H$39,0)","v":{"$error":"#N/A"}},{"$f":"VLOOKUP($B61,'LED #4'!$A$15:$I$114,I$39,0)","v":{"$error":"#N/A"}},{"$f":"VLOOKUP($B61,'LED #4'!$A$15:$I$114,J$39,0)","v":{"$error":"#N/A"}}]
[null,{"$f":"Table!B75","v":{"v":0.38,"d":"0.380"}},{"$f":"VLOOKUP($B62,'LED #1'!$A$15:$I$114,C$39,0)","v":5.616334210491346},{"$f":"VLOOKUP($B62,'LED #1'!$A$15:$I$114,D$39,0)","v":2.1342069999867115},{"$f":"VLOOKUP($B62,'LED #2'!$A$15:$I$114,E$39,0)","v":2.699556957418434},{"$f":"VLOOKUP($B62,'LED #2'!$A$15:$I$114,F$39,0)","v":1.025831643819005},{"$f":"VLOOKUP($B62,'LED #3'!$A$15:$I$114,G$39,0)","v":{"$error":"#N/A"}},{"$f":"VLOOKUP($B62,'LED #3'!$A$15:$I$114,H$39,0)","v":{"$error":"#N/A"}},{"$f":"VLOOKUP($B62,'LED #4'!$A$15:$I$114,I$39,0)","v":{"$error":"#N/A"}},{"$f":"VLOOKUP($B62,'LED #4'!$A$15:$I$114,J$39,0)","v":{"$error":"#N/A"}}]
[null,{"$f":"Table!B76","v":0.395},{"$f":"VLOOKUP($B63,'LED #1'!$A$15:$I$114,C$39,0)","v":5.637391114309424},{"$f":"VLOOKUP($B63,'LED #1'!$A$15:$I$114,D$39,0)","v":2.226769490152223},{"$f":"VLOOKUP($B63,'LED #2'!$A$15:$I$114,E$39,0)","v":2.7073266907443085},{"$f":"VLOOKUP($B63,'LED #2'!$A$15:$I$114,F$39,0)","v":1.0693940428440019},{"$f":"VLOOKUP($B63,'LED #3'!$A$15:$I$114,G$39,0)","v":{"$error":"#N/A"}},{"$f":"VLOOKUP($B63,'LED #3'!$A$15:$I$114,H$39,0)","v":{"$error":"#N/A"}},{"$f":"VLOOKUP($B63,'LED #4'!$A$15:$I$114,I$39,0)","v":{"$error":"#N/A"}},{"$f":"VLOOKUP($B63,'LED #4'!$A$15:$I$114,J$39,0)","v":{"$error":"#N/A"}}]
[null,{"$f":"Table!B77","v":{"v":0.41,"d":"0.410"}},{"$f":"VLOOKUP($B64,'LED #1'!$A$15:$I$114,C$39,0)","v":5.658299714486281},{"$f":"VLOOKUP($B64,'LED #1'!$A$15:$I$114,D$39,0)","v":2.3199028829393753},{"$f":"VLOOKUP($B64,'LED #2'!$A$15:$I$114,E$39,0)","v":2.7150662374403423},{"$f":"VLOOKUP($B64,'LED #2'!$A$15:$I$114,F$39,0)","v":1.1131771573505402},{"$f":"VLOOKUP($B64,'LED #3'!$A$15:$I$114,G$39,0)","v":{"$error":"#N/A"}},{"$f":"VLOOKUP($B64,'LED #3'!$A$15:$I$114,H$39,0)","v":{"$error":"#N/A"}},{"$f":"VLOOKUP($B64,'LED #4'!$A$15:$I$114,I$39,0)","v":{"$error":"#N/A"}},{"$f":"VLOOKUP($B64,'LED #4'!$A$15:$I$114,J$39,0)","v":{"$error":"#N/A"}}]
[null,{"$f":"Table!B78","v":0.425},{"$f":"VLOOKUP($B65,'LED #1'!$A$15:$I$114,C$39,0)","v":5.6790610555235315},{"$f":"VLOOKUP($B65,'LED #1'!$A$15:$I$114,D$39,0)","v":2.4136009485975007},{"$f":"VLOOKUP($B65,'LED #2'!$A$15:$I$114,E$39,0)","v":2.7227757147863167},{"$f":"VLOOKUP($B65,'LED #2'!$A$15:$I$114,F$39,0)","v":1.1571796787841846},{"$f":"VLOOKUP($B65,'LED #3'!$A$15:$I$114,G$39,0)","v":{"$error":"#N/A"}},{"$f":"VLOOKUP($B65,'LED #3'!$A$15:$I$114,H$39,0)","v":{"$error":"#N/A"}},{"$f":"VLOOKUP($B65,'LED #4'!$A$15:$I$114,I$39,0)","v":{"$error":"#N/A"}},{"$f":"VLOOKUP($B65,'LED #4'!$A$15:$I$114,J$39,0)","v":{"$error":"#N/A"}}]
[null,{"$f":"Table!B79","v":{"v":0.44,"d":"0.440"}},{"$f":"VLOOKUP($B66,'LED #1'!$A$15:$I$114,C$39,0)","v":5.699676174566368},{"$f":"VLOOKUP($B66,'LED #1'!$A$15:$I$114,D$39,0)","v":2.5078575168092017},{"$f":"VLOOKUP($B66,'LED #2'!$A$15:$I$114,E$39,0)","v":2.7304552396063615},{"$f":"VLOOKUP($B66,'LED #2'!$A$15:$I$114,F$39,0)","v":1.201400305426799},{"$f":"VLOOKUP($B66,'LED #3'!$A$15:$I$114,G$39,0)","v":{"$error":"#N/A"}},{"$f":"VLOOKUP($B66,'LED #3'!$A$15:$I$114,H$39,0)","v":{"$error":"#N/A"}},{"$f":"VLOOKUP($B66,'LED #4'!$A$15:$I$114,I$39,0)","v":{"$error":"#N/A"}},{"$f":"VLOOKUP($B66,'LED #4'!$A$15:$I$114,J$39,0)","v":{"$error":"#N/A"}}]
[null,{"$f":"Table!B80","v":0.455},{"$f":"VLOOKUP($B67,'LED #1'!$A$15:$I$114,C$39,0)","v":5.720146101455378},{"$f":"VLOOKUP($B67,'LED #1'!$A$15:$I$114,D$39,0)","v":2.602666476162197},{"$f":"VLOOKUP($B67,'LED #2'!$A$15:$I$114,E$39,0)","v":2.7381049282707277},{"$f":"VLOOKUP($B67,'LED #2'!$A$15:$I$114,F$39,0)","v":1.2458377423631812},{"$f":"VLOOKUP($B67,'LED #3'!$A$15:$I$114,G$39,0)","v":{"$error":"#N/A"}},{"$f":"VLOOKUP($B67,'LED #3'!$A$15:$I$114,H$39,0)","v":{"$error":"#N/A"}},{"$f":"VLOOKUP($B67,'LED #4'!$A$15:$I$114,I$39,0)","v":{"$error":"#N/A"}},{"$f":"VLOOKUP($B67,'LED #4'!$A$15:$I$114,J$39,0)","v":{"$error":"#N/A"}}]
[null,{"$f":"Table!B81","v":{"v":0.47,"d":"0.470"}},{"$f":"VLOOKUP($B68,'LED #1'!$A$15:$I$114,C$39,0)","v":5.7404718587779895},{"$f":"VLOOKUP($B68,'LED #1'!$A$15:$I$114,D$39,0)","v":2.698021773625655},{"$f":"VLOOKUP($B68,'LED #2'!$A$15:$I$114,E$39,0)","v":2.7457248966975487},{"$f":"VLOOKUP($B68,'LED #2'!$A$15:$I$114,F$39,0)","v":1.2904907014478477},{"$f":"VLOOKUP($B68,'LED #3'!$A$15:$I$114,G$39,0)","v":{"$error":"#N/A"}},{"$f":"VLOOKUP($B68,'LED #3'!$A$15:$I$114,H$39,0)","v":{"$error":"#N/A"}},{"$f":"VLOOKUP($B68,'LED #4'!$A$15:$I$114,I$39,0)","v":{"$error":"#N/A"}},{"$f":"VLOOKUP($B68,'LED #4'!$A$15:$I$114,J$39,0)","v":{"$error":"#N/A"}}]
[null,{"$f":"Table!B82","v":0.485},{"$f":"VLOOKUP($B69,'LED #1'!$A$15:$I$114,C$39,0)","v":5.76065446191955},{"$f":"VLOOKUP($B69,'LED #1'!$A$15:$I$114,D$39,0)","v":2.793917414030982},{"$f":"VLOOKUP($B69,'LED #2'!$A$15:$I$114,E$39,0)","v":2.753315260354599},{"$f":"VLOOKUP($B69,'LED #2'!$A$15:$I$114,F$39,0)","v":1.3353579012719805},{"$f":"VLOOKUP($B69,'LED #3'!$A$15:$I$114,G$39,0)","v":{"$error":"#N/A"}},{"$f":"VLOOKUP($B69,'LED #3'!$A$15:$I$114,H$39,0)","v":{"$error":"#N/A"}},{"$f":"VLOOKUP($B69,'LED #4'!$A$15:$I$114,I$39,0)","v":{"$error":"#N/A"}},{"$f":"VLOOKUP($B69,'LED #4'!$A$15:$I$114,J$39,0)","v":{"$error":"#N/A"}}]
[null,{"$f":"Table!B83","v":{"v":0.5,"d":"0.500"}},{"$f":"VLOOKUP($B70,'LED #1'!$A$15:$I$114,C$39,0)","v":5.780694919114061},{"$f":"VLOOKUP($B70,'LED #1'!$A$15:$I$114,D$39,0)","v":2.8903474595570304},{"$f":"VLOOKUP($B70,'LED #2'!$A$15:$I$114,E$39,0)","v":2.7608761342610406},{"$f":"VLOOKUP($B70,'LED #2'!$A$15:$I$114,F$39,0)","v":1.3804380671305203},{"$f":"VLOOKUP($B70,'LED #3'!$A$15:$I$114,G$39,0)","v":{"$error":"#N/A"}},{"$f":"VLOOKUP($B70,'LED #3'!$A$15:$I$114,H$39,0)","v":{"$error":"#N/A"}},{"$f":"VLOOKUP($B70,'LED #4'!$A$15:$I$114,I$39,0)","v":{"$error":"#N/A"}},{"$f":"VLOOKUP($B70,'LED #4'!$A$15:$I$114,J$39,0)","v":{"$error":"#N/A"}}]
[null,{"$f":"Table!B84","v":0.515},{"$f":"VLOOKUP($B71,'LED #1'!$A$15:$I$114,C$39,0)","v":5.8005942314945305},{"$f":"VLOOKUP($B71,'LED #1'!$A$15:$I$114,D$39,0)","v":2.9873060292196834},{"$f":"VLOOKUP($B71,'LED #2'!$A$15:$I$114,E$39,0)","v":2.7684076329891703},{"$f":"VLOOKUP($B71,'LED #2'!$A$15:$I$114,F$39,0)","v":1.4257299309894227},{"$f":"VLOOKUP($B71,'LED #3'!$A$15:$I$114,G$39,0)","v":{"$error":"#N/A"}},{"$f":"VLOOKUP($B71,'LED #3'!$A$15:$I$114,H$39,0)","v":{"$error":"#N/A"}},{"$f":"VLOOKUP($B71,'LED #4'!$A$15:$I$114,I$39,0)","v":{"$error":"#N/A"}},{"$f":"VLOOKUP($B71,'LED #4'!$A$15:$I$114,J$39,0)","v":{"$error":"#N/A"}}]
[null,{"$f":"Table!B85","v":{"v":0.53,"d":"0.530"}},{"$f":"VLOOKUP($B72,'LED #1'!$A$15:$I$114,C$39,0)","v":5.820353393142996},{"$f":"VLOOKUP($B72,'LED #1'!$A$15:$I$114,D$39,0)","v":3.084787298365788},{"$f":"VLOOKUP($B72,'LED #2'!$A$15:$I$114,E$39,0)","v":2.775909870666153},{"$f":"VLOOKUP($B72,'LED #2'!$A$15:$I$114,F$39,0)","v":1.471232231453061},{"$f":"VLOOKUP($B72,'LED #3'!$A$15:$I$114,G$39,0)","v":{"$error":"#N/A"}},{"$f":"VLOOKUP($B72,'LED #3'!$A$15:$I$114,H$39,0)","v":{"$error":"#N/A"}},{"$f":"VLOOKUP($B72,'LED #4'!$A$15:$I$114,I$39,0)","v":{"$error":"#N/A"}},{"$f":"VLOOKUP($B72,'LED #4'!$A$15:$I$114,J$39,0)","v":{"$error":"#N/A"}}]
[null,{"$f":"Table!B86","v":0.545},{"$f":"VLOOKUP($B73,'LED #1'!$A$15:$I$114,C$39,0)","v":5.839973391140186},{"$f":"VLOOKUP($B73,'LED #1'!$A$15:$I$114,D$39,0)","v":3.1827854981714014},{"$f":"VLOOKUP($B73,'LED #2'!$A$15:$I$114,E$39,0)","v":2.7833829609757506},{"$f":"VLOOKUP($B73,'LED #2'!$A$15:$I$114,F$39,0)","v":1.5169437137317843},{"$f":"VLOOKUP($B73,'LED #3'!$A$15:$I$114,G$39,0)","v":{"$error":"#N/A"}},{"$f":"VLOOKUP($B73,'LED #3'!$A$15:$I$114,H$39,0)","v":{"$error":"#N/A"}},{"$f":"VLOOKUP($B73,'LED #4'!$A$15:$I$114,I$39,0)","v":{"$error":"#N/A"}},{"$f":"VLOOKUP($B73,'LED #4'!$A$15:$I$114,J$39,0)","v":{"$error":"#N/A"}}]
[null,{"$f":"Table!B87","v":{"v":0.56,"d":"0.560"}},{"$f":"VLOOKUP($B74,'LED #1'!$A$15:$I$114,C$39,0)","v":5.859455205614817},{"$f":"VLOOKUP($B74,'LED #1'!$A$15:$I$114,D$39,0)","v":3.281294915144298},{"$f":"VLOOKUP($B74,'LED #2'!$A$15:$I$114,E$39,0)","v":2.790827017160047},{"$f":"VLOOKUP($B74,'LED #2'!$A$15:$I$114,F$39,0)","v":1.5628631296096265},{"$f":"VLOOKUP($B74,'LED #3'!$A$15:$I$114,G$39,0)","v":{"$error":"#N/A"}},{"$f":"VLOOKUP($B74,'LED #3'!$A$15:$I$114,H$39,0)","v":{"$error":"#N/A"}},{"$f":"VLOOKUP($B74,'LED #4'!$A$15:$I$114,I$39,0)","v":{"$error":"#N/A"}},{"$f":"VLOOKUP($B74,'LED #4'!$A$15:$I$114,J$39,0)","v":{"$error":"#N/A"}}]
[null,{"$f":"Table!B88","v":0.575},{"$f":"VLOOKUP($B75,'LED #1'!$A$15:$I$114,C$39,0)","v":5.878799809792572},{"$f":"VLOOKUP($B75,'LED #1'!$A$15:$I$114,D$39,0)","v":3.3803098906307287},{"$f":"VLOOKUP($B75,'LED #2'!$A$15:$I$114,E$39,0)","v":2.7982421520211624},{"$f":"VLOOKUP($B75,'LED #2'!$A$15:$I$114,F$39,0)","v":1.6089892374121684},{"$f":"VLOOKUP($B75,'LED #3'!$A$15:$I$114,G$39,0)","v":{"$error":"#N/A"}},{"$f":"VLOOKUP($B75,'LED #3'!$A$15:$I$114,H$39,0)","v":{"$error":"#N/A"}},{"$f":"VLOOKUP($B75,'LED #4'!$A$15:$I$114,I$39,0)","v":{"$error":"#N/A"}},{"$f":"VLOOKUP($B75,'LED #4'!$A$15:$I$114,J$39,0)","v":{"$error":"#N/A"}}]
[null,{"$f":"Table!B89","v":{"v":0.59,"d":"0.590"}},{"$f":"VLOOKUP($B76,'LED #1'!$A$15:$I$114,C$39,0)","v":5.89800817004471},{"$f":"VLOOKUP($B76,'LED #1'!$A$15:$I$114,D$39,0)","v":3.4798248203263786},{"$f":"VLOOKUP($B76,'LED #2'!$A$15:$I$114,E$39,0)","v":2.8056284779229634},{"$f":"VLOOKUP($B76,'LED #2'!$A$15:$I$114,F$39,0)","v":1.6553208019745485},{"$f":"VLOOKUP($B76,'LED #3'!$A$15:$I$114,G$39,0)","v":{"$error":"#N/A"}},{"$f":"VLOOKUP($B76,'LED #3'!$A$15:$I$114,H$39,0)","v":{"$error":"#N/A"}},{"$f":"VLOOKUP($B76,'LED #4'!$A$15:$I$114,I$39,0)","v":{"$error":"#N/A"}},{"$f":"VLOOKUP($B76,'LED #4'!$A$15:$I$114,J$39,0)","v":{"$error":"#N/A"}}]
[null,{"$f":"Table!B90","v":0.605},{"$f":"VLOOKUP($B77,'LED #1'!$A$15:$I$114,C$39,0)","v":5.917081245936341},{"$f":"VLOOKUP($B77,'LED #1'!$A$15:$I$114,D$39,0)","v":3.579834153791486},{"$f":"VLOOKUP($B77,'LED #2'!$A$15:$I$114,E$39,0)","v":2.8129861067927653},{"$f":"VLOOKUP($B77,'LED #2'!$A$15:$I$114,F$39,0)","v":1.701856594609623},{"$f":"VLOOKUP($B77,'LED #3'!$A$15:$I$114,G$39,0)","v":{"$error":"#N/A"}},{"$f":"VLOOKUP($B77,'LED #3'!$A$15:$I$114,H$39,0)","v":{"$error":"#N/A"}},{"$f":"VLOOKUP($B77,'LED #4'!$A$15:$I$114,I$39,0)","v":{"$error":"#N/A"}},{"$f":"VLOOKUP($B77,'LED #4'!$A$15:$I$114,J$39,0)","v":{"$error":"#N/A"}}]
[null,{"$f":"Table!B91","v":{"v":0.62,"d":"0.620"}},{"$f":"VLOOKUP($B78,'LED #1'!$A$15:$I$114,C$39,0)","v":5.9360199902743656},{"$f":"VLOOKUP($B78,'LED #1'!$A$15:$I$114,D$39,0)","v":3.6803323939701067},{"$f":"VLOOKUP($B78,'LED #2'!$A$15:$I$114,E$39,0)","v":2.8203151501230277},{"$f":"VLOOKUP($B78,'LED #2'!$A$15:$I$114,F$39,0)","v":1.7485953930762772},{"$f":"VLOOKUP($B78,'LED #3'!$A$15:$I$114,G$39,0)","v":{"$error":"#N/A"}},{"$f":"VLOOKUP($B78,'LED #3'!$A$15:$I$114,H$39,0)","v":{"$error":"#N/A"}},{"$f":"VLOOKUP($B78,'LED #4'!$A$15:$I$114,I$39,0)","v":{"$error":"#N/A"}},{"$f":"VLOOKUP($B78,'LED #4'!$A$15:$I$114,J$39,0)","v":{"$error":"#N/A"}}]
[null,{"$f":"Table!B92","v":0.635},{"$f":"VLOOKUP($B79,'LED #1'!$A$15:$I$114,C$39,0)","v":5.954825349155073},{"$f":"VLOOKUP($B79,'LED #1'!$A$15:$I$114,D$39,0)","v":3.7813140967134715},{"$f":"VLOOKUP($B79,'LED #2'!$A$15:$I$114,E$39,0)","v":2.8276157189730453},{"$f":"VLOOKUP($B79,'LED #2'!$A$15:$I$114,F$39,0)","v":1.7955359815478837},{"$f":"VLOOKUP($B79,'LED #3'!$A$15:$I$114,G$39,0)","v":{"$error":"#N/A"}},{"$f":"VLOOKUP($B79,'LED #3'!$A$15:$I$114,H$39,0)","v":{"$error":"#N/A"}},{"$f":"VLOOKUP($B79,'LED #4'!$A$15:$I$114,I$39,0)","v":{"$error":"#N/A"}},{"$f":"VLOOKUP($B79,'LED #4'!$A$15:$I$114,J$39,0)","v":{"$error":"#N/A"}}]
[null,{"$f":"Table!B93","v":{"v":0.65,"d":"0.650"}},{"$f":"VLOOKUP($B80,'LED #1'!$A$15:$I$114,C$39,0)","v":5.9734982620114},{"$f":"VLOOKUP($B80,'LED #1'!$A$15:$I$114,D$39,0)","v":3.8827738703074104},{"$f":"VLOOKUP($B80,'LED #2'!$A$15:$I$114,E$39,0)","v":2.8348879239706295},{"$f":"VLOOKUP($B80,'LED #2'!$A$15:$I$114,F$39,0)","v":1.8426771505809092},{"$f":"VLOOKUP($B80,'LED #3'!$A$15:$I$114,G$39,0)","v":{"$error":"#N/A"}},{"$f":"VLOOKUP($B80,'LED #3'!$A$15:$I$114,H$39,0)","v":{"$error":"#N/A"}},{"$f":"VLOOKUP($B80,'LED #4'!$A$15:$I$114,I$39,0)","v":{"$error":"#N/A"}},{"$f":"VLOOKUP($B80,'LED #4'!$A$15:$I$114,J$39,0)","v":{"$error":"#N/A"}}]
[null,{"$f":"Table!B94","v":0.665},{"$f":"VLOOKUP($B81,'LED #1'!$A$15:$I$114,C$39,0)","v":5.992039661659863},{"$f":"VLOOKUP($B81,'LED #1'!$A$15:$I$114,D$39,0)","v":3.984706375003809},{"$f":"VLOOKUP($B81,'LED #2'!$A$15:$I$114,E$39,0)","v":2.8421318753137856},{"$f":"VLOOKUP($B81,'LED #2'!$A$15:$I$114,F$39,0)","v":1.8900176970836675},{"$f":"VLOOKUP($B81,'LED #3'!$A$15:$I$114,G$39,0)","v":{"$error":"#N/A"}},{"$f":"VLOOKUP($B81,'LED #3'!$A$15:$I$114,H$39,0)","v":{"$error":"#N/A"}},{"$f":"VLOOKUP($B81,'LED #4'!$A$15:$I$114,I$39,0)","v":{"$error":"#N/A"}},{"$f":"VLOOKUP($B81,'LED #4'!$A$15:$I$114,J$39,0)","v":{"$error":"#N/A"}}]
[null,{"$f":"Table!B95","v":{"v":0.68,"d":"0.680"}},{"$f":"VLOOKUP($B82,'LED #1'!$A$15:$I$114,C$39,0)","v":6.010450474347159},{"$f":"VLOOKUP($B82,'LED #1'!$A$15:$I$114,D$39,0)","v":4.087106322556068},{"$f":"VLOOKUP($B82,'LED #2'!$A$15:$I$114,E$39,0)","v":2.8493476827723825},{"$f":"VLOOKUP($B82,'LED #2'!$A$15:$I$114,F$39,0)","v":1.9375564242852201},{"$f":"VLOOKUP($B82,'LED #3'!$A$15:$I$114,G$39,0)","v":{"$error":"#N/A"}},{"$f":"VLOOKUP($B82,'LED #3'!$A$15:$I$114,H$39,0)","v":{"$error":"#N/A"}},{"$f":"VLOOKUP($B82,'LED #4'!$A$15:$I$114,I$39,0)","v":{"$error":"#N/A"}},{"$f":"VLOOKUP($B82,'LED #4'!$A$15:$I$114,J$39,0)","v":{"$error":"#N/A"}}]
[null,{"$f":"Table!B96","v":0.695},{"$f":"VLOOKUP($B83,'LED #1'!$A$15:$I$114,C$39,0)","v":6.028731619796434},{"$f":"VLOOKUP($B83,'LED #1'!$A$15:$I$114,D$39,0)","v":4.189968475758522},{"$f":"VLOOKUP($B83,'LED #2'!$A$15:$I$114,E$39,0)","v":2.8565354556898166},{"$f":"VLOOKUP($B83,'LED #2'!$A$15:$I$114,F$39,0)","v":1.9852921417044225},{"$f":"VLOOKUP($B83,'LED #3'!$A$15:$I$114,G$39,0)","v":{"$error":"#N/A"}},{"$f":"VLOOKUP($B83,'LED #3'!$A$15:$I$114,H$39,0)","v":{"$error":"#N/A"}},{"$f":"VLOOKUP($B83,'LED #4'!$A$15:$I$114,I$39,0)","v":{"$error":"#N/A"}},{"$f":"VLOOKUP($B83,'LED #4'!$A$15:$I$114,J$39,0)","v":{"$error":"#N/A"}}]
[null,{"$f":"Table!B97","v":{"v":0.71,"d":"0.710"}},{"$f":"VLOOKUP($B84,'LED #1'!$A$15:$I$114,C$39,0)","v":6.046884011253231},{"$f":"VLOOKUP($B84,'LED #1'!$A$15:$I$114,D$39,0)","v":4.293287647989794},{"$f":"VLOOKUP($B84,'LED #2'!$A$15:$I$114,E$39,0)","v":2.8636953029846666},{"$f":"VLOOKUP($B84,'LED #2'!$A$15:$I$114,F$39,0)","v":2.033223665119113},{"$f":"VLOOKUP($B84,'LED #3'!$A$15:$I$114,G$39,0)","v":{"$error":"#N/A"}},{"$f":"VLOOKUP($B84,'LED #3'!$A$15:$I$114,H$39,0)","v":{"$error":"#N/A"}},{"$f":"VLOOKUP($B84,'LED #4'!$A$15:$I$114,I$39,0)","v":{"$error":"#N/A"}},{"$f":"VLOOKUP($B84,'LED #4'!$A$15:$I$114,J$39,0)","v":{"$error":"#N/A"}}]
[null,{"$f":"Table!B98","v":0.725},{"$f":"VLOOKUP($B85,'LED #1'!$A$15:$I$114,C$39,0)","v":6.064908555531109},{"$f":"VLOOKUP($B85,'LED #1'!$A$15:$I$114,D$39,0)","v":4.397058702760054},{"$f":"VLOOKUP($B85,'LED #2'!$A$15:$I$114,E$39,0)","v":2.870827333152346},{"$f":"VLOOKUP($B85,'LED #2'!$A$15:$I$114,F$39,0)","v":2.0813498165354507},{"$f":"VLOOKUP($B85,'LED #3'!$A$15:$I$114,G$39,0)","v":{"$error":"#N/A"}},{"$f":"VLOOKUP($B85,'LED #3'!$A$15:$I$114,H$39,0)","v":{"$error":"#N/A"}},{"$f":"VLOOKUP($B85,'LED #4'!$A$15:$I$114,I$39,0)","v":{"$error":"#N/A"}},{"$f":"VLOOKUP($B85,'LED #4'!$A$15:$I$114,J$39,0)","v":{"$error":"#N/A"}}]
[null,{"$f":"Table!B99","v":{"v":0.74,"d":"0.740"}},{"$f":"VLOOKUP($B86,'LED #1'!$A$15:$I$114,C$39,0)","v":6.0828061530569455},{"$f":"VLOOKUP($B86,'LED #1'!$A$15:$I$114,D$39,0)","v":4.50127655326214},{"$f":"VLOOKUP($B86,'LED #2'!$A$15:$I$114,E$39,0)","v":2.8779316542667477},{"$f":"VLOOKUP($B86,'LED #2'!$A$15:$I$114,F$39,0)","v":2.1296694241573935},{"$f":"VLOOKUP($B86,'LED #3'!$A$15:$I$114,G$39,0)","v":{"$error":"#N/A"}},{"$f":"VLOOKUP($B86,'LED #3'!$A$15:$I$114,H$39,0)","v":{"$error":"#N/A"}},{"$f":"VLOOKUP($B86,'LED #4'!$A$15:$I$114,I$39,0)","v":{"$error":"#N/A"}},{"$f":"VLOOKUP($B86,'LED #4'!$A$15:$I$114,J$39,0)","v":{"$error":"#N/A"}}]
[null,{"$f":"Table!B100","v":0.755},{"$f":"VLOOKUP($B87,'LED #1'!$A$15:$I$114,C$39,0)","v":6.1005776979159165},{"$f":"VLOOKUP($B87,'LED #1'!$A$15:$I$114,D$39,0)","v":4.605936161926517},{"$f":"VLOOKUP($B87,'LED #2'!$A$15:$I$114,E$39,0)","v":2.8850083739818793},{"$f":"VLOOKUP($B87,'LED #2'!$A$15:$I$114,F$39,0)","v":2.178181322356319},{"$f":"VLOOKUP($B87,'LED #3'!$A$15:$I$114,G$39,0)","v":{"$error":"#N/A"}},{"$f":"VLOOKUP($B87,'LED #3'!$A$15:$I$114,H$39,0)","v":{"$error":"#N/A"}},{"$f":"VLOOKUP($B87,'LED #4'!$A$15:$I$114,I$39,0)","v":{"$error":"#N/A"}},{"$f":"VLOOKUP($B87,'LED #4'!$A$15:$I$114,J$39,0)","v":{"$error":"#N/A"}}]
[null,{"$f":"Table!B101","v":{"v":0.77,"d":"0.770"}},{"$f":"VLOOKUP($B88,'LED #1'!$A$15:$I$114,C$39,0)","v":6.118224077896166},{"$f":"VLOOKUP($B88,'LED #1'!$A$15:$I$114,D$39,0)","v":4.711032539980048},{"$f":"VLOOKUP($B88,'LED #2'!$A$15:$I$114,E$39,0)","v":2.8920575995334965},{"$f":"VLOOKUP($B88,'LED #2'!$A$15:$I$114,F$39,0)","v":2.2268843516407926},{"$f":"VLOOKUP($B88,'LED #3'!$A$15:$I$114,G$39,0)","v":{"$error":"#N/A"}},{"$f":"VLOOKUP($B88,'LED #3'!$A$15:$I$114,H$39,0)","v":{"$error":"#N/A"}},{"$f":"VLOOKUP($B88,'LED #4'!$A$15:$I$114,I$39,0)","v":{"$error":"#N/A"}},{"$f":"VLOOKUP($B88,'LED #4'!$A$15:$I$114,J$39,0)","v":{"$error":"#N/A"}}]
[null,{"$f":"Table!B102","v":0.785},{"$f":"VLOOKUP($B89,'LED #1'!$A$15:$I$114,C$39,0)","v":6.135746174533142},{"$f":"VLOOKUP($B89,'LED #1'!$A$15:$I$114,D$39,0)","v":4.816560747008516},{"$f":"VLOOKUP($B89,'LED #2'!$A$15:$I$114,E$39,0)","v":2.8990794377407276},{"$f":"VLOOKUP($B89,'LED #2'!$A$15:$I$114,F$39,0)","v":2.2757773586264713},{"$f":"VLOOKUP($B89,'LED #3'!$A$15:$I$114,G$39,0)","v":{"$error":"#N/A"}},{"$f":"VLOOKUP($B89,'LED #3'!$A$15:$I$114,H$39,0)","v":{"$error":"#N/A"}},{"$f":"VLOOKUP($B89,'LED #4'!$A$15:$I$114,I$39,0)","v":{"$error":"#N/A"}},{"$f":"VLOOKUP($B89,'LED #4'!$A$15:$I$114,J$39,0)","v":{"$error":"#N/A"}}]
[null,{"$f":"Table!B103","v":{"v":0.8,"d":"0.800"}},{"$f":"VLOOKUP($B90,'LED #1'!$A$15:$I$114,C$39,0)","v":6.153144863153654},{"$f":"VLOOKUP($B90,'LED #1'!$A$15:$I$114,D$39,0)","v":4.922515890522924},{"$f":"VLOOKUP($B90,'LED #2'!$A$15:$I$114,E$39,0)","v":2.9060739950076893},{"$f":"VLOOKUP($B90,'LED #2'!$A$15:$I$114,F$39,0)","v":2.3248591960061513},{"$f":"VLOOKUP($B90,'LED #3'!$A$15:$I$114,G$39,0)","v":{"$error":"#N/A"}},{"$f":"VLOOKUP($B90,'LED #3'!$A$15:$I$114,H$39,0)","v":{"$error":"#N/A"}},{"$f":"VLOOKUP($B90,'LED #4'!$A$15:$I$114,I$39,0)","v":{"$error":"#N/A"}},{"$f":"VLOOKUP($B90,'LED #4'!$A$15:$I$114,J$39,0)","v":{"$error":"#N/A"}}]
[null,{"$f":"Table!B104","v":0.815},{"$f":"VLOOKUP($B91,'LED #1'!$A$15:$I$114,C$39,0)","v":{"$error":"#N/A"}},{"$f":"VLOOKUP($B91,'LED #1'!$A$15:$I$114,D$39,0)","v":{"$error":"#N/A"}},{"$f":"VLOOKUP($B91,'LED #2'!$A$15:$I$114,E$39,0)","v":2.9130413773251056},{"$f":"VLOOKUP($B91,'LED #2'!$A$15:$I$114,F$39,0)","v":2.374128722519961},{"$f":"VLOOKUP($B91,'LED #3'!$A$15:$I$114,G$39,0)","v":{"$error":"#N/A"}},{"$f":"VLOOKUP($B91,'LED #3'!$A$15:$I$114,H$39,0)","v":{"$error":"#N/A"}},{"$f":"VLOOKUP($B91,'LED #4'!$A$15:$I$114,I$39,0)","v":{"$error":"#N/A"}},{"$f":"VLOOKUP($B91,'LED #4'!$A$15:$I$114,J$39,0)","v":{"$error":"#N/A"}}]
[null,{"$f":"Table!B105","v":{"v":0.83,"d":"0.830"}},{"$f":"VLOOKUP($B92,'LED #1'!$A$15:$I$114,C$39,0)","v":{"$error":"#N/A"}},{"$f":"VLOOKUP($B92,'LED #1'!$A$15:$I$114,D$39,0)","v":{"$error":"#N/A"}},{"$f":"VLOOKUP($B92,'LED #2'!$A$15:$I$114,E$39,0)","v":2.919981690271907},{"$f":"VLOOKUP($B92,'LED #2'!$A$15:$I$114,F$39,0)","v":2.423584802925683},{"$f":"VLOOKUP($B92,'LED #3'!$A$15:$I$114,G$39,0)","v":{"$error":"#N/A"}},{"$f":"VLOOKUP($B92,'LED #3'!$A$15:$I$114,H$39,0)","v":{"$error":"#N/A"}},{"$f":"VLOOKUP($B92,'LED #4'!$A$15:$I$114,I$39,0)","v":{"$error":"#N/A"}},{"$f":"VLOOKUP($B92,'LED #4'!$A$15:$I$114,J$39,0)","v":{"$error":"#N/A"}}]
[null,{"$f":"Table!B106","v":0.845},{"$f":"VLOOKUP($B93,'LED #1'!$A$15:$I$114,C$39,0)","v":{"$error":"#N/A"}},{"$f":"VLOOKUP($B93,'LED #1'!$A$15:$I$114,D$39,0)","v":{"$error":"#N/A"}},{"$f":"VLOOKUP($B93,'LED #2'!$A$15:$I$114,E$39,0)","v":2.926895039016836},{"$f":"VLOOKUP($B93,'LED #2'!$A$15:$I$114,F$39,0)","v":2.4732263079692265},{"$f":"VLOOKUP($B93,'LED #3'!$A$15:$I$114,G$39,0)","v":{"$error":"#N/A"}},{"$f":"VLOOKUP($B93,'LED #3'!$A$15:$I$114,H$39,0)","v":{"$error":"#N/A"}},{"$f":"VLOOKUP($B93,'LED #4'!$A$15:$I$114,I$39,0)","v":{"$error":"#N/A"}},{"$f":"VLOOKUP($B93,'LED #4'!$A$15:$I$114,J$39,0)","v":{"$error":"#N/A"}}]
[null,{"$f":"Table!B107","v":{"v":0.86,"d":"0.860"}},{"$f":"VLOOKUP($B94,'LED #1'!$A$15:$I$114,C$39,0)","v":{"$error":"#N/A"}},{"$f":"VLOOKUP($B94,'LED #1'!$A$15:$I$114,D$39,0)","v":{"$error":"#N/A"}},{"$f":"VLOOKUP($B94,'LED #2'!$A$15:$I$114,E$39,0)","v":2.9337815283200346},{"$f":"VLOOKUP($B94,'LED #2'!$A$15:$I$114,F$39,0)","v":2.5230521143552296},{"$f":"VLOOKUP($B94,'LED #3'!$A$15:$I$114,G$39,0)","v":{"$error":"#N/A"}},{"$f":"VLOOKUP($B94,'LED #3'!$A$15:$I$114,H$39,0)","v":{"$error":"#N/A"}},{"$f":"VLOOKUP($B94,'LED #4'!$A$15:$I$114,I$39,0)","v":{"$error":"#N/A"}},{"$f":"VLOOKUP($B94,'LED #4'!$A$15:$I$114,J$39,0)","v":{"$error":"#N/A"}}]
[null,{"$f":"Table!B108","v":0.875},{"$f":"VLOOKUP($B95,'LED #1'!$A$15:$I$114,C$39,0)","v":{"$error":"#N/A"}},{"$f":"VLOOKUP($B95,'LED #1'!$A$15:$I$114,D$39,0)","v":{"$error":"#N/A"}},{"$f":"VLOOKUP($B95,'LED #2'!$A$15:$I$114,E$39,0)","v":2.9406412625346383},{"$f":"VLOOKUP($B95,'LED #2'!$A$15:$I$114,F$39,0)","v":2.5730611047178087},{"$f":"VLOOKUP($B95,'LED #3'!$A$15:$I$114,G$39,0)","v":{"$error":"#N/A"}},{"$f":"VLOOKUP($B95,'LED #3'!$A$15:$I$114,H$39,0)","v":{"$error":"#N/A"}},{"$f":"VLOOKUP($B95,'LED #4'!$A$15:$I$114,I$39,0)","v":{"$error":"#N/A"}},{"$f":"VLOOKUP($B95,'LED #4'!$A$15:$I$114,J$39,0)","v":{"$error":"#N/A"}}]
[null,{"$f":"Table!B109","v":{"v":0.89,"d":"0.890"}},{"$f":"VLOOKUP($B96,'LED #1'!$A$15:$I$114,C$39,0)","v":{"$error":"#N/A"}},{"$f":"VLOOKUP($B96,'LED #1'!$A$15:$I$114,D$39,0)","v":{"$error":"#N/A"}},{"$f":"VLOOKUP($B96,'LED #2'!$A$15:$I$114,E$39,0)","v":2.9474743456083528},{"$f":"VLOOKUP($B96,'LED #2'!$A$15:$I$114,F$39,0)","v":2.623252167591434},{"$f":"VLOOKUP($B96,'LED #3'!$A$15:$I$114,G$39,0)","v":{"$error":"#N/A"}},{"$f":"VLOOKUP($B96,'LED #3'!$A$15:$I$114,H$39,0)","v":{"$error":"#N/A"}},{"$f":"VLOOKUP($B96,'LED #4'!$A$15:$I$114,I$39,0)","v":{"$error":"#N/A"}},{"$f":"VLOOKUP($B96,'LED #4'!$A$15:$I$114,J$39,0)","v":{"$error":"#N/A"}}]
[null,{"$f":"Table!B110","v":0.905},{"$f":"VLOOKUP($B97,'LED #1'!$A$15:$I$114,C$39,0)","v":{"$error":"#N/A"}},{"$f":"VLOOKUP($B97,'LED #1'!$A$15:$I$114,D$39,0)","v":{"$error":"#N/A"}},{"$f":"VLOOKUP($B97,'LED #2'!$A$15:$I$114,E$39,0)","v":2.9542808810850296},{"$f":"VLOOKUP($B97,'LED #2'!$A$15:$I$114,F$39,0)","v":2.673624197381952},{"$f":"VLOOKUP($B97,'LED #3'!$A$15:$I$114,G$39,0)","v":{"$error":"#N/A"}},{"$f":"VLOOKUP($B97,'LED #3'!$A$15:$I$114,H$39,0)","v":{"$error":"#N/A"}},{"$f":"VLOOKUP($B97,'LED #4'!$A$15:$I$114,I$39,0)","v":{"$error":"#N/A"}},{"$f":"VLOOKUP($B97,'LED #4'!$A$15:$I$114,J$39,0)","v":{"$error":"#N/A"}}]
[null,{"$f":"Table!B111","v":{"v":0.92,"d":"0.920"}},{"$f":"VLOOKUP($B98,'LED #1'!$A$15:$I$114,C$39,0)","v":{"$error":"#N/A"}},{"$f":"VLOOKUP($B98,'LED #1'!$A$15:$I$114,D$39,0)","v":{"$error":"#N/A"}},{"$f":"VLOOKUP($B98,'LED #2'!$A$15:$I$114,E$39,0)","v":2.96106097210624},{"$f":"VLOOKUP($B98,'LED #2'!$A$15:$I$114,F$39,0)","v":2.724176094337741},{"$f":"VLOOKUP($B98,'LED #3'!$A$15:$I$114,G$39,0)","v":{"$error":"#N/A"}},{"$f":"VLOOKUP($B98,'LED #3'!$A$15:$I$114,H$39,0)","v":{"$error":"#N/A"}},{"$f":"VLOOKUP($B98,'LED #4'!$A$15:$I$114,I$39,0)","v":{"$error":"#N/A"}},{"$f":"VLOOKUP($B98,'LED #4'!$A$15:$I$114,J$39,0)","v":{"$error":"#N/A"}}]
[null,{"$f":"Table!B112","v":0.935},{"$f":"VLOOKUP($B99,'LED #1'!$A$15:$I$114,C$39,0)","v":{"$error":"#N/A"}},{"$f":"VLOOKUP($B99,'LED #1'!$A$15:$I$114,D$39,0)","v":{"$error":"#N/A"}},{"$f":"VLOOKUP($B99,'LED #2'!$A$15:$I$114,E$39,0)","v":2.967814721412831},{"$f":"VLOOKUP($B99,'LED #2'!$A$15:$I$114,F$39,0)","v":2.7749067645209973},{"$f":"VLOOKUP($B99,'LED #3'!$A$15:$I$114,G$39,0)","v":{"$error":"#N/A"}},{"$f":"VLOOKUP($B99,'LED #3'!$A$15:$I$114,H$39,0)","v":{"$error":"#N/A"}},{"$f":"VLOOKUP($B99,'LED #4'!$A$15:$I$114,I$39,0)","v":{"$error":"#N/A"}},{"$f":"VLOOKUP($B99,'LED #4'!$A$15:$I$114,J$39,0)","v":{"$error":"#N/A"}}]
[null,{"$f":"Table!B113","v":{"v":0.95,"d":"0.950"}},{"$f":"VLOOKUP($B100,'LED #1'!$A$15:$I$114,C$39,0)","v":{"$error":"#N/A"}},{"$f":"VLOOKUP($B100,'LED #1'!$A$15:$I$114,D$39,0)","v":{"$error":"#N/A"}},{"$f":"VLOOKUP($B100,'LED #2'!$A$15:$I$114,E$39,0)","v":2.974542231346484},{"$f":"VLOOKUP($B100,'LED #2'!$A$15:$I$114,F$39,0)","v":2.82581511977916},{"$f":"VLOOKUP($B100,'LED #3'!$A$15:$I$114,G$39,0)","v":{"$error":"#N/A"}},{"$f":"VLOOKUP($B100,'LED #3'!$A$15:$I$114,H$39,0)","v":{"$error":"#N/A"}},{"$f":"VLOOKUP($B100,'LED #4'!$A$15:$I$114,I$39,0)","v":{"$error":"#N/A"}},{"$f":"VLOOKUP($B100,'LED #4'!$A$15:$I$114,J$39,0)","v":{"$error":"#N/A"}}]
[null,{"$f":"Table!B114","v":0.965},{"$f":"VLOOKUP($B101,'LED #1'!$A$15:$I$114,C$39,0)","v":{"$error":"#N/A"}},{"$f":"VLOOKUP($B101,'LED #1'!$A$15:$I$114,D$39,0)","v":{"$error":"#N/A"}},{"$f":"VLOOKUP($B101,'LED #2'!$A$15:$I$114,E$39,0)","v":2.981243603851272},{"$f":"VLOOKUP($B101,'LED #2'!$A$15:$I$114,F$39,0)","v":2.8769000777164777},{"$f":"VLOOKUP($B101,'LED #3'!$A$15:$I$114,G$39,0)","v":{"$error":"#N/A"}},{"$f":"VLOOKUP($B101,'LED #3'!$A$15:$I$114,H$39,0)","v":{"$error":"#N/A"}},{"$f":"VLOOKUP($B101,'LED #4'!$A$15:$I$114,I$39,0)","v":{"$error":"#N/A"}},{"$f":"VLOOKUP($B101,'LED #4'!$A$15:$I$114,J$39,0)","v":{"$error":"#N/A"}}]
[null,{"$f":"Table!B115","v":{"v":0.98,"d":"0.980"}},{"$f":"VLOOKUP($B102,'LED #1'!$A$15:$I$114,C$39,0)","v":{"$error":"#N/A"}},{"$f":"VLOOKUP($B102,'LED #1'!$A$15:$I$114,D$39,0)","v":{"$error":"#N/A"}},{"$f":"VLOOKUP($B102,'LED #2'!$A$15:$I$114,E$39,0)","v":2.9879189404751942},{"$f":"VLOOKUP($B102,'LED #2'!$A$15:$I$114,F$39,0)","v":2.9281605616656905},{"$f":"VLOOKUP($B102,'LED #3'!$A$15:$I$114,G$39,0)","v":{"$error":"#N/A"}},{"$f":"VLOOKUP($B102,'LED #3'!$A$15:$I$114,H$39,0)","v":{"$error":"#N/A"}},{"$f":"VLOOKUP($B102,'LED #4'!$A$15:$I$114,I$39,0)","v":{"$error":"#N/A"}},{"$f":"VLOOKUP($B102,'LED #4'!$A$15:$I$114,J$39,0)","v":{"$error":"#N/A"}}]
[null,{"$f":"Table!B116","v":0.995},{"$f":"VLOOKUP($B103,'LED #1'!$A$15:$I$114,C$39,0)","v":{"$error":"#N/A"}},{"$f":"VLOOKUP($B103,'LED #1'!$A$15:$I$114,D$39,0)","v":{"$error":"#N/A"}},{"$f":"VLOOKUP($B103,'LED #2'!$A$15:$I$114,E$39,0)","v":2.9945683423717235},{"$f":"VLOOKUP($B103,'LED #2'!$A$15:$I$114,F$39,0)","v":2.979595500659865},{"$f":"VLOOKUP($B103,'LED #3'!$A$15:$I$114,G$39,0)","v":{"$error":"#N/A"}},{"$f":"VLOOKUP($B103,'LED #3'!$A$15:$I$114,H$39,0)","v":{"$error":"#N/A"}},{"$f":"VLOOKUP($B103,'LED #4'!$A$15:$I$114,I$39,0)","v":{"$error":"#N/A"}},{"$f":"VLOOKUP($B103,'LED #4'!$A$15:$I$114,J$39,0)","v":{"$error":"#N/A"}}]
[null,{"$f":"Table!B117","v":{"v":1.01,"d":"1.010"}},{"$f":"VLOOKUP($B104,'LED #1'!$A$15:$I$114,C$39,0)","v":{"$error":"#N/A"}},{"$f":"VLOOKUP($B104,'LED #1'!$A$15:$I$114,D$39,0)","v":{"$error":"#N/A"}},{"$f":"VLOOKUP($B104,'LED #2'!$A$15:$I$114,E$39,0)","v":3.001191910301334},{"$f":"VLOOKUP($B104,'LED #2'!$A$15:$I$114,F$39,0)","v":3.031203829404347},{"$f":"VLOOKUP($B104,'LED #3'!$A$15:$I$114,G$39,0)","v":{"$error":"#N/A"}},{"$f":"VLOOKUP($B104,'LED #3'!$A$15:$I$114,H$39,0)","v":{"$error":"#N/A"}},{"$f":"VLOOKUP($B104,'LED #4'!$A$15:$I$114,I$39,0)","v":{"$error":"#N/A"}},{"$f":"VLOOKUP($B104,'LED #4'!$A$15:$I$114,J$39,0)","v":{"$error":"#N/A"}}]
[null,{"$f":"Table!B118","v":1.025},{"$f":"VLOOKUP($B105,'LED #1'!$A$15:$I$114,C$39,0)","v":{"$error":"#N/A"}},{"$f":"VLOOKUP($B105,'LED #1'!$A$15:$I$114,D$39,0)","v":{"$error":"#N/A"}},{"$f":"VLOOKUP($B105,'LED #2'!$A$15:$I$114,E$39,0)","v":3.0077897446330284},{"$f":"VLOOKUP($B105,'LED #2'!$A$15:$I$114,F$39,0)","v":3.082984488248854},{"$f":"VLOOKUP($B105,'LED #3'!$A$15:$I$114,G$39,0)","v":{"$error":"#N/A"}},{"$f":"VLOOKUP($B105,'LED #3'!$A$15:$I$114,H$39,0)","v":{"$error":"#N/A"}},{"$f":"VLOOKUP($B105,'LED #4'!$A$15:$I$114,I$39,0)","v":{"$error":"#N/A"}},{"$f":"VLOOKUP($B105,'LED #4'!$A$15:$I$114,J$39,0)","v":{"$error":"#N/A"}}]
[null,{"$f":"Table!B119","v":{"v":1.04,"d":"1.040"}},{"$f":"VLOOKUP($B106,'LED #1'!$A$15:$I$114,C$39,0)","v":{"$error":"#N/A"}},{"$f":"VLOOKUP($B106,'LED #1'!$A$15:$I$114,D$39,0)","v":{"$error":"#N/A"}},{"$f":"VLOOKUP($B106,'LED #2'!$A$15:$I$114,E$39,0)","v":3.014361945345863},{"$f":"VLOOKUP($B106,'LED #2'!$A$15:$I$114,F$39,0)","v":3.1349364231596977},{"$f":"VLOOKUP($B106,'LED #3'!$A$15:$I$114,G$39,0)","v":{"$error":"#N/A"}},{"$f":"VLOOKUP($B106,'LED #3'!$A$15:$I$114,H$39,0)","v":{"$error":"#N/A"}},{"$f":"VLOOKUP($B106,'LED #4'!$A$15:$I$114,I$39,0)","v":{"$error":"#N/A"}},{"$f":"VLOOKUP($B106,'LED #4'!$A$15:$I$114,J$39,0)","v":{"$error":"#N/A"}}]
[null,{"$f":"Table!B120","v":1.055},{"$f":"VLOOKUP($B107,'LED #1'!$A$15:$I$114,C$39,0)","v":{"$error":"#N/A"}},{"$f":"VLOOKUP($B107,'LED #1'!$A$15:$I$114,D$39,0)","v":{"$error":"#N/A"}},{"$f":"VLOOKUP($B107,'LED #2'!$A$15:$I$114,E$39,0)","v":3.020908612030459},{"$f":"VLOOKUP($B107,'LED #2'!$A$15:$I$114,F$39,0)","v":3.1870585856921343},{"$f":"VLOOKUP($B107,'LED #3'!$A$15:$I$114,G$39,0)","v":{"$error":"#N/A"}},{"$f":"VLOOKUP($B107,'LED #3'!$A$15:$I$114,H$39,0)","v":{"$error":"#N/A"}},{"$f":"VLOOKUP($B107,'LED #4'!$A$15:$I$114,I$39,0)","v":{"$error":"#N/A"}},{"$f":"VLOOKUP($B107,'LED #4'!$A$15:$I$114,J$39,0)","v":{"$error":"#N/A"}}]
[null,{"$f":"Table!B121","v":{"v":1.07,"d":"1.070"}},{"$f":"VLOOKUP($B108,'LED #1'!$A$15:$I$114,C$39,0)","v":{"$error":"#N/A"}},{"$f":"VLOOKUP($B108,'LED #1'!$A$15:$I$114,D$39,0)","v":{"$error":"#N/A"}},{"$f":"VLOOKUP($B108,'LED #2'!$A$15:$I$114,E$39,0)","v":3.0274298438905096},{"$f":"VLOOKUP($B108,'LED #2'!$A$15:$I$114,F$39,0)","v":3.2393499329628455},{"$f":"VLOOKUP($B108,'LED #3'!$A$15:$I$114,G$39,0)","v":{"$error":"#N/A"}},{"$f":"VLOOKUP($B108,'LED #3'!$A$15:$I$114,H$39,0)","v":{"$error":"#N/A"}},{"$f":"VLOOKUP($B108,'LED #4'!$A$15:$I$114,I$39,0)","v":{"$error":"#N/A"}},{"$f":"VLOOKUP($B108,'LED #4'!$A$15:$I$114,J$39,0)","v":{"$error":"#N/A"}}]
[null,{"$f":"Table!B122","v":1.085},{"$f":"VLOOKUP($B109,'LED #1'!$A$15:$I$114,C$39,0)","v":{"$error":"#N/A"}},{"$f":"VLOOKUP($B109,'LED #1'!$A$15:$I$114,D$39,0)","v":{"$error":"#N/A"}},{"$f":"VLOOKUP($B109,'LED #2'!$A$15:$I$114,E$39,0)","v":3.0339257397442916},{"$f":"VLOOKUP($B109,'LED #2'!$A$15:$I$114,F$39,0)","v":3.2918094276225562},{"$f":"VLOOKUP($B109,'LED #3'!$A$15:$I$114,G$39,0)","v":{"$error":"#N/A"}},{"$f":"VLOOKUP($B109,'LED #3'!$A$15:$I$114,H$39,0)","v":{"$error":"#N/A"}},{"$f":"VLOOKUP($B109,'LED #4'!$A$15:$I$114,I$39,0)","v":{"$error":"#N/A"}},{"$f":"VLOOKUP($B109,'LED #4'!$A$15:$I$114,J$39,0)","v":{"$error":"#N/A"}}]
[null,{"$f":"Table!B123","v":{"v":1.1,"d":"1.100"}},{"$f":"VLOOKUP($B110,'LED #1'!$A$15:$I$114,C$39,0)","v":{"$error":"#N/A"}},{"$f":"VLOOKUP($B110,'LED #1'!$A$15:$I$114,D$39,0)","v":{"$error":"#N/A"}},{"$f":"VLOOKUP($B110,'LED #2'!$A$15:$I$114,E$39,0)","v":3.0403963980261506},{"$f":"VLOOKUP($B110,'LED #2'!$A$15:$I$114,F$39,0)","v":3.344436037828766},{"$f":"VLOOKUP($B110,'LED #3'!$A$15:$I$114,G$39,0)","v":{"$error":"#N/A"}},{"$f":"VLOOKUP($B110,'LED #3'!$A$15:$I$114,H$39,0)","v":{"$error":"#N/A"}},{"$f":"VLOOKUP($B110,'LED #4'!$A$15:$I$114,I$39,0)","v":{"$error":"#N/A"}},{"$f":"VLOOKUP($B110,'LED #4'!$A$15:$I$114,J$39,0)","v":{"$error":"#N/A"}}]
[null,{"$f":"Table!B124","v":1.115},{"$f":"VLOOKUP($B111,'LED #1'!$A$15:$I$114,C$39,0)","v":{"$error":"#N/A"}},{"$f":"VLOOKUP($B111,'LED #1'!$A$15:$I$114,D$39,0)","v":{"$error":"#N/A"}},{"$f":"VLOOKUP($B111,'LED #2'!$A$15:$I$114,E$39,0)","v":3.046841916788005},{"$f":"VLOOKUP($B111,'LED #2'!$A$15:$I$114,F$39,0)","v":3.397228737218626},{"$f":"VLOOKUP($B111,'LED #3'!$A$15:$I$114,G$39,0)","v":{"$error":"#N/A"}},{"$f":"VLOOKUP($B111,'LED #3'!$A$15:$I$114,H$39,0)","v":{"$error":"#N/A"}},{"$f":"VLOOKUP($B111,'LED #4'!$A$15:$I$114,I$39,0)","v":{"$error":"#N/A"}},{"$f":"VLOOKUP($B111,'LED #4'!$A$15:$I$114,J$39,0)","v":{"$error":"#N/A"}}]
[null,{"$f":"Table!B125","v":{"v":1.13,"d":"1.130"}},{"$f":"VLOOKUP($B112,'LED #1'!$A$15:$I$114,C$39,0)","v":{"$error":"#N/A"}},{"$f":"VLOOKUP($B112,'LED #1'!$A$15:$I$114,D$39,0)","v":{"$error":"#N/A"}},{"$f":"VLOOKUP($B112,'LED #2'!$A$15:$I$114,E$39,0)","v":3.0532623937008245},{"$f":"VLOOKUP($B112,'LED #2'!$A$15:$I$114,F$39,0)","v":3.4501865048819313},{"$f":"VLOOKUP($B112,'LED #3'!$A$15:$I$114,G$39,0)","v":{"$error":"#N/A"}},{"$f":"VLOOKUP($B112,'LED #3'!$A$15:$I$114,H$39,0)","v":{"$error":"#N/A"}},{"$f":"VLOOKUP($B112,'LED #4'!$A$15:$I$114,I$39,0)","v":{"$error":"#N/A"}},{"$f":"VLOOKUP($B112,'LED #4'!$A$15:$I$114,J$39,0)","v":{"$error":"#N/A"}}]
[null,{"$f":"Table!B126","v":1.145},{"$f":"VLOOKUP($B113,'LED #1'!$A$15:$I$114,C$39,0)","v":{"$error":"#N/A"}},{"$f":"VLOOKUP($B113,'LED #1'!$A$15:$I$114,D$39,0)","v":{"$error":"#N/A"}},{"$f":"VLOOKUP($B113,'LED #2'!$A$15:$I$114,E$39,0)","v":3.0596579260561105},{"$f":"VLOOKUP($B113,'LED #2'!$A$15:$I$114,F$39,0)","v":3.5033083253342467},{"$f":"VLOOKUP($B113,'LED #3'!$A$15:$I$114,G$39,0)","v":{"$error":"#N/A"}},{"$f":"VLOOKUP($B113,'LED #3'!$A$15:$I$114,H$39,0)","v":{"$error":"#N/A"}},{"$f":"VLOOKUP($B113,'LED #4'!$A$15:$I$114,I$39,0)","v":{"$error":"#N/A"}},{"$f":"VLOOKUP($B113,'LED #4'!$A$15:$I$114,J$39,0)","v":{"$error":"#N/A"}}]
[null,{"$f":"Table!B127","v":{"v":1.16,"d":"1.160"}},{"$f":"VLOOKUP($B114,'LED #1'!$A$15:$I$114,C$39,0)","v":{"$error":"#N/A"}},{"$f":"VLOOKUP($B114,'LED #1'!$A$15:$I$114,D$39,0)","v":{"$error":"#N/A"}},{"$f":"VLOOKUP($B114,'LED #2'!$A$15:$I$114,E$39,0)","v":3.066028610767373},{"$f":"VLOOKUP($B114,'LED #2'!$A$15:$I$114,F$39,0)","v":3.5565931884901523},{"$f":"VLOOKUP($B114,'LED #3'!$A$15:$I$114,G$39,0)","v":{"$error":"#N/A"}},{"$f":"VLOOKUP($B114,'LED #3'!$A$15:$I$114,H$39,0)","v":{"$error":"#N/A"}},{"$f":"VLOOKUP($B114,'LED #4'!$A$15:$I$114,I$39,0)","v":{"$error":"#N/A"}},{"$f":"VLOOKUP($B114,'LED #4'!$A$15:$I$114,J$39,0)","v":{"$error":"#N/A"}}]
[null,{"$f":"Table!B128","v":1.175},{"$f":"VLOOKUP($B115,'LED #1'!$A$15:$I$114,C$39,0)","v":{"$error":"#N/A"}},{"$f":"VLOOKUP($B115,'LED #1'!$A$15:$I$114,D$39,0)","v":{"$error":"#N/A"}},{"$f":"VLOOKUP($B115,'LED #2'!$A$15:$I$114,E$39,0)","v":3.0723745443715957},{"$f":"VLOOKUP($B115,'LED #2'!$A$15:$I$114,F$39,0)","v":3.610040089636625},{"$f":"VLOOKUP($B115,'LED #3'!$A$15:$I$114,G$39,0)","v":{"$error":"#N/A"}},{"$f":"VLOOKUP($B115,'LED #3'!$A$15:$I$114,H$39,0)","v":{"$error":"#N/A"}},{"$f":"VLOOKUP($B115,'LED #4'!$A$15:$I$114,I$39,0)","v":{"$error":"#N/A"}},{"$f":"VLOOKUP($B115,'LED #4'!$A$15:$I$114,J$39,0)","v":{"$error":"#N/A"}}]
[null,{"$f":"Table!B129","v":{"v":1.19,"d":"1.190"}},{"$f":"VLOOKUP($B116,'LED #1'!$A$15:$I$114,C$39,0)","v":{"$error":"#N/A"}},{"$f":"VLOOKUP($B116,'LED #1'!$A$15:$I$114,D$39,0)","v":{"$error":"#N/A"}},{"$f":"VLOOKUP($B116,'LED #2'!$A$15:$I$114,E$39,0)","v":3.078695823030704},{"$f":"VLOOKUP($B116,'LED #2'!$A$15:$I$114,F$39,0)","v":3.663648029406538},{"$f":"VLOOKUP($B116,'LED #3'!$A$15:$I$114,G$39,0)","v":{"$error":"#N/A"}},{"$f":"VLOOKUP($B116,'LED #3'!$A$15:$I$114,H$39,0)","v":{"$error":"#N/A"}},{"$f":"VLOOKUP($B116,'LED #4'!$A$15:$I$114,I$39,0)","v":{"$error":"#N/A"}},{"$f":"VLOOKUP($B116,'LED #4'!$A$15:$I$114,J$39,0)","v":{"$error":"#N/A"}}]
[null,{"$f":"Table!B130","v":1.205},{"$f":"VLOOKUP($B117,'LED #1'!$A$15:$I$114,C$39,0)","v":{"$error":"#N/A"}},{"$f":"VLOOKUP($B117,'LED #1'!$A$15:$I$114,D$39,0)","v":{"$error":"#N/A"}},{"$f":"VLOOKUP($B117,'LED #2'!$A$15:$I$114,E$39,0)","v":3.084992542533019},{"$f":"VLOOKUP($B117,'LED #2'!$A$15:$I$114,F$39,0)","v":3.7174160137522883},{"$f":"VLOOKUP($B117,'LED #3'!$A$15:$I$114,G$39,0)","v":{"$error":"#N/A"}},{"$f":"VLOOKUP($B117,'LED #3'!$A$15:$I$114,H$39,0)","v":{"$error":"#N/A"}},{"$f":"VLOOKUP($B117,'LED #4'!$A$15:$I$114,I$39,0)","v":{"$error":"#N/A"}},{"$f":"VLOOKUP($B117,'LED #4'!$A$15:$I$114,J$39,0)","v":{"$error":"#N/A"}}]
[null,{"$f":"Table!B131","v":{"v":1.22,"d":"1.220"}},{"$f":"VLOOKUP($B118,'LED #1'!$A$15:$I$114,C$39,0)","v":{"$error":"#N/A"}},{"$f":"VLOOKUP($B118,'LED #1'!$A$15:$I$114,D$39,0)","v":{"$error":"#N/A"}},{"$f":"VLOOKUP($B118,'LED #2'!$A$15:$I$114,E$39,0)","v":3.0912647982947057},{"$f":"VLOOKUP($B118,'LED #2'!$A$15:$I$114,F$39,0)","v":3.7713430539195407},{"$f":"VLOOKUP($B118,'LED #3'!$A$15:$I$114,G$39,0)","v":{"$error":"#N/A"}},{"$f":"VLOOKUP($B118,'LED #3'!$A$15:$I$114,H$39,0)","v":{"$error":"#N/A"}},{"$f":"VLOOKUP($B118,'LED #4'!$A$15:$I$114,I$39,0)","v":{"$error":"#N/A"}},{"$f":"VLOOKUP($B118,'LED #4'!$A$15:$I$114,J$39,0)","v":{"$error":"#N/A"}}]
[null,{"$f":"Table!B132","v":1.235},{"$f":"VLOOKUP($B119,'LED #1'!$A$15:$I$114,C$39,0)","v":{"$error":"#N/A"}},{"$f":"VLOOKUP($B119,'LED #1'!$A$15:$I$114,D$39,0)","v":{"$error":"#N/A"}},{"$f":"VLOOKUP($B119,'LED #2'!$A$15:$I$114,E$39,0)","v":3.0975126853612265},{"$f":"VLOOKUP($B119,'LED #2'!$A$15:$I$114,F$39,0)","v":3.825428166421115},{"$f":"VLOOKUP($B119,'LED #3'!$A$15:$I$114,G$39,0)","v":{"$error":"#N/A"}},{"$f":"VLOOKUP($B119,'LED #3'!$A$15:$I$114,H$39,0)","v":{"$error":"#N/A"}},{"$f":"VLOOKUP($B119,'LED #4'!$A$15:$I$114,I$39,0)","v":{"$error":"#N/A"}},{"$f":"VLOOKUP($B119,'LED #4'!$A$15:$I$114,J$39,0)","v":{"$error":"#N/A"}}]
[null,{"$f":"Table!B133","v":{"v":1.25,"d":"1.250"}},{"$f":"VLOOKUP($B120,'LED #1'!$A$15:$I$114,C$39,0)","v":{"$error":"#N/A"}},{"$f":"VLOOKUP($B120,'LED #1'!$A$15:$I$114,D$39,0)","v":{"$error":"#N/A"}},{"$f":"VLOOKUP($B120,'LED #2'!$A$15:$I$114,E$39,0)","v":3.1037362984087755},{"$f":"VLOOKUP($B120,'LED #2'!$A$15:$I$114,F$39,0)","v":3.8796703730109696},{"$f":"VLOOKUP($B120,'LED #3'!$A$15:$I$114,G$39,0)","v":{"$error":"#N/A"}},{"$f":"VLOOKUP($B120,'LED #3'!$A$15:$I$114,H$39,0)","v":{"$error":"#N/A"}},{"$f":"VLOOKUP($B120,'LED #4'!$A$15:$I$114,I$39,0)","v":{"$error":"#N/A"}},{"$f":"VLOOKUP($B120,'LED #4'!$A$15:$I$114,J$39,0)","v":{"$error":"#N/A"}}]
[null,{"$f":"Table!B134","v":1.265},{"$f":"VLOOKUP($B121,'LED #1'!$A$15:$I$114,C$39,0)","v":{"$error":"#N/A"}},{"$f":"VLOOKUP($B121,'LED #1'!$A$15:$I$114,D$39,0)","v":{"$error":"#N/A"}},{"$f":"VLOOKUP($B121,'LED #2'!$A$15:$I$114,E$39,0)","v":3.109935731745714},{"$f":"VLOOKUP($B121,'LED #2'!$A$15:$I$114,F$39,0)","v":3.9340687006583277},{"$f":"VLOOKUP($B121,'LED #3'!$A$15:$I$114,G$39,0)","v":{"$error":"#N/A"}},{"$f":"VLOOKUP($B121,'LED #3'!$A$15:$I$114,H$39,0)","v":{"$error":"#N/A"}},{"$f":"VLOOKUP($B121,'LED #4'!$A$15:$I$114,I$39,0)","v":{"$error":"#N/A"}},{"$f":"VLOOKUP($B121,'LED #4'!$A$15:$I$114,J$39,0)","v":{"$error":"#N/A"}}]
[null,{"$f":"Table!B135","v":{"v":1.28,"d":"1.280"}},{"$f":"VLOOKUP($B122,'LED #1'!$A$15:$I$114,C$39,0)","v":{"$error":"#N/A"}},{"$f":"VLOOKUP($B122,'LED #1'!$A$15:$I$114,D$39,0)","v":{"$error":"#N/A"}},{"$f":"VLOOKUP($B122,'LED #2'!$A$15:$I$114,E$39,0)","v":3.1161110793140017},{"$f":"VLOOKUP($B122,'LED #2'!$A$15:$I$114,F$39,0)","v":3.9886221815219223},{"$f":"VLOOKUP($B122,'LED #3'!$A$15:$I$114,G$39,0)","v":{"$error":"#N/A"}},{"$f":"VLOOKUP($B122,'LED #3'!$A$15:$I$114,H$39,0)","v":{"$error":"#N/A"}},{"$f":"VLOOKUP($B122,'LED #4'!$A$15:$I$114,I$39,0)","v":{"$error":"#N/A"}},{"$f":"VLOOKUP($B122,'LED #4'!$A$15:$I$114,J$39,0)","v":{"$error":"#N/A"}}]
[null,{"$f":"Table!B136","v":1.295},{"$f":"VLOOKUP($B123,'LED #1'!$A$15:$I$114,C$39,0)","v":{"$error":"#N/A"}},{"$f":"VLOOKUP($B123,'LED #1'!$A$15:$I$114,D$39,0)","v":{"$error":"#N/A"}},{"$f":"VLOOKUP($B123,'LED #2'!$A$15:$I$114,E$39,0)","v":3.1222624346906196},{"$f":"VLOOKUP($B123,'LED #2'!$A$15:$I$114,F$39,0)","v":4.043329852924352},{"$f":"VLOOKUP($B123,'LED #3'!$A$15:$I$114,G$39,0)","v":{"$error":"#N/A"}},{"$f":"VLOOKUP($B123,'LED #3'!$A$15:$I$114,H$39,0)","v":{"$error":"#N/A"}},{"$f":"VLOOKUP($B123,'LED #4'!$A$15:$I$114,I$39,0)","v":{"$error":"#N/A"}},{"$f":"VLOOKUP($B123,'LED #4'!$A$15:$I$114,J$39,0)","v":{"$error":"#N/A"}}]
[null,{"$f":"Table!B137","v":{"v":1.31,"d":"1.310"}},{"$f":"VLOOKUP($B124,'LED #1'!$A$15:$I$114,C$39,0)","v":{"$error":"#N/A"}},{"$f":"VLOOKUP($B124,'LED #1'!$A$15:$I$114,D$39,0)","v":{"$error":"#N/A"}},{"$f":"VLOOKUP($B124,'LED #2'!$A$15:$I$114,E$39,0)","v":3.1283898910889865},{"$f":"VLOOKUP($B124,'LED #2'!$A$15:$I$114,F$39,0)","v":4.098190757326573},{"$f":"VLOOKUP($B124,'LED #3'!$A$15:$I$114,G$39,0)","v":{"$error":"#N/A"}},{"$f":"VLOOKUP($B124,'LED #3'!$A$15:$I$114,H$39,0)","v":{"$error":"#N/A"}},{"$f":"VLOOKUP($B124,'LED #4'!$A$15:$I$114,I$39,0)","v":{"$error":"#N/A"}},{"$f":"VLOOKUP($B124,'LED #4'!$A$15:$I$114,J$39,0)","v":{"$error":"#N/A"}}]
[null,{"$f":"Table!B138","v":1.325},{"$f":"VLOOKUP($B125,'LED #1'!$A$15:$I$114,C$39,0)","v":{"$error":"#N/A"}},{"$f":"VLOOKUP($B125,'LED #1'!$A$15:$I$114,D$39,0)","v":{"$error":"#N/A"}},{"$f":"VLOOKUP($B125,'LED #2'!$A$15:$I$114,E$39,0)","v":3.1344935413603725},{"$f":"VLOOKUP($B125,'LED #2'!$A$15:$I$114,F$39,0)","v":4.153203942302493},{"$f":"VLOOKUP($B125,'LED #3'!$A$15:$I$114,G$39,0)","v":{"$error":"#N/A"}},{"$f":"VLOOKUP($B125,'LED #3'!$A$15:$I$114,H$39,0)","v":{"$error":"#N/A"}},{"$f":"VLOOKUP($B125,'LED #4'!$A$15:$I$114,I$39,0)","v":{"$error":"#N/A"}},{"$f":"VLOOKUP($B125,'LED #4'!$A$15:$I$114,J$39,0)","v":{"$error":"#N/A"}}]
[null,{"$f":"Table!B139","v":{"v":1.34,"d":"1.340"}},{"$f":"VLOOKUP($B126,'LED #1'!$A$15:$I$114,C$39,0)","v":{"$error":"#N/A"}},{"$f":"VLOOKUP($B126,'LED #1'!$A$15:$I$114,D$39,0)","v":{"$error":"#N/A"}},{"$f":"VLOOKUP($B126,'LED #2'!$A$15:$I$114,E$39,0)","v":3.1405734779953067},{"$f":"VLOOKUP($B126,'LED #2'!$A$15:$I$114,F$39,0)","v":4.208368460513711},{"$f":"VLOOKUP($B126,'LED #3'!$A$15:$I$114,G$39,0)","v":{"$error":"#N/A"}},{"$f":"VLOOKUP($B126,'LED #3'!$A$15:$I$114,H$39,0)","v":{"$error":"#N/A"}},{"$f":"VLOOKUP($B126,'LED #4'!$A$15:$I$114,I$39,0)","v":{"$error":"#N/A"}},{"$f":"VLOOKUP($B126,'LED #4'!$A$15:$I$114,J$39,0)","v":{"$error":"#N/A"}}]
[null,{"$f":"Table!B140","v":1.355},{"$f":"VLOOKUP($B127,'LED #1'!$A$15:$I$114,C$39,0)","v":{"$error":"#N/A"}},{"$f":"VLOOKUP($B127,'LED #1'!$A$15:$I$114,D$39,0)","v":{"$error":"#N/A"}},{"$f":"VLOOKUP($B127,'LED #2'!$A$15:$I$114,E$39,0)","v":3.1466297931249776},{"$f":"VLOOKUP($B127,'LED #2'!$A$15:$I$114,F$39,0)","v":4.263683369684345},{"$f":"VLOOKUP($B127,'LED #3'!$A$15:$I$114,G$39,0)","v":{"$error":"#N/A"}},{"$f":"VLOOKUP($B127,'LED #3'!$A$15:$I$114,H$39,0)","v":{"$error":"#N/A"}},{"$f":"VLOOKUP($B127,'LED #4'!$A$15:$I$114,I$39,0)","v":{"$error":"#N/A"}},{"$f":"VLOOKUP($B127,'LED #4'!$A$15:$I$114,J$39,0)","v":{"$error":"#N/A"}}]
[null,{"$f":"Table!B141","v":{"v":1.37,"d":"1.370"}},{"$f":"VLOOKUP($B128,'LED #1'!$A$15:$I$114,C$39,0)","v":{"$error":"#N/A"}},{"$f":"VLOOKUP($B128,'LED #1'!$A$15:$I$114,D$39,0)","v":{"$error":"#N/A"}},{"$f":"VLOOKUP($B128,'LED #2'!$A$15:$I$114,E$39,0)","v":3.1526625785226288},{"$f":"VLOOKUP($B128,'LED #2'!$A$15:$I$114,F$39,0)","v":4.319147732576002},{"$f":"VLOOKUP($B128,'LED #3'!$A$15:$I$114,G$39,0)","v":{"$error":"#N/A"}},{"$f":"VLOOKUP($B128,'LED #3'!$A$15:$I$114,H$39,0)","v":{"$error":"#N/A"}},{"$f":"VLOOKUP($B128,'LED #4'!$A$15:$I$114,I$39,0)","v":{"$error":"#N/A"}},{"$f":"VLOOKUP($B128,'LED #4'!$A$15:$I$114,J$39,0)","v":{"$error":"#N/A"}}]
[null,{"$f":"Table!B142","v":1.385},{"$f":"VLOOKUP($B129,'LED #1'!$A$15:$I$114,C$39,0)","v":{"$error":"#N/A"}},{"$f":"VLOOKUP($B129,'LED #1'!$A$15:$I$114,D$39,0)","v":{"$error":"#N/A"}},{"$f":"VLOOKUP($B129,'LED #2'!$A$15:$I$114,E$39,0)","v":3.1586719256049527},{"$f":"VLOOKUP($B129,'LED #2'!$A$15:$I$114,F$39,0)","v":4.37476061696286},{"$f":"VLOOKUP($B129,'LED #3'!$A$15:$I$114,G$39,0)","v":{"$error":"#N/A"}},{"$f":"VLOOKUP($B129,'LED #3'!$A$15:$I$114,H$39,0)","v":{"$error":"#N/A"}},{"$f":"VLOOKUP($B129,'LED #4'!$A$15:$I$114,I$39,0)","v":{"$error":"#N/A"}},{"$f":"VLOOKUP($B129,'LED #4'!$A$15:$I$114,J$39,0)","v":{"$error":"#N/A"}}]
[null,{"$f":"Table!B143","v":{"v":1.4,"d":"1.400"}},{"$f":"VLOOKUP($B130,'LED #1'!$A$15:$I$114,C$39,0)","v":{"$error":"#N/A"}},{"$f":"VLOOKUP($B130,'LED #1'!$A$15:$I$114,D$39,0)","v":{"$error":"#N/A"}},{"$f":"VLOOKUP($B130,'LED #2'!$A$15:$I$114,E$39,0)","v":3.1646579254334712},{"$f":"VLOOKUP($B130,'LED #2'!$A$15:$I$114,F$39,0)","v":4.430521095606859},{"$f":"VLOOKUP($B130,'LED #3'!$A$15:$I$114,G$39,0)","v":{"$error":"#N/A"}},{"$f":"VLOOKUP($B130,'LED #3'!$A$15:$I$114,H$39,0)","v":{"$error":"#N/A"}},{"$f":"VLOOKUP($B130,'LED #4'!$A$15:$I$114,I$39,0)","v":{"$error":"#N/A"}},{"$f":"VLOOKUP($B130,'LED #4'!$A$15:$I$114,J$39,0)","v":{"$error":"#N/A"}}]
[null,{"$f":"Table!B144","v":1.415},{"$f":"VLOOKUP($B131,'LED #1'!$A$15:$I$114,C$39,0)","v":{"$error":"#N/A"}},{"$f":"VLOOKUP($B131,'LED #1'!$A$15:$I$114,D$39,0)","v":{"$error":"#N/A"}},{"$f":"VLOOKUP($B131,'LED #2'!$A$15:$I$114,E$39,0)","v":3.1706206687159195},{"$f":"VLOOKUP($B131,'LED #2'!$A$15:$I$114,F$39,0)","v":4.486428246233026},{"$f":"VLOOKUP($B131,'LED #3'!$A$15:$I$114,G$39,0)","v":{"$error":"#N/A"}},{"$f":"VLOOKUP($B131,'LED #3'!$A$15:$I$114,H$39,0)","v":{"$error":"#N/A"}},{"$f":"VLOOKUP($B131,'LED #4'!$A$15:$I$114,I$39,0)","v":{"$error":"#N/A"}},{"$f":"VLOOKUP($B131,'LED #4'!$A$15:$I$114,J$39,0)","v":{"$error":"#N/A"}}]
[null,{"$f":"Table!B145","v":{"v":1.43,"d":"1.430"}},{"$f":"VLOOKUP($B132,'LED #1'!$A$15:$I$114,C$39,0)","v":{"$error":"#N/A"}},{"$f":"VLOOKUP($B132,'LED #1'!$A$15:$I$114,D$39,0)","v":{"$error":"#N/A"}},{"$f":"VLOOKUP($B132,'LED #2'!$A$15:$I$114,E$39,0)","v":3.1765602458076176},{"$f":"VLOOKUP($B132,'LED #2'!$A$15:$I$114,F$39,0)","v":4.542481151504893},{"$f":"VLOOKUP($B132,'LED #3'!$A$15:$I$114,G$39,0)","v":{"$error":"#N/A"}},{"$f":"VLOOKUP($B132,'LED #3'!$A$15:$I$114,H$39,0)","v":{"$error":"#N/A"}},{"$f":"VLOOKUP($B132,'LED #4'!$A$15:$I$114,I$39,0)","v":{"$error":"#N/A"}},{"$f":"VLOOKUP($B132,'LED #4'!$A$15:$I$114,J$39,0)","v":{"$error":"#N/A"}}]
[null,{"$f":"Table!B146","v":1.445},{"$f":"VLOOKUP($B133,'LED #1'!$A$15:$I$114,C$39,0)","v":{"$error":"#N/A"}},{"$f":"VLOOKUP($B133,'LED #1'!$A$15:$I$114,D$39,0)","v":{"$error":"#N/A"}},{"$f":"VLOOKUP($B133,'LED #2'!$A$15:$I$114,E$39,0)","v":3.182476746712843},{"$f":"VLOOKUP($B133,'LED #2'!$A$15:$I$114,F$39,0)","v":4.598678899000058},{"$f":"VLOOKUP($B133,'LED #3'!$A$15:$I$114,G$39,0)","v":{"$error":"#N/A"}},{"$f":"VLOOKUP($B133,'LED #3'!$A$15:$I$114,H$39,0)","v":{"$error":"#N/A"}},{"$f":"VLOOKUP($B133,'LED #4'!$A$15:$I$114,I$39,0)","v":{"$error":"#N/A"}},{"$f":"VLOOKUP($B133,'LED #4'!$A$15:$I$114,J$39,0)","v":{"$error":"#N/A"}}]
[null,{"$f":"Table!B147","v":{"v":1.46,"d":"1.460"}},{"$f":"VLOOKUP($B134,'LED #1'!$A$15:$I$114,C$39,0)","v":{"$error":"#N/A"}},{"$f":"VLOOKUP($B134,'LED #1'!$A$15:$I$114,D$39,0)","v":{"$error":"#N/A"}},{"$f":"VLOOKUP($B134,'LED #2'!$A$15:$I$114,E$39,0)","v":3.1883702610861904},{"$f":"VLOOKUP($B134,'LED #2'!$A$15:$I$114,F$39,0)","v":4.655020581185838},{"$f":"VLOOKUP($B134,'LED #3'!$A$15:$I$114,G$39,0)","v":{"$error":"#N/A"}},{"$f":"VLOOKUP($B134,'LED #3'!$A$15:$I$114,H$39,0)","v":{"$error":"#N/A"}},{"$f":"VLOOKUP($B134,'LED #4'!$A$15:$I$114,I$39,0)","v":{"$error":"#N/A"}},{"$f":"VLOOKUP($B134,'LED #4'!$A$15:$I$114,J$39,0)","v":{"$error":"#N/A"}}]
[null,{"$f":"Table!B148","v":1.475},{"$f":"VLOOKUP($B135,'LED #1'!$A$15:$I$114,C$39,0)","v":{"$error":"#N/A"}},{"$f":"VLOOKUP($B135,'LED #1'!$A$15:$I$114,D$39,0)","v":{"$error":"#N/A"}},{"$f":"VLOOKUP($B135,'LED #2'!$A$15:$I$114,E$39,0)","v":3.1942408782339333},{"$f":"VLOOKUP($B135,'LED #2'!$A$15:$I$114,F$39,0)","v":4.711505295395052},{"$f":"VLOOKUP($B135,'LED #3'!$A$15:$I$114,G$39,0)","v":{"$error":"#N/A"}},{"$f":"VLOOKUP($B135,'LED #3'!$A$15:$I$114,H$39,0)","v":{"$error":"#N/A"}},{"$f":"VLOOKUP($B135,'LED #4'!$A$15:$I$114,I$39,0)","v":{"$error":"#N/A"}},{"$f":"VLOOKUP($B135,'LED #4'!$A$15:$I$114,J$39,0)","v":{"$error":"#N/A"}}]
[null,{"$f":"Table!B149","v":{"v":1.49,"d":"1.490"}},{"$f":"VLOOKUP($B136,'LED #1'!$A$15:$I$114,C$39,0)","v":{"$error":"#N/A"}},{"$f":"VLOOKUP($B136,'LED #1'!$A$15:$I$114,D$39,0)","v":{"$error":"#N/A"}},{"$f":"VLOOKUP($B136,'LED #2'!$A$15:$I$114,E$39,0)","v":3.2000886871153766},{"$f":"VLOOKUP($B136,'LED #2'!$A$15:$I$114,F$39,0)","v":4.768132143801911},{"$f":"VLOOKUP($B136,'LED #3'!$A$15:$I$114,G$39,0)","v":{"$error":"#N/A"}},{"$f":"VLOOKUP($B136,'LED #3'!$A$15:$I$114,H$39,0)","v":{"$error":"#N/A"}},{"$f":"VLOOKUP($B136,'LED #4'!$A$15:$I$114,I$39,0)","v":{"$error":"#N/A"}},{"$f":"VLOOKUP($B136,'LED #4'!$A$15:$I$114,J$39,0)","v":{"$error":"#N/A"}}]
[null,{"$f":"Table!B150","v":1.505},{"$f":"VLOOKUP($B137,'LED #1'!$A$15:$I$114,C$39,0)","v":{"$error":"#N/A"}},{"$f":"VLOOKUP($B137,'LED #1'!$A$15:$I$114,D$39,0)","v":{"$error":"#N/A"}},{"$f":"VLOOKUP($B137,'LED #2'!$A$15:$I$114,E$39,0)","v":{"$error":"#N/A"}},{"$f":"VLOOKUP($B137,'LED #2'!$A$15:$I$114,F$39,0)","v":{"$error":"#N/A"}},{"$f":"VLOOKUP($B137,'LED #3'!$A$15:$I$114,G$39,0)","v":{"$error":"#N/A"}},{"$f":"VLOOKUP($B137,'LED #3'!$A$15:$I$114,H$39,0)","v":{"$error":"#N/A"}},{"$f":"VLOOKUP($B137,'LED #4'!$A$15:$I$114,I$39,0)","v":{"$error":"#N/A"}},{"$f":"VLOOKUP($B137,'LED #4'!$A$15:$I$114,J$39,0)","v":{"$error":"#N/A"}}]
[null,{"$f":"Table!B151","v":{"v":1.52,"d":"1.520"}},{"$f":"VLOOKUP($B138,'LED #1'!$A$15:$I$114,C$39,0)","v":{"$error":"#N/A"}},{"$f":"VLOOKUP($B138,'LED #1'!$A$15:$I$114,D$39,0)","v":{"$error":"#N/A"}},{"$f":"VLOOKUP($B138,'LED #2'!$A$15:$I$114,E$39,0)","v":{"$error":"#N/A"}},{"$f":"VLOOKUP($B138,'LED #2'!$A$15:$I$114,F$39,0)","v":{"$error":"#N/A"}},{"$f":"VLOOKUP($B138,'LED #3'!$A$15:$I$114,G$39,0)","v":{"$error":"#N/A"}},{"$f":"VLOOKUP($B138,'LED #3'!$A$15:$I$114,H$39,0)","v":{"$error":"#N/A"}},{"$f":"VLOOKUP($B138,'LED #4'!$A$15:$I$114,I$39,0)","v":{"$error":"#N/A"}},{"$f":"VLOOKUP($B138,'LED #4'!$A$15:$I$114,J$39,0)","v":{"$error":"#N/A"}}]
[null,{"$f":"Table!B152","v":1.535},{"$f":"VLOOKUP($B139,'LED #1'!$A$15:$I$114,C$39,0)","v":{"$error":"#N/A"}},{"$f":"VLOOKUP($B139,'LED #1'!$A$15:$I$114,D$39,0)","v":{"$error":"#N/A"}},{"$f":"VLOOKUP($B139,'LED #2'!$A$15:$I$114,E$39,0)","v":{"$error":"#N/A"}},{"$f":"VLOOKUP($B139,'LED #2'!$A$15:$I$114,F$39,0)","v":{"$error":"#N/A"}},{"$f":"VLOOKUP($B139,'LED #3'!$A$15:$I$114,G$39,0)","v":{"$error":"#N/A"}},{"$f":"VLOOKUP($B139,'LED #3'!$A$15:$I$114,H$39,0)","v":{"$error":"#N/A"}},{"$f":"VLOOKUP($B139,'LED #4'!$A$15:$I$114,I$39,0)","v":{"$error":"#N/A"}},{"$f":"VLOOKUP($B139,'LED #4'!$A$15:$I$114,J$39,0)","v":{"$error":"#N/A"}}]

{"sheet":"List","index":2,"n_rows":671,"n_cols":12,"rows_kept":671,"hidden":true}
["Manufacturer","Power","PKG","CRI","Part-name","CCT","Spec","Rank","Min","Typ","Max","비고"]
["SSC","Mid","Y11-3V",70,"SZ8-Y11-Wx-C7-A","Cool","Flux","W1",64,{"$f":"+(K2-I2)/2+I2","v":66},{"$f":"+I3","v":68}]
["SSC","Mid","Y11-3V",70,"SZ8-Y11-Wx-C7-A","Cool","Flux","W2",68,70.5,{"$f":"+I4","v":73}]
["SSC","Mid","Y11-3V",70,"SZ8-Y11-Wx-C7-A","Cool","Flux","W3",73,75,77]
["SSC","Mid","Y11-3V",70,"SZ8-Y11-Wx-C7-A","Neutral","Flux","W1",64,66,{"$f":"+I6","v":68}]
["SSC","Mid","Y11-3V",70,"SZ8-Y11-Wx-C7-A","Neutral","Flux","W2",68,70.5,{"$f":"+I7","v":73}]
["SSC","Mid","Y11-3V",70,"SZ8-Y11-Wx-C7-A","Neutral","Flux","W3",73,75,77]
["SSC","Mid","Y11-3V",70,"SZ8-Y11-Wx-C7-A",null,"VF","G",2.55,{"$f":"+(K8-I8)/2+I8","v":2.675},2.8]
["SSC","Mid","Y11-3V",70,"SZ8-Y11-Wx-C7-A",null,"VF","H",2.8,2.925,3.05]
["SSC","Mid","Y11-3V",80,"SZ8-Y11-Wx-C8-A","Cool","Flux","V2",56,58,60]
["SSC","Mid","Y11-3V",80,"SZ8-Y11-Wx-C8-A","Cool","Flux","V3",60,62,64]
["SSC","Mid","Y11-3V",80,"SZ8-Y11-Wx-C8-A","Cool","Flux","W1",64,66,68]
["SSC","Mid","Y11-3V",80,"SZ8-Y11-Wx-C8-A","Cool","Flux","W2",68,70.5,73]
["SSC","Mid","Y11-3V",80,"SZ8-Y11-Wx-C8-A","Neutral","Flux","V2",56,58,60]
["SSC","Mid","Y11-3V",80,"SZ8-Y11-Wx-C8-A","Neutral","Flux","V3",60,62,64]
["SSC","Mid","Y11-3V",80,"SZ8-Y11-Wx-C8-A","Neutral","Flux","W1",64,66,68]
["SSC","Mid","Y11-3V",80,"SZ8-Y11-Wx-C8-A","Neutral","Flux","W2",68,70.5,73]
["SSC","Mid","Y11-3V",80,"SZ8-Y11-Wx-C8-A","Warm","Flux","V1",52,54,56]
["SSC","Mid","Y11-3V",80,"SZ8-Y11-Wx-C8-A","Warm","Flux","V2",56,58,60]
["SSC","Mid","Y11-3V",80,"SZ8-Y11-Wx-C8-A","Warm","Flux","V3",60,62,64]
["SSC","Mid","Y11-3V",80,"SZ8-Y11-Wx-C8-A",null,"VF","G",2.55,2.675,2.8]
["SSC","Mid","Y11-3V",80,"SZ8-Y11-Wx-C8-A",null,"VF","H",2.8,2.925,3.05]
["SSC","Mid","Y11-3V",90,"SZ8-Y11-Wx-C9-A","Cool","Flux","U3",49,50.5,52]
["SSC","Mid","Y11-3V",90,"SZ8-Y11-Wx-C9-A","Cool","Flux","V1",52,54,56]
["SSC","Mid","Y11-3V",90,"SZ8-Y11-Wx-C9-A","Cool","Flux","V2",56,58,60]
["SSC","Mid","Y11-3V",90,"SZ8-Y11-Wx-C9-A","Cool","Flux","V3",60,62,64]
["SSC","Mid","Y11-3V",90,"SZ8-Y11-Wx-C9-A","Neutral","Flux","U3",49,{"$f":"+(K27-I27)/2+I27","v":50.5},52]
["SSC","Mid","Y11-3V",90,"SZ8-Y11-Wx-C9-A","Neutral","Flux","V1",52,54,56]
["SSC","Mid","Y11-3V",90,"SZ8-Y11-Wx-C9-A","Neutral","Flux","V2",56,58,60]
["SSC","Mid","Y11-3V",90,"SZ8-Y11-Wx-C9-A","Neutral","Flux","V3",60,62,64]
["SSC","Mid","Y11-3V",90,"SZ8-Y11-Wx-C9-A","Warm","Flux","U1",43,44.5,46]
["SSC","Mid","Y11-3V",90,"SZ8-Y11-Wx-C9-A","Warm","Flux","U2",46,47.5,49]
["SSC","Mid","Y11-3V",90,"SZ8-Y11-Wx-C9-A","Warm","Flux","U3",49,{"$f":"+(K33-I33)/2+I33","v":50.5},52]
["SSC","Mid","Y11-3V",90,"SZ8-Y11-Wx-C9-A","Warm","Flux","V1",52,54,56]
["SSC","Mid","Y11-3V",90,"SZ8-Y11-Wx-C9-A",null,"VF","G",2.55,{"$f":"+(K35-I35)/2+I35","v":2.675},2.8]
["SSC","Mid","Y11-3V",90,"SZ8-Y11-Wx-C9-A",null,"VF","H",2.8,2.925,3.05]
["SSC","Mid","Y11-6V",80,"SZ8-Y11-Wx-C8-B","Cool","Flux","V2",116,120.5,{"$f":"+I38","v":125}]
["SSC","Mid","Y11-6V",80,"SZ8-Y11-Wx-C8-B","Cool","Flux","V3",125,129,{"$f":"+I39","v":133}]
["SSC","Mid","Y11-6V",80,"SZ8-Y11-Wx-C8-B","Cool","Flux","W1",133,137.5,142]
["SSC","Mid","Y11-6V",80,"SZ8-Y11-Wx-C8-B","Cool","Flux","W2",142,147,152]
["SSC","Mid","Y11-6V",80,"SZ8-Y11-Wx-C8-B","Neutral","Flux","V2",116,120.5,125]
["SSC","Mid","Y11-6V",80,"SZ8-Y11-Wx-C8-B","Neutral","Flux","V3",125,129,133]
["SSC","Mid","Y11-6V",80,"SZ8-Y11-Wx-C8-B","Neutral","Flux","W1",133,137.5,142]
["SSC","Mid","Y11-6V",80,"SZ8-Y11-Wx-C8-B","Neutral","Flux","W2",142,147,152]
["SSC","Mid","Y11-6V",80,"SZ8-Y11-Wx-C8-B","Warm","Flux","V1",109,112.5,116]
["SSC","Mid","Y11-6V",80,"SZ8-Y11-Wx-C8-B","Warm","Flux","V2",116,120.5,125]
["SSC","Mid","Y11-6V",80,"SZ8-Y11-Wx-C8-B","Warm","Flux","V3",125,129,133]
["SSC","Mid","Y11-6V",80,"SZ8-Y11-Wx-C8-B","Warm","Flux","W1",133,137.5,142]
["SSC","Mid","Y11-6V",90,"SZ8-Y11-Wx-C8-B",null,"VF","H",5.6,{"$f":"+(K49-I49)/2+I49","v":5.75},5.9]
["SSC","Mid","Y11-6V",90,"SZ8-Y11-Wx-C8-B",null,"VF","I",5.9,6.050000000000001,6.2]
["SSC","Mid","Y11-6V",90,"SZ8-Y11-Wx-C9-B","Warm","Flux","U1",89,92.5,96]
["SSC","Mid","Y11-6V",90,"SZ8-Y11-Wx-C9-B","Warm","Flux","U2",96,99,102]
["SSC","Mid","Y11-6V",90,"SZ8-Y11-Wx-C9-B","Warm","Flux","U3",102,105.5,109]
["SSC","Mid","Y11-6V",90,"SZ8-Y11-Wx-C9-B","Warm","Flux","V1",109,112.5,116]
["SSC","Mid","Y11-6V",90,"SZ8-Y11-Wx-C9-B",null,"VF","H",5.6,5.75,5.9]
["SSC","Mid","Y11-6V",90,"SZ8-Y11-Wx-C9-B",null,"VF","I",5.9,6.050000000000001,6.2]
["SSC","Mid","Y11-9V",80,"SZ8-Y11-Wx-C8-C","Cool","Flux","V2",116,120.5,125]
["SSC","Mid","Y11-9V",80,"SZ8-Y11-Wx-C8-C","Cool","Flux","V3",125,129,133]
["SSC","Mid","Y11-9V",80,"SZ8-Y11-Wx-C8-C","Cool","Flux","W1",133,137.5,142]
["SSC","Mid","Y11-9V",80,"SZ8-Y11-Wx-C8-C","Neutral","Flux","V2",116,120.5,125]
["SSC","Mid","Y11-9V",80,"SZ8-Y11-Wx-C8-C","Neutral","Flux","V3",125,129,133]
["SSC","Mid","Y11-9V",80,"SZ8-Y11-Wx-C8-C","Neutral","Flux","W1",133,137.5,142]
["SSC","Mid","Y11-9V",80,"SZ8-Y11-Wx-C8-C","Warm","Flux","V1",109,112.5,116]
["SSC","Mid","Y11-9V",80,"SZ8-Y11-Wx-C8-C","Warm","Flux","V2",116,120.5,125]
["SSC","Mid","Y11-9V",80,"SZ8-Y11-Wx-C8-C","Warm","Flux","V3",125,129,133]
["SSC","Mid","Y11-9V",80,"SZ8-Y11-Wx-C8-C",null,"VF","H",8.5,8.65,8.8]
["SSC","Mid","Y11-9V",80,"SZ8-Y11-Wx-C8-C",null,"VF","I",8.8,8.975000000000001,9.15]
["SSC","Mid","Y11-9V",90,"SZ8-Y11-Wx-C9-C","Warm","Flux","U1",89,92.5,96]
["SSC","Mid","Y11-9V",90,"SZ8-Y11-Wx-C9-C","Warm","Flux","U2",96,99,102]
["SSC","Mid","Y11-9V",90,"SZ8-Y11-Wx-C9-C","Warm","Flux","U3",102,105.5,109]
["SSC","Mid","Y11-9V",90,"SZ8-Y11-Wx-C9-C",null,"VF","H",8.5,{"$f":"+(K71-I71)/2+I71","v":8.65},8.8]
["SSC","Mid","Y11-9V",90,"SZ8-Y11-Wx-C9-C",null,"VF","I",8.8,8.975000000000001,9.15]
["SSC","Mid","Y15",70,"SZ8-Y15-Wx-C7","Cool","Flux","V3",223,230,237]
["SSC","Mid","Y15",70,"SZ8-Y15-Wx-C7","Cool","Flux","W1",237,245.5,254]
["SSC","Mid","Y15",70,"SZ8-Y15-Wx-C7","Cool","Flux","W2",254,262.5,271]
["SSC","Mid","Y15",70,"SZ8-Y15-Wx-C7","Cool","Flux","W3",271,279.5,288]
["SSC","Mid","Y15",70,"SZ8-Y15-Wx-C7","Neutral","Flux","V3",223,230,237]
["SSC","Mid","Y15",70,"SZ8-Y15-Wx-C7","Neutral","Flux","W1",237,245.5,254]
["SSC","Mid","Y15",70,"SZ8-Y15-Wx-C7","Neutral","Flux","W2",254,262.5,271]
["SSC","Mid","Y15",70,"SZ8-Y15-Wx-C7","Neutral","Flux","W3",271,279.5,288]
["SSC","Mid","Y15",70,"SZ8-Y15-Wx-C7","Warm","Flux","V2",208,215.5,223]
["SSC","Mid","Y15",70,"SZ8-Y15-Wx-C7","Warm","Flux","V3",223,230,237]
["SSC","Mid","Y15",70,"SZ8-Y15-Wx-C7","Warm","Flux","W1",237,245.5,254]
["SSC","Mid","Y15",70,"SZ8-Y15-Wx-C7",null,"VF","G",2.75,2.875,3]
["SSC","Mid","Y15",70,"SZ8-Y15-Wx-C7",null,"VF","H",3,3.125,3.25]
["SSC","Mid","Y15",80,"SZ8-Y15-Wx-C8","Cool","Flux","V2",208,215.5,223]
["SSC","Mid","Y15",80,"SZ8-Y15-Wx-C8","Cool","Flux","V3",223,230,237]
["SSC","Mid","Y15",80,"SZ8-Y15-Wx-C8","Cool","Flux","W1",237,245.5,254]
["SSC","Mid","Y15",80,"SZ8-Y15-Wx-C8","Neutral","Flux","V2",208,215.5,223]
["SSC","Mid","Y15",80,"SZ8-Y15-Wx-C8","Neutral","Flux","V3",223,230,237]
["SSC","Mid","Y15",80,"SZ8-Y15-Wx-C8","Neutral","Flux","W1",237,245.5,254]
["SSC","Mid","Y15",80,"SZ8-Y15-Wx-C8","Warm","Flux","U3",182,188.5,195]
["SSC","Mid","Y15",80,"SZ8-Y15-Wx-C8","Warm","Flux","V1",195,201.5,208]
["SSC","Mid","Y15",80,"SZ8-Y15-Wx-C8","Warm","Flux","V2",208,215.5,223]
["SSC","Mid","Y15",80,"SZ8-Y15-Wx-C8","Warm","Flux","V3",223,230,237]
["SSC","Mid","Y15",80,"SZ8-Y15-Wx-C8",null,"VF","G",2.75,2.875,3]
["SSC","Mid","Y15",80,"SZ8-Y15-Wx-C8",null,"VF","H",3,3.125,3.25]
["SSC","Mid","Y15",90,"SZ8-Y15-Wx-C9","Cool","Flux","U3",182,188.5,195]
["SSC","Mid","Y15",90,"SZ8-Y15-Wx-C9","Cool","Flux","V1",195,201.5,208]
["SSC","Mid","Y15",90,"SZ8-Y15-Wx-C9","Cool","Flux","V2",208,215.5,223]
["SSC","Mid","Y15",90,"SZ8-Y15-Wx-C9","Neutral","Flux","U3",182,188.5,195]
["SSC","Mid","Y15",90,"SZ8-Y15-Wx-C9","Neutral","Flux","V1",195,201.5,208]
["SSC","Mid","Y15",90,"SZ8-Y15-Wx-C9","Neutral","Flux","V2",208,215.5,223]
["SSC","Mid","Y15",90,"SZ8-Y15-Wx-C9","Warm","Flux","U1",160,166,172]
["SSC","Mid","Y15",90,"SZ8-Y15-Wx-C9","Warm","Flux","U2",172,177,182]
["SSC","Mid","Y15",90,"SZ8-Y15-Wx-C9","Warm","Flux","U3",182,188.5,195]
["SSC","Mid","Y15",90,"SZ8-Y15-Wx-C9",null,"VF","G",2.75,2.875,3]
["SSC","Mid","Y15",90,"SZ8-Y15-Wx-C9",null,"VF","H",3,3.125,3.25]
["SSC","High","Y19",70,"SZ8-Y19-Wx-C7","Cool","Flux","W2",254,262.5,271]
["SSC","High","Y19",70,"SZ8-Y19-Wx-C7","Cool","Flux","W3",271,278,285]
["SSC","High","Y19",70,"SZ8-Y19-Wx-C7","Cool","Flux","W4",285,292,299]
["SSC","High","Y19",70,"SZ8-Y19-Wx-C7","Cool","Flux","W5",299,306,313]
["SSC","High","Y19",70,"SZ8-Y19-Wx-C7","Neutral","Flux","W2",254,262.5,271]
["SSC","High","Y19",70,"SZ8-Y19-Wx-C7","Neutral","Flux","W3",271,278,285]
["SSC","High","Y19",70,"SZ8-Y19-Wx-C7","Neutral","Flux","W4",285,292,299]
["SSC","High","Y19",70,"SZ8-Y19-Wx-C7","Neutral","Flux","W5",299,306,313]
["SSC","High","Y19",70,"SZ8-Y19-Wx-C7","Warm","Flux","V3",223,230,237]
["SSC","High","Y19",70,"SZ8-Y19-Wx-C7","Warm","Flux","W1",237,245.5,254]
["SSC","High","Y19",70,"SZ8-Y19-Wx-C7","Warm","Flux","W2",254,262.5,271]
["SSC","High","Y19",70,"SZ8-Y19-Wx-C7",null,"VF","G",2.75,2.875,3]
["SSC","High","Y19",70,"SZ8-Y19-Wx-C7",null,"VF","H",3,3.125,3.25]
["SSC","High","Y19",80,"SZ8-Y19-Wx-C8","Cool","Flux","V3",223,230,237]
["SSC","High","Y19",80,"SZ8-Y19-Wx-C8","Cool","Flux","W1",237,245.5,254]
["SSC","High","Y19",80,"SZ8-Y19-Wx-C8","Cool","Flux","W2",254,262.5,271]
["SSC","High","Y19",80,"SZ8-Y19-Wx-C8","Neutral","Flux","V3",223,230,237]
["SSC","High","Y19",80,"SZ8-Y19-Wx-C8","Neutral","Flux","W1",237,245.5,254]
["SSC","High","Y19",80,"SZ8-Y19-Wx-C8","Neutral","Flux","W2",254,262.5,271]
["SSC","High","Y19",80,"SZ8-Y19-Wx-C8","Warm","Flux","V1",195,201.5,208]
["SSC","High","Y19",80,"SZ8-Y19-Wx-C8","Warm","Flux","V2",208,215.5,223]
["SSC","High","Y19",80,"SZ8-Y19-Wx-C8","Warm","Flux","V3",223,230,237]
["SSC","High","Y19",80,"SZ8-Y19-Wx-C8",null,"VF","G",2.75,2.875,3]
["SSC","High","Y19",80,"SZ8-Y19-Wx-C8",null,"VF","H",3,3.125,3.25]
["SSC","High","Y19",90,"SZ8-Y19-Wx-C9","Cool","Flux","V1",195,201.5,208]
["SSC","High","Y19",90,"SZ8-Y19-Wx-C9","Cool","Flux","V2",208,215.5,223]
["SSC","High","Y19",90,"SZ8-Y19-Wx-C9","Cool","Flux","V3",223,230,237]
["SSC","High","Y19",90,"SZ8-Y19-Wx-C9","Neutral","Flux","V1",195,201.5,208]
["SSC","High","Y19",90,"SZ8-Y19-Wx-C9","Neutral","Flux","V2",208,215.5,223]
["SSC","High","Y19",90,"SZ8-Y19-Wx-C9","Neutral","Flux","V3",223,230,237]
["SSC","High","Y19",90,"SZ8-Y19-Wx-C9","Warm","Flux","U2",172,177,182]
["SSC","High","Y19",90,"SZ8-Y19-Wx-C9","Warm","Flux","U3",182,188.5,195]
["SSC","High","Y19",90,"SZ8-Y19-Wx-C9","Warm","Flux","V1",195,201.5,208]
["SSC","High","Y19",90,"SZ8-Y19-Wx-C9",null,"VF","G",2.75,2.875,3]
["SSC","High","Y19",90,"SZ8-Y19-Wx-C9",null,"VF","H",3,3.125,3.25]
["SSC","High","Y22",70,"SZ8-Y22-Wx-C7-x","Cool","Flux","W5",299,306,313]
["SSC","High","Y22",70,"SZ8-Y22-Wx-C7-x","Cool","Flux","W6",313,320,327]
["SSC","High","Y22",70,"SZ8-Y22-Wx-C7-x","Cool","Flux","W7",327,334,341]
["SSC","High","Y22",70,"SZ8-Y22-Wx-C7-x","Cool","Flux","W8",341,348,355]
["SSC","High","Y22",70,"SZ8-Y22-Wx-C7-x","Neutral","Flux","W5",299,306,313]
["SSC","High","Y22",70,"SZ8-Y22-Wx-C7-x","Neutral","Flux","W6",313,320,327]
["SSC","High","Y22",70,"SZ8-Y22-Wx-C7-x","Neutral","Flux","W7",327,334,341]
["SSC","High","Y22",70,"SZ8-Y22-Wx-C7-x","Neutral","Flux","W8",341,{"$f":"+(K151-I151)/2+I151","v":348},355]
["SSC","High","Y22",70,"SZ8-Y22-Wx-C7-x","Warm","Flux","W4",285,292,299]
["SSC","High","Y22",70,"SZ8-Y22-Wx-C7-x","Warm","Flux","W5",299,306,313]
["SSC","High","Y22",70,"SZ8-Y22-Wx-C7-x","Warm","Flux","W6",313,320,327]
["SSC","High","Y22",70,"SZ8-Y22-Wx-C7-x",null,"VF","F",2.5,2.625,2.75]
["SSC","High","Y22",70,"SZ8-Y22-Wx-C7-x",null,"VF","G",2.75,2.875,3]
["SSC","High","Y22",80,"SZ8-Y22-Wx-C8-x","Cool","Flux","W3",271,{"$f":"+(K157-I157)/2+I157","v":278},285]
["SSC","High","Y22",80,"SZ8-Y22-Wx-C8-x","Cool","Flux","W4",285,{"$f":"+(K158-I158)/2+I158","v":292},299]
["SSC","High","Y22",80,"SZ8-Y22-Wx-C8-x","Cool","Flux","W5",299,306,313]
["SSC","High","Y22",80,"SZ8-Y22-Wx-C8-x","Neutral","Flux","W4",285,{"$f":"+(K160-I160)/2+I160","v":292},299]
["SSC","High","Y22",80,"SZ8-Y22-Wx-C8-x","Neutral","Flux","W5",299,306,313]
["SSC","High","Y22",80,"SZ8-Y22-Wx-C8-x","Neutral","Flux","W6",313,320,327]
["SSC","High","Y22",80,"SZ8-Y22-Wx-C8-x","Warm","Flux","W2",254,{"$f":"+(K163-I163)/2+I163","v":262.5},271]
["SSC","High","Y22",80,"SZ8-Y22-Wx-C8-x","Warm","Flux","W3",271,{"$f":"+(K164-I164)/2+I164","v":278},285]
["SSC","High","Y22",80,"SZ8-Y22-Wx-C8-x","Warm","Flux","W4",285,{"$f":"+(K165-I165)/2+I165","v":292},299]
["SSC","High","Y22",80,"SZ8-Y22-Wx-C8-x",null,"VF","F",2.5,2.625,2.75]
["SSC","High","Y22",80,"SZ8-Y22-Wx-C8-x",null,"VF","G",2.75,2.875,3]
["SSC","High","Y22",90,"SZ8-Y22-Wx-C9-x","Cool","Flux","V3",223,230,237]
["SSC","High","Y22",90,"SZ8-Y22-Wx-C9-x","Cool","Flux","W1",237,245.5,254]
["SSC","High","Y22",90,"SZ8-Y22-Wx-C9-x","Cool","Flux","W2",254,262.5,271]
["SSC","High","Y22",90,"SZ8-Y22-Wx-C9-x","Neutral","Flux","V2",208,215.5,223]
["SSC","High","Y22",90,"SZ8-Y22-Wx-C9-x","Neutral","Flux","V3",223,{"$f":"+(K172-I172)/2+I172","v":230},237]
["SSC","High","Y22",90,"SZ8-Y22-Wx-C9-x","Neutral","Flux","W1",237,245.5,254]
["SSC","High","Y22",90,"SZ8-Y22-Wx-C9-x","Warm","Flux","V1",195,201.5,208]
["SSC","High","Y22",90,"SZ8-Y22-Wx-C9-x","Warm","Flux","V2",208,{"$f":"+(K175-I175)/2+I175","v":215.5},223]
["SSC","High","Y22",90,"SZ8-Y22-Wx-C9-x","Warm","Flux","V3",223,230,237]
["SSC","High","Y22",90,"SZ8-Y22-Wx-C9-x",null,"VF","F",2.5,2.625,2.75]
["SSC","High","Y22",90,"SZ8-Y22-Wx-C9-x",null,"VF","G",2.75,2.875,3]
["SSC","High","Z5M2",70,"SZ5-M2-Wx-00","Cool","Flux","W3",272,278.5,285]
["SSC","High","Z5M2",70,"SZ5-M2-Wx-00","Cool","Flux","W4",285,292,299]
["SSC","High","Z5M2",70,"SZ5-M2-Wx-00","Cool","Flux","W5",299,306,313]
["SSC","High","Z5M2",70,"SZ5-M2-Wx-00","Neutral","Flux","W3",272,278.5,285]
["SSC","High","Z5M2",70,"SZ5-M2-Wx-00","Neutral","Flux","W4",285,292,299]
["SSC","High","Z5M2",70,"SZ5-M2-Wx-00","Neutral","Flux","W5",299,306,313]
["SSC","High","Z5M2",70,"SZ5-M2-Wx-00","Warm","Flux","V3",218,229,240]
["SSC","High","Z5M2",70,"SZ5-M2-Wx-00","Warm","Flux","W1",240,248,256]
["SSC","High","Z5M2",70,"SZ5-M2-Wx-00","Warm","Flux","W2",256,264,272]
["SSC","High","Z5M2",70,"SZ5-M2-Wx-00",null,"VF","G",2.75,2.875,3]
["SSC","High","Z5M2",80,"SZ5-M2-Wx-C8","Cool","Flux","V3",218,229,240]
["SSC","High","Z5M2",80,"SZ5-M2-Wx-C8","Cool","Flux","W1",240,248,256]
["SSC","High","Z5M2",80,"SZ5-M2-Wx-C8","Cool","Flux","W2",256,264,272]
["SSC","High","Z5M2",80,"SZ5-M2-Wx-C8","Cool","Flux","W3",272,278.5,285]
["SSC","High","Z5M2",80,"SZ5-M2-Wx-C8","Neutral","Flux","V2",203,210.5,218]
["SSC","High","Z5M2",80,"SZ5-M2-Wx-C8","Neutral","Flux","V3",218,{"$f":"+(K194-I194)/2+I194","v":229},240]
["SSC","High","Z5M2",80,"SZ5-M2-Wx-C8","Neutral","Flux","W1",240,248,256]
["SSC","High","Z5M2",80,"SZ5-M2-Wx-C8","Warm","Flux","V1",185,194,203]
["SSC","High","Z5M2",80,"SZ5-M2-Wx-C8","Warm","Flux","V2",203,210.5,218]
["SSC","High","Z5M2",80,"SZ5-M2-Wx-C8","Warm","Flux","V3",218,229,240]
["SSC","High","Z5M2",80,"SZ5-M2-Wx-C8",null,"VF","G",2.75,{"$f":"+(K199-I199)/2+I199","v":2.875},3]
["SSC","High","Z5M2",90,"SZ5-M2-Wx-C9","Warm","Flux","U1",132,138.5,145]
["SSC","High","Z5M2",90,"SZ5-M2-Wx-C9","Warm","Flux","U2",145,152,159]
["SSC","High","Z5M2",90,"SZ5-M2-Wx-C9","Warm","Flux","U3",159,172,185]
["SSC","High","Z5M2",90,"SZ5-M2-Wx-C9","Warm","Flux","V1",185,194,203]
["SSC","High","Z5M2",90,"SZ5-M2-Wx-C9",null,"VF","G",2.75,{"$f":"+(K204-I204)/2+I204","v":2.875},3]
["SSC","High","Z5M3",70,"SZ5-M3-Wx-C7","Cool","Flux","W4",285,292,299]
["SSC","High","Z5M3",70,"SZ5-M3-Wx-C7","Cool","Flux","W5",299,306,313]
["SSC","High","Z5M3",70,"SZ5-M3-Wx-C7","Cool","Flux","W6",313,320,327]
["SSC","High","Z5M3",70,"SZ5-M3-Wx-C7","Neutral","Flux","W4",285,292,299]
["SSC","High","Z5M3",70,"SZ5-M3-Wx-C7","Neutral","Flux","W5",299,306,313]
["SSC","High","Z5M3",70,"SZ5-M3-Wx-C7","Neutral","Flux","W6",313,320,327]
["SSC","High","Z5M3",70,"SZ5-M3-Wx-C7","Warm","Flux","W1",240,248,256]
["SSC","High","Z5M3",70,"SZ5-M3-Wx-C7","Warm","Flux","W2",256,264,272]
["SSC","High","Z5M3",70,"SZ5-M3-Wx-C7","Warm","Flux","W3",272,278.5,285]
["SSC","High","Z5M3",70,"SZ5-M3-Wx-C7","Warm","Flux","W4",285,292,299]
["SSC","High","Z5M3",70,"SZ5-M3-Wx-C7",null,"VF","G",2.75,2.875,3]
["SSC","High",5050,80,"SAW8L60A","Cool","Flux","W1",155,163,171]
["SSC","High",5050,80,"SAW8L60A","Cool","Flux","W2",171,178.5,186]
["SSC","High",5050,80,"SAW8L60A","Cool","Flux","X1",186,194,202]
["SSC","High",5050,80,"SAW8L60A","Neutral","Flux","W1",155,163,171]
["SSC","High",5050,80,"SAW8L60A","Neutral","Flux","W2",171,178.5,186]
["SSC","High",5050,80,"SAW8L60A","Neutral","Flux","X1",186,194,202]
["SSC","High",5050,80,"SAW8L60A","Warm","Flux","W1",155,163,171]
["SSC","High",5050,80,"SAW8L60A","Warm","Flux","W2",171,178.5,186]
["SSC","High",5050,80,"SAW8L60A",null,"VF","Z",15,15.5,{"$f":"+I225","v":16}]
["SSC","High",5050,80,"SAW8L60A",null,"VF","A",16,16.5,17]
["SSC","High",5050,80,"SAW8L60A",null,"VF","B",17,17.5,18]
["SSC","High",5050,70,"SAW0L60A","Cool","Flux","W2",171,178.5,{"$f":"+I228","v":186}]
["SSC","High",5050,70,"SAW0L60A","Cool","Flux","X1",186,194,{"$f":"+I229","v":202}]
["SSC","High",5050,70,"SAW0L60A","Cool","Flux","X2",202,209.5,217]
["SSC","High",5050,70,"SAW0L60A","Neutral","Flux","W2",171,178.5,{"$f":"+I231","v":186}]
["SSC","High",5050,70,"SAW0L60A","Neutral","Flux","X1",186,194,{"$f":"+I232","v":202}]
["SSC","High",5050,70,"SAW0L60A","Neutral","Flux","X2",202,209.5,217]
["SSC","High",5050,70,"SAW0L60A","Warm","Flux","W2",171,178.5,{"$f":"+I234","v":186}]
["SSC","High",5050,70,"SAW0L60A","Warm","Flux","X1",186,194,{"$f":"+I235","v":202}]
["SSC","High",5050,70,"SAW0L60A","Warm","Flux","X2",202,209.5,217]
["SSC","High",5050,70,"SAW0L60A",null,"VF","Z",15,15.5,{"$f":"+I237","v":16}]
["SSC","High",5050,70,"SAW0L60A",null,"VF","A",16,16.5,17]
["SSC","High",5050,70,"SAW0L60A",null,"VF","B",17,17.5,18]
["SSC","Mid",3030,80,"STW8C2PB-E1","Cool","Flux","T5",32.6,33.35,34.1]
["SSC","Mid",3030,80,"STW8C2PB-E1","Cool","Flux","U0",34.1,34.55,35]
["SSC","Mid",3030,80,"STW8C2PB-E1","Cool","Flux","U3",35,35.65,36.3]
["SSC","Mid",3030,80,"STW8C2PB-E1","Neutral","Flux","T5",32,32.8,33.6]
["SSC","Mid",3030,80,"STW8C2PB-E1","Neutral","Flux","U0",33.6,34.05,34.5]
["SSC","Mid",3030,80,"STW8C2PB-E1","Neutral","Flux","U3",34.5,35.1,35.7]
["SSC","Mid",3030,80,"STW8C2PB-E1","Warm","Flux","T5",31.5,32.25,33]
["SSC","Mid",3030,80,"STW8C2PB-E1","Warm","Flux","U0",33,33.45,33.9]
["SSC","Mid",3030,80,"STW8C2PB-E1",null,"VF","Y1",2.7,2.75,2.8]
["SSC","Mid",3030,80,"STW8C2PB-E2","Cool","Flux","U3",33.9,34.5,35.1]
["SSC","Mid",3030,80,"STW8C2PB-E2","Cool","Flux","U7",35.1,36.3,37.5]
["SSC","Mid",3030,80,"STW8C2PB-E2","Cool","Flux","V5",37.5,38.25,39]
["SSC","Mid",3030,80,"STW8C2PB-E2","Neutral","Flux","U7",35.1,{"$f":"+(K251-I251)/2+I251","v":36.3},37.5]
["SSC","Mid",3030,80,"STW8C2PB-E2","Neutral","Flux","V5",37.5,38.25,39]
["SSC","Mid",3030,80,"STW8C2PB-E2","Warm","Flux","U0",33,33.45,33.9]
["SSC","Mid",3030,80,"STW8C2PB-E2","Warm","Flux","U3",33.9,34.5,35.1]
["SSC","Mid",3030,80,"STW8C2PB-E2","Warm","Flux","U7",35.1,36.3,37.5]
["SSC","Mid",3030,80,"STW8C2PB-E2",null,"VF","Y1",2.7,2.75,2.8]
["SSC","Mid",3030,70,"STW7C2SB","Cool","Flux","K27",83.7,86.05000000000001,88.4]
["SSC","Mid",3030,70,"STW7C2SB","Cool","Flux","K28",88.4,90.7,93]
["SSC","Mid",3030,70,"STW7C2SB","Cool","Flux","L30",93,96.1,99.2]
["SSC","Mid",3030,70,"STW7C2SB",null,"VF","Z58",5.8,{"$f":"+(K260-I260)/2+I260","v":5.9},6]
["SSC","Mid",3030,70,"STW7C2SB",null,"VF","Z60",6,6.1,6.2]
["SSC","Mid",3030,70,"STW7C2SB",null,"VF","Z62",6.2,6.300000000000001,6.4]
["SSC","Mid",3030,80,"STW8C2SB","Cool","Flux","K28",88.4,90.7,93]
["SSC","Mid",3030,80,"STW8C2SB","Cool","Flux","L30",93,96.1,99.2]
["SSC","Mid",3030,80,"STW8C2SB","Neutral","Flux","K28",86.9,89.2,91.5]
["SSC","Mid",3030,80,"STW8C2SB","Neutral","Flux","L30",91.5,94.55,97.6]
["SSC","Mid",3030,80,"STW8C2SB","Warm","Flux","K27",81,83.25,85.5]
["SSC","Mid",3030,80,"STW8C2SB","Warm","Flux","K28",85.5,87.75,90]
["SSC","Mid",3030,80,"STW8C2SB","Warm","Flux","L30",90,93,96]
["SSC","Mid",3030,80,"STW8C2SB",null,"VF","Z58",5.8,5.9,6]
["SSC","Mid",3030,80,"STW8C2SB",null,"VF","Z60",6,6.1,6.2]
["SSC","Mid",3030,80,"STW8C2SB",null,"VF","Z62",6.2,6.300000000000001,6.4]
["SSC","Mid",3030,90,"STW9C2SB","Cool","Flux","K21",66.7,69,71.3]
["SSC","Mid",3030,90,"STW9C2SB","Cool","Flux","K23",71.3,72.85,74.4]
["SSC","Mid",3030,90,"STW9C2SB","Cool","Flux","K24",74.4,77.5,80.6]
["SSC","Mid",3030,90,"STW9C2SB","Neutral","Flux","K23",70.2,71.45,72.7]
["SSC","Mid",3030,90,"STW9C2SB","Neutral","Flux","K24",72.7,75.75,78.8]
["SSC","Mid",3030,90,"STW9C2SB","Warm","Flux","K21",63,66,69]
["SSC","Mid",3030,90,"STW9C2SB","Warm","Flux","K23",69,70.5,72]
["SSC","Mid",3030,90,"STW9C2SB","Warm","Flux","K24",72,75,78]
["SSC","Mid",3030,90,"STW9C2SB",null,"VF","Z58",5.8,5.9,6]
["SSC","Mid",3030,90,"STW9C2SB",null,"VF","Z60",6,6.1,6.2]
["SSC","Mid",3030,90,"STW9C2SB",null,"VF","Z62",6.2,6.300000000000001,6.4]
["SSC","Mid",3030,70,"SAW7C22B-IZ","Cool","Flux","M42",130,136.5,143]
["SSC","Mid",3030,70,"SAW7C22B-IZ","Cool","Flux","M46",143,149,155]
["SSC","Mid",3030,70,"SAW7C22B-IZ","Cool","Flux","M50",155,161,167]
["SSC","Mid",3030,70,"SAW7C22B-IZ","Neutral","Flux","M46",142,148,154]
["SSC","Mid",3030,70,"SAW7C22B-IZ","Neutral","Flux","M50",154,160,166]
["SSC","Mid",3030,70,"SAW7C22B-IZ","Warm","Flux","M42",128,{"$f":"+(K289-I289)/2+I289","v":134},140]
["SSC","Mid",3030,70,"SAW7C22B-IZ","Warm","Flux","M46",140,146.5,153]
["SSC","Mid",3030,70,"SAW7C22B-IZ","Warm","Flux","M50",153,159,165]
["SSC","Mid",3030,70,"SAW7C22B-IZ",null,"VF","Z58",5.8,5.9,6]
["SSC","Mid",3030,70,"SAW7C22B-IZ",null,"VF","Z60",6,6.1,6.2]
["SSC","Mid",3030,70,"SAW7C22B-IZ",null,"VF","Z62",6.2,6.300000000000001,6.4]
["SSC","Mid",3030,80,"SAW8C22B-IZ","Cool","Flux","M42",130,133,136]
["SSC","Mid",3030,80,"SAW8C22B-IZ","Cool","Flux","M44",136,138,140]
["SSC","Mid",3030,80,"SAW8C22B-IZ","Cool","Flux","M45",140,141.5,143]
["SSC","Mid",3030,80,"SAW8C22B-IZ","Cool","Flux","M46",143,{"$f":"+(K298-I298)/2+I298","v":149},155]
["SSC","Mid",3030,80,"SAW8C22B-IZ","Neutral","Flux","M44",136,137.5,139]
["SSC","Mid",3030,80,"SAW8C22B-IZ","Neutral","Flux","M45",139,140.5,142]
["SSC","Mid",3030,80,"SAW8C22B-IZ","Neutral","Flux","M46",142,{"$f":"+(K301-I301)/2+I301","v":148},154]
["SSC","Mid",3030,80,"SAW8C22B-IZ","Warm","Flux","M42",128,131,134]
["SSC","Mid",3030,80,"SAW8C22B-IZ","Warm","Flux","M44",134,135.5,137]
["SSC","Mid",3030,80,"SAW8C22B-IZ","Warm","Flux","M45",137,138.5,140]
["SSC","Mid",3030,80,"SAW8C22B-IZ",null,"VF","Z58",5.8,5.9,6]
["SSC","Mid",3030,80,"SAW8C22B-IZ",null,"VF","Z60",6,6.1,6.2]
["SSC","Mid",3030,80,"SAW8C22B-IZ",null,"VF","Z62",6.2,6.300000000000001,6.4]
["SSC","Mid",3030,80,"SAW8C22B-NZ","Cool","Flux","M42",130,{"$f":"+(K308-I308)/2+I308","v":133},136]
["SSC","Mid",3030,80,"SAW8C22B-NZ","Cool","Flux","M44",136,139.5,143]
["SSC","Mid",3030,80,"SAW8C22B-NZ","Cool","Flux","M46",143,149,155]
["SSC","Mid",3030,80,"SAW8C22B-NZ","Neutral","Flux","M44",136,{"$f":"+(K311-I311)/2+I311","v":139},142]
["SSC","Mid",3030,80,"SAW8C22B-NZ","Neutral","Flux","M46",142,148,154]
["SSC","Mid",3030,80,"SAW8C22B-NZ","Warm","Flux","M40",122,125,128]
["SSC","Mid",3030,80,"SAW8C22B-NZ","Warm","Flux","M42",128,131,134]
["SSC","Mid",3030,80,"SAW8C22B-NZ","Warm","Flux","M44",134,137,140]
["SSC","Mid",3030,80,"SAW8C22B-NZ",null,"VF","Z58",5.8,5.9,6]
["SSC","Mid",3030,80,"SAW8C22B-NZ",null,"VF","Z60",6,6.1,6.2]
["SSC","Mid",3030,80,"SAW8C22B-NZ",null,"VF","Z62",6.2,6.300000000000001,6.4]
["SSC","Mid",3030,90,"SAW9C22B-NZ","Cool","Flux","L34",105,108.5,{"$f":"+I320","v":112}]
["SSC","Mid",3030,90,"SAW9C22B-NZ","Cool","Flux","L36",112,115,{"$f":"+I321","v":118}]
["SSC","Mid",3030,90,"SAW9C22B-NZ","Cool","Flux","L38",118,121,124]
["SSC","Mid",3030,90,"SAW9C22B-NZ","Neutral","Flux","L36",111,114,117]
["SSC","Mid",3030,90,"SAW9C22B-NZ","Neutral","Flux","L38",117,120,123]
["SSC","Mid",3030,90,"SAW9C22B-NZ","Warm","Flux","L34",104,107,110]
["SSC","Mid",3030,90,"SAW9C22B-NZ","Warm","Flux","L36",110,113,116]
["SSC","Mid",3030,90,"SAW9C22B-NZ",null,"VF","Z60",6,6.1,6.2]
["SSC","Mid",3030,90,"SAW9C22B-NZ",null,"VF","Z62",6.2,6.300000000000001,6.4]
["SSC","Mid",3030,80,"STW8C12C-E0","Cool","Flux","U7",35.1,36.3,37.5]
["SSC","Mid",3030,80,"STW8C12C-E0","Cool","Flux","V5",37.5,38.25,39]
["SSC","Mid",3030,80,"STW8C12C-E0","Neutral","Flux","V5",37.5,38.25,39]
["SSC","Mid",3030,80,"STW8C12C-E0","Neutral","Flux","W0",39,39.75,40.5]
["SSC","Mid",3030,80,"STW8C12C-E0","Warm","Flux","U3",33.9,34.5,35.1]
["SSC","Mid",3030,80,"STW8C12C-E0","Warm","Flux","U7",35.1,36.3,37.5]
["SSC","Mid",3030,80,"STW8C12C-E0","Warm","Flux","V5",37.5,38.25,39]
["SSC","Mid",3030,80,"STW8C12C-E0",null,"VF","Y0",2.6,2.6500000000000004,2.7]
["SSC","Mid",3030,80,"STW8C12C-E0",null,"VF","Y1",2.7,2.75,2.8]
["SSC","Mid",3030,80,"STW8C12C-E0",null,"VF","Y2",2.8,2.8499999999999996,2.9]
["SSC","Mid",3528,80,"SAW8A32E-E1","Cool","Flux","L38",119.4,121.7,{"$f":"+I339","v":124}]
["SSC","Mid",3528,80,"SAW8A32E-E1","Cool","Flux","M40",124,127.1,{"$f":"+I340","v":130.2}]
["SSC","Mid",3528,80,"SAW8A32E-E1","Cool","Flux","M42",130.2,133.3,136.4]
["SSC","Mid",3528,80,"SAW8A32E-E1","Neutral","Flux","M40",122,125.05,128.1]
["SSC","Mid",3528,80,"SAW8A32E-E1","Neutral","Flux","M42",128.1,131.14999999999998,134.2]
["SSC","Mid",3528,80,"SAW8A32E-E1","Warm","Flux","L38",115.5,117.75,120]
["SSC","Mid",3528,80,"SAW8A32E-E1","Warm","Flux","M40",120,123,126]
["SSC","Mid",3528,80,"SAW8A32E-E1","Warm","Flux","M42",126,129,132]
["SSC","Mid",3528,80,"SAW8A32E-E1",null,"VF","Z88",8.8,8.95,9.1]
["SSC","Mid",3528,80,"SAW8A32E-E1",null,"VF","Z91",9.1,9.25,9.4]
["SSC","Mid",3528,80,"SAW8A32E-E1",null,"VF","Z94",9.4,9.55,9.7]
["SSC","Mid",3528,90,"SAW9A32E-E1","Cool","Flux","L32",99.2,102.30000000000001,{"$f":"+I350","v":105.4}]
["SSC","Mid",3528,90,"SAW9A32E-E1","Cool","Flux","L34",105.4,108.5,{"$f":"+I351","v":111.6}]
["SSC","Mid",3528,90,"SAW9A32E-E1","Cool","Flux","L36",111.6,114.69999999999999,117.8]
["SSC","Mid",3528,90,"SAW9A32E-E1","Neutral","Flux","L34",103.7,106.75,{"$f":"+I353","v":109.8}]
["SSC","Mid",3528,90,"SAW9A32E-E1","Neutral","Flux","L36",109.8,112.85,115.9]
["SSC","Mid",3528,90,"SAW9A32E-E1","Warm","Flux","L32",96,99,102]
["SSC","Mid",3528,90,"SAW9A32E-E1","Warm","Flux","L34",102,105,108]
["SSC","Mid",3528,90,"SAW9A32E-E1",null,"VF","Z88",8.8,8.95,9.1]
["SSC","Mid",3528,90,"SAW9A32E-E1",null,"VF","Z91",9.1,9.25,9.4]
["SSC","Mid",3528,90,"SAW9A32E-E1",null,"VF","Z94",9.4,9.55,9.7]
["SSC","Mid",3528,80,"SAW8A42E-E1","Cool","Flux","L38",119.4,121.7,{"$f":"+I360","v":124}]
["SSC","Mid",3528,80,"SAW8A42E-E1","Cool","Flux","M40",124,127.1,{"$f":"+I361","v":130.2}]
["SSC","Mid",3528,80,"SAW8A42E-E1","Cool","Flux","M42",130.2,133.3,136.4]
["SSC","Mid",3528,80,"SAW8A42E-E1","Neutral","Flux","M40",122,125.05,128.1]
["SSC","Mid",3528,80,"SAW8A42E-E1","Neutral","Flux","M42",128.1,131.14999999999998,134.2]
["SSC","Mid",3528,80,"SAW8A42E-E1","Warm","Flux","L38",115.5,117.75,120]
["SSC","Mid",3528,80,"SAW8A42E-E1","Warm","Flux","M40",120,123,126]
["SSC","Mid",3528,80,"SAW8A42E-E1","Warm","Flux","M42",126,129,132]
["SSC","Mid",3528,80,"SAW8A42E-E1",null,"VF","Z118",11.8,12,12.2]
["SSC","Mid",3528,80,"SAW8A42E-E1",null,"VF","Z122",12.2,12.399999999999999,12.6]
["SSC","Mid",3528,80,"SAW8A42E-E1",null,"VF","Z126",12.6,12.8,13]
["SSC","Mid",3528,80,"SAW8A62E-E1","Cool","Flux","M40",124,127.1,{"$f":"+I371","v":130.2}]
["SSC","Mid",3528,80,"SAW8A62E-E1","Cool","Flux","M42",130.2,133.3,{"$f":"+I372","v":136.4}]
["SSC","Mid",3528,80,"SAW8A62E-E1","Cool","Flux","M44",136.4,139.5,142.6]
["SSC","Mid",3528,80,"SAW8A62E-E1","Neutral","Flux","M42",128.1,131.14999999999998,{"$f":"+I374","v":134.2}]
["SSC","Mid",3528,80,"SAW8A62E-E1","Neutral","Flux","M44",134.2,137.25,140.3]
["SSC","Mid",3528,80,"SAW8A62E-E1","Warm","Flux","L38",115.5,117.75,{"$f":"+I376","v":120}]
["SSC","Mid",3528,80,"SAW8A62E-E1","Warm","Flux","M40",120,123,{"$f":"+I377","v":126}]
["SSC","Mid",3528,80,"SAW8A62E-E1","Warm","Flux","M42",126,129,{"$f":"+I378","v":132}]
["SSC","Mid",3528,80,"SAW8A62E-E1","Warm","Flux","M44",132,135,138]
["SSC","Mid",3528,80,"SAW8A62E-E1",null,"VF","Z180",18,18.3,{"$f":"+I380","v":18.6}]
["SSC","Mid",3528,80,"SAW8A62E-E1",null,"VF","Z186",18.6,18.9,{"$f":"+I381","v":19.2}]
["SSC","Mid",3528,80,"SAW8A62E-E1",null,"VF","Z192",19.2,19.5,19.8]
["SSC","Mid",3528,80,"SAW8A62E-E2","Cool","Flux","M44",132,135,138]
["SSC","Mid",3528,80,"SAW8A62E-E2","Cool","Flux","M46",138,141,144]
["SSC","Mid",3528,80,"SAW8A62E-E2","Cool","Flux","M48",144,147,150]
["SSC","Mid",3528,80,"SAW8A62E-E2","Neutral","Flux","M46",138,141,144]
["SSC","Mid",3528,80,"SAW8A62E-E2","Neutral","Flux","M48",144,147,150]
["SSC","Mid",3528,80,"SAW8A62E-E2","Warm","Flux","M43",129,130.5,132]
["SSC","Mid",3528,80,"SAW8A62E-E2","Warm","Flux","M44",132,135,138]
["SSC","Mid",3528,80,"SAW8A62E-E2","Warm","Flux","M46",138,141,144]
["SSC","Mid",3528,80,"SAW8A62E-E2",null,"VF","Z178",17.8,18.1,18.4]
["SSC","Mid",3528,80,"STW8A12D","Warm","Flux","J16",48,51,54]
["SSC","Mid",3528,80,"STW8A12D","Warm","Flux","J18",54,57,60]
["SSC","Mid",3528,80,"STW8A12D","Neutral","Flux","J18",54.9,{"$f":"+(K393-I393)/2+I393","v":57.95},61]
["SSC","Mid",3528,80,"STW8A12D","Neutral","Flux","K20",61,64.05,67.1]
["SSC","Mid",3528,80,"STW8A12D","Cool","Flux","J16",49.6,52.7,{"$f":"+I396","v":55.8}]
["SSC","Mid",3528,80,"STW8A12D","Cool","Flux","J18",55.8,58.9,{"$f":"+I397","v":62}]
["SSC","Mid",3528,80,"STW8A12D","Cool","Flux","K20",62,65.1,68.2]
["SSC","Mid",3528,80,"STW8A12D",null,"VF","Y3",2.9,2.95,3]
["SSC","Mid",3528,80,"STW8A12D",null,"VF","Z1",3,3.05,3.1]
["SSC","Mid",3528,80,"STW8A12D",null,"VF","Z2",3.1,3.1500000000000004,3.2]
["SSC","Mid",3528,80,"STW8A12D",null,"VF","Z3",3.2,3.25,3.3]
["SSC","Mid",3528,80,"STW8A12D-E1","Warm","Flux","S0",27,27.75,28.5]
["SSC","Mid",3528,80,"STW8A12D-E1","Warm","Flux","S5",28.5,29.25,30]
["SSC","Mid",3528,80,"STW8A12D-E1","Warm","Flux","T0",30,30.45,30.9]
["SSC","Mid",3528,80,"STW8A12D-E1","Warm","Flux","T3",30.9,31.95,33]
["SSC","Mid",3528,80,"STW8A12D-E1","Neutral","Flux","T0",30.5,30.9575,31.415]
["SSC","Mid",3528,80,"STW8A12D-E1","Neutral","Flux","T3",31.415,32.4825,33.55]
["SSC","Mid",3528,80,"STW8A12D-E1","Cool","Flux","S5",29.45,30.225,31]
["SSC","Mid",3528,80,"STW8A12D-E1","Cool","Flux","T0",31,31.465000000000003,31.930000000000003]
["SSC","Mid",3528,80,"STW8A12D-E1","Cool","Flux","T3",31.930000000000003,33.015,34.1]
["SSC","Mid",3528,80,"STW8A12D-E1",null,"VF","Y2",2.8,2.8499999999999996,2.9]
["SSC","Mid",3528,80,"STW8A12D-E1",null,"VF","Y3",2.9,2.95,3]
["SSC","Mid",3528,80,"STW8A12D-E1",null,"VF","Z1",3,3.05,3.1]
["SSC","Mid",3528,80,"STW8A12D-E1",null,"VF","Z2",3.1,3.1500000000000004,3.2]
["SSC","Mid",3528,90,"STW9A12D-E1","Warm","Flux","R0",24,24.75,{"$f":"+I416","v":25.5}]
["SSC","Mid",3528,90,"STW9A12D-E1","Warm","Flux","R5",25.5,26.25,{"$f":"+I417","v":27}]
["SSC","Mid",3528,90,"STW9A12D-E1","Warm","Flux","S0",27,27.75,28.5]
["SSC","Mid",3528,90,"STW9A12D-E1","Neutral","Flux","R5",25.9,26.7,{"$f":"+I419","v":27.5}]
["SSC","Mid",3528,90,"STW9A12D-E1","Neutral","Flux","S0",27.5,28.25,{"$f":"+I420","v":29}]
["SSC","Mid",3528,90,"STW9A12D-E1","Neutral","Flux","S5",29,29.75,30.5]
["SSC","Mid",3528,90,"STW9A12D-E1","Cool","Flux","R0",24.8,25.6,{"$f":"+I422","v":26.4}]
["SSC","Mid",3528,90,"STW9A12D-E1","Cool","Flux","R5",26.4,27.15,{"$f":"+I423","v":27.9}]
["SSC","Mid",3528,90,"STW9A12D-E1","Cool","Flux","S0",27.9,28.7,{"$f":"+I424","v":29.5}]
["SSC","Mid",3528,90,"STW9A12D-E1","Cool","Flux","S5",29.5,30.25,31]
["SSC","Mid",3528,90,"STW9A12D-E1",null,"VF","Y2",2.8,2.8499999999999996,2.9]
["SSC","Mid",3528,90,"STW9A12D-E1",null,"VF","Y3",2.9,2.95,3]
["SSC","Mid",3528,90,"STW9A12D-E1",null,"VF","Z1",3,3.05,3.1]
["SSC","Mid",3528,90,"STW9A2PD",null,"VF","Y1",2.7,2.75,2.8]
["SSC","Mid",3528,90,"STW9A2PD",null,"VF","Y2",2.8,2.8499999999999996,2.9]
["SSC","Mid",3528,90,"STW9A2PD",null,"VF","Y3",2.9,2.95,3]
["SSC","Mid",3528,90,"STW9A2PD","Warm","Flux","R0",24,24.75,25.5]
["SSC","Mid",3528,90,"STW9A2PD","Warm","Flux","R5",25.5,26.25,27]
["SSC","Mid",3528,90,"STW9A2PD","Warm","Flux","S0",27,27.75,28.5]
["SSC","Mid",3528,90,"STW9A2PD","Neutral","Flux","R5",25.9,26.7,27.5]
["SSC","Mid",3528,90,"STW9A2PD","Neutral","Flux","S0",27.5,28.25,29]
["SSC","Mid",3528,90,"STW9A2PD","Neutral","Flux","S5",29,29.75,30.5]
["SSC","Mid",3528,90,"STW9A2PD","Cool","Flux","R0",24.8,25.6,26.4]
["SSC","Mid",3528,90,"STW9A2PD","Cool","Flux","R5",26.4,27.15,27.9]
["SSC","Mid",3528,90,"STW9A2PD","Cool","Flux","S0",27.9,28.7,29.5]
["SSC","Mid",3528,90,"STW9A2PD","Cool","Flux","S5",29.5,30.25,31]
["SSC","Mid",3528,90,"STW9A2PD-E1",null,"VF","Y1",2.7,2.75,2.8]
["SSC","Mid",3528,90,"STW9A2PD-E1",null,"VF","Y2",2.8,2.8499999999999996,2.9]
["SSC","Mid",3528,90,"STW9A2PD-E1","Warm","Flux","R5",25.5,26.25,27]
["SSC","Mid",3528,90,"STW9A2PD-E1","Warm","Flux","S0",27,27.75,28.5]
["SSC","Mid",3528,90,"STW9A2PD-E1","Warm","Flux","S5",28.5,29.25,30]
["SSC","Mid",3528,90,"STW9A2PD-E1","Warm","Flux","T0",30,null,30.9]
["SSC","Mid",3528,90,"STW9A2PD-E1","Neutral","Flux","S5",28.5,{"$f":"+(K447-I447)/2+I447","v":29.25},30]
["SSC","Mid",3528,90,"STW9A2PD-E1","Neutral","Flux","T0",30,30.45,30.9]
["SSC","Mid",3528,90,"STW9A2PD-E1","Neutral","Flux","T3",30.9,31.95,33]
["SSC","Mid",3528,90,"STW9A2PD-E1","Cool","Flux","S5",28.5,29.25,30]
["SSC","Mid",3528,90,"STW9A2PD-E1","Cool","Flux","T0",30,30.45,30.9]
["SSC","Mid",3528,90,"STW9A2PD-E1","Cool","Flux","T3",30.9,31.95,33]
["SSC","Mid",3528,80,"STW8A12D-E2","Warm","Flux","S5",28.5,29.25,30]
["SSC","Mid",3528,80,"STW8A12D-E2","Warm","Flux","T0",30,30.45,30.9]
["SSC","Mid",3528,80,"STW8A12D-E2","Warm","Flux","T3",30.9,31.2,31.5]
["SSC","Mid",3528,80,"STW8A12D-E2","Warm","Flux","T5",31.5,32.25,33]
["SSC","Mid",3528,80,"STW8A12D-E2","Neutral","Flux","T0",30.5,30.9575,31.415]
["SSC","Mid",3528,80,"STW8A12D-E2","Neutral","Flux","T3",31.415,31.72,32.025]
["SSC","Mid",3528,80,"STW8A12D-E2","Neutral","Flux","T5",32.025,32.787499999999994,33.55]
["SSC","Mid",3528,80,"STW8A12D-E2","Neutral","Flux","U0",33.55,34.61749999999999,35.684999999999995]
["SSC","Mid",3528,80,"STW8A12D-E2","Cool","Flux","S5",29.45,30.225,31]
["SSC","Mid",3528,80,"STW8A12D-E2","Cool","Flux","T0",31,31.465000000000003,31.930000000000003]
["SSC","Mid",3528,80,"STW8A12D-E2","Cool","Flux","T3",31.930000000000003,33.015,34.1]
["SSC","Mid",3528,80,"STW8A12D-E2","Cool","Flux","U0",34.1,35.185,36.269999999999996]
["SSC","Mid",3528,80,"STW8A12D-E2",null,"VF","Y2",2.8,2.8499999999999996,2.9]
["SSC","Mid",3528,80,"STW8A12D-E2",null,"VF","Y3",2.9,2.95,3]
["SSC","Mid",3528,80,"STW8A12D-E3","Warm","Flux","T5",31.5,32.25,33]
["SSC","Mid",3528,80,"STW8A12D-E3","Warm","Flux","U0",33,33.45,33.9]
["SSC","Mid",3528,80,"STW8A12D-E3","Warm","Flux","U3",33.9,34.5,35.1]
["SSC","Mid",3528,80,"STW8A12D-E3","Neutral","Flux","U0",33.6,34.05,{"$f":"+I471","v":34.5}]
["SSC","Mid",3528,80,"STW8A12D-E3","Neutral","Flux","U3",34.5,35.1,{"$f":"+I472","v":35.7}]
["SSC","Mid",3528,80,"STW8A12D-E3","Neutral","Flux","U7",35.7,36.900000000000006,38.1]
["SSC","Mid",3528,80,"STW8A12D-E3","Cool","Flux","T5",32.6,33.35,{"$f":"+I474","v":34.1}]
["SSC","Mid",3528,80,"STW8A12D-E3","Cool","Flux","U0",34.1,34.55,{"$f":"+I475","v":35}]
["SSC","Mid",3528,80,"STW8A12D-E3","Cool","Flux","U3",35,35.65,{"$f":"+I476","v":36.3}]
["SSC","Mid",3528,80,"STW8A12D-E3","Cool","Flux","U7",36.3,37.55,38.8]
["SSC","Mid",3528,80,"STW8A12D-E3",null,"VF","Y1",2.7,2.75,{"$f":"+I478","v":2.8}]
["SSC","Mid",3528,80,"STW8A12D-E3",null,"VF","Y2",2.8,2.8499999999999996,{"$f":"+I479","v":2.9}]
["SSC","Mid",3528,80,"STW8A12D-E3",null,"VF","Y3",2.9,2.95,3]
["SSC","Mid",3528,80,"STW8A2PD","Warm","Flux","S5",28.5,29.25,30]
["SSC","Mid",3528,80,"STW8A2PD","Warm","Flux","T0",30,30.75,31.5]
["SSC","Mid",3528,80,"STW8A2PD","Warm","Flux","T5",31.5,{"$f":"+(K482-I482)/2+I482","v":32.25},33]
["SSC","Mid",3528,80,"STW8A2PD","Neutral","Flux","T0",30.5,31.25,32]
["SSC","Mid",3528,80,"STW8A2PD","Neutral","Flux","T5",32,32.8,33.6]
["SSC","Mid",3528,80,"STW8A2PD","Neutral","Flux","U0",33.55,34.61749999999999,35.684999999999995]
["SSC","Mid",3528,80,"STW8A2PD","Cool","Flux","T0",31,31.8,32.6]
["SSC","Mid",3528,80,"STW8A2PD","Cool","Flux","T5",32.6,33.35,34.1]
["SSC","Mid",3528,80,"STW8A2PD","Cool","Flux","U0",34.1,34.1,34.1]
["SSC","Mid",3528,80,"STW8A2PD",null,"VF","Y1",2.7,2.75,2.8]
["SSC","Mid",3528,80,"STW8A2PD",null,"VF","Y2",2.8,2.8499999999999996,2.9]
["SSC","Mid",3528,80,"STW8A2SD","Warm","Flux","K26",78,79.5,81]
["SSC","Mid",3528,80,"STW8A2SD","Warm","Flux","K27",81,82.5,84]
["SSC","Mid",3528,80,"STW8A2SD","Warm","Flux","K28",84,87,90]
["SSC","Mid",3528,80,"STW8A2SD","Warm","Flux","L30",90,93,96]
["SSC","Mid",3528,80,"STW8A2SD","Neutral","Flux","K28",85.4,88.45,91.5]
["SSC","Mid",3528,80,"STW8A2SD","Neutral","Flux","L30",91.5,94.55,97.6]
["SSC","Mid",3528,80,"STW8A2SD","Neutral","Flux","L32",97.6,100.65,103.7]
["SSC","Mid",3528,80,"STW8A2SD","Cool","Flux","K28",86.8,89.9,93]
["SSC","Mid",3528,80,"STW8A2SD","Cool","Flux","L30",93,96.1,99.2]
["SSC","Mid",3528,80,"STW8A2SD","Cool","Flux","L32",99.2,102.30000000000001,105.4]
["SSC","Mid",3528,80,"STW8A2SD",null,"VF","Z58",5.8,5.9,6]
["SSC","Mid",3528,80,"STW8A2SD",null,"VF","Z60",6,6.1,6.2]
["SSC","Mid",3528,80,"STW8A2SD",null,"VF","Z62",6.2,6.300000000000001,6.4]
["SSC","Mid",5630,80,"STW8Q14D","Cool","Flux","T0",31.6,32.5,33.4]
["SSC","Mid",5630,80,"STW8Q14D","Cool","Flux","T5",33.4,34.2,35]
["SSC","Mid",5630,80,"STW8Q14D","Cool","Flux","U0",35,35.45,35.9]
["SSC","Mid",5630,80,"STW8Q14D","Neutral","Flux","T5",33.1,33.900000000000006,34.7]
["SSC","Mid",5630,80,"STW8Q14D","Neutral","Flux","U0",34.7,35.150000000000006,35.6]
["SSC","Mid",5630,80,"STW8Q14D","Warm","Flux","S5",29.6,30.4,31.2]
["SSC","Mid",5630,80,"STW8Q14D","Warm","Flux","T0",31.2,32,32.8]
["SSC","Mid",5630,80,"STW8Q14D","Warm","Flux","T5",32.8,33.55,34.3]
["SSC","Mid",5630,80,"STW8Q14D",null,"VF","Y1",2.7,2.75,2.8]
["SSC","Mid",5630,80,"STW8Q14D",null,"VF","Y2",2.8,2.8499999999999996,2.9]
["SSC","Mid",5630,80,"STW8Q14D-E3","Cool","Flux","T5",33.4,34.2,35]
["SSC","Mid",5630,80,"STW8Q14D-E3","Cool","Flux","U0",35,35.45,35.9]
["SSC","Mid",5630,80,"STW8Q14D-E3","Cool","Flux","U3",35.9,36.55,37.2]
["SSC","Mid",5630,80,"STW8Q14D-E3","Cool","Flux","U7",37.2,38.5,39.8]
["SSC","Mid",5630,80,"STW8Q14D-E3","Neutral","Flux","U0",34.7,35.150000000000006,35.6]
["SSC","Mid",5630,80,"STW8Q14D-E3","Neutral","Flux","U3",35.6,36.25,36.9]
["SSC","Mid",5630,80,"STW8Q14D-E3","Neutral","Flux","U7",36.9,38.15,39.4]
["SSC","Mid",5630,80,"STW8Q14D-E3","Warm","Flux","T5",32.8,33.55,34.3]
["SSC","Mid",5630,80,"STW8Q14D-E3","Warm","Flux","U0",34.3,34.8,35.3]
["SSC","Mid",5630,80,"STW8Q14D-E3","Warm","Flux","U3",35.3,35.9,36.5]
["SSC","Mid",5630,80,"STW8Q14D-E3",null,"VF","Y1",2.7,2.75,2.8]
["SSC","Mid",5630,70,"SAW7Q24D","Cool","Flux","T5",33.5,34.25,35]
["SSC","Mid",5630,70,"SAW7Q24D","Cool","Flux","U0",35,36.15,37.3]
["SSC","Mid",5630,70,"SAW7Q24D","Cool","Flux","U7",37.3,38.55,39.8]
["SSC","Mid",5630,70,"SAW7Q24D","Neutral","Flux","U0",34.7,35.8,36.9]
["SSC","Mid",5630,70,"SAW7Q24D","Neutral","Flux","U7",36.9,38.15,39.4]
["SSC","Mid",5630,70,"SAW7Q24D","Warm","Flux","T5",32.8,33.599999999999994,34.4]
["SSC","Mid",5630,70,"SAW7Q24D","Warm","Flux","U0",34.4,35.5,36.6]
["SSC","Mid",5630,70,"SAW7Q24D",null,"VF","Z52",5.2,5.300000000000001,5.4]
["SSC","Mid",5630,70,"SAW7Q24D",null,"VF","Z54",5.4,5.5,5.6]
["SSC","Mid",5630,70,"SAW7Q24D",null,"VF","Z56",5.6,5.699999999999999,5.8]
["SSC","Mid",5630,80,"SAW8Q24D","Cool","Flux","T5",33.5,34.25,35]
["SSC","Mid",5630,80,"SAW8Q24D","Cool","Flux","U0",35,35.5,36]
["SSC","Mid",5630,80,"SAW8Q24D","Cool","Flux","U3",36,36.65,37.3]
["SSC","Mid",5630,80,"SAW8Q24D","Neutral","Flux","T5",33.1,33.900000000000006,34.7]
["SSC","Mid",5630,80,"SAW8Q24D","Neutral","Flux","U0",34.7,35.150000000000006,35.6]
["SSC","Mid",5630,80,"SAW8Q24D","Neutral","Flux","U3",35.6,36.25,36.9]
["SSC","Mid",5630,80,"SAW8Q24D","Warm","Flux","T0",31.2,32,32.8]
["SSC","Mid",5630,80,"SAW8Q24D","Warm","Flux","T5",32.8,33.599999999999994,34.4]
["SSC","Mid",5630,80,"SAW8Q24D","Warm","Flux","U0",34.4,34.849999999999994,35.3]
["SSC","Mid",5630,80,"SAW8Q24D",null,"VF","Z52",5.2,{"$f":"+(K544-I544)/2+I544","v":5.300000000000001},5.4]
["SSC","Mid",5630,80,"SAW8Q24D",null,"VF","Z54",5.4,5.5,5.6]
["SSC","Mid",5630,80,"SAW8Q24D",null,"VF","Z56",5.6,5.699999999999999,5.8]
["SSC","Mid",3030,80,"STW8C1SB","Cool","Flux","T0",31,31.8,32.6]
["SSC","Mid",3030,80,"STW8C1SB","Cool","Flux","T5",32.6,33.35,34.1]
["SSC","Mid",3030,80,"STW8C1SB","Cool","Flux","U0",34.1,35.2,36.3]
["SSC","Mid",3030,80,"STW8C1SB","Neutral","Flux","T0",30.5,31.25,32]
["SSC","Mid",3030,80,"STW8C1SB","Neutral","Flux","T5",32,32.8,33.6]
["SSC","Mid",3030,80,"STW8C1SB","Neutral","Flux","U0",33.6,34.05,34.5]
["SSC","Mid",3030,80,"STW8C1SB","Warm","Flux","T0",30,30.75,31.5]
["SSC","Mid",3030,80,"STW8C1SB","Warm","Flux","T5",31.5,32.25,33]
["SSC","Mid",3030,80,"STW8C1SB",null,"VF","Y1",2.7,2.75,2.8]
["SSC","Mid",3030,80,"STW8C1SB",null,"VF","Y2",2.8,2.8499999999999996,2.9]
["SSC","Mid",5630,90,"STW9Q14D-E3","Cool","Flux","R5",27,27.8,28.6]
["SSC","Mid",5630,90,"STW9Q14D-E3","Cool","Flux","S0",28.6,29.4,30.2]
["SSC","Mid",5630,90,"STW9Q14D-E3","Cool","Flux","S5",30.2,31,31.8]
["SSC","Mid",5630,90,"STW9Q14D-E3","Cool","Flux","T0",31.8,32.6,33.4]
["SSC","Mid",5630,90,"STW9Q14D-E3","Neutral","Flux","S0",28.4,29.15,29.9]
["SSC","Mid",5630,90,"STW9Q14D-E3","Neutral","Flux","S5",29.9,30.7,31.5]
["SSC","Mid",5630,90,"STW9Q14D-E3","Neutral","Flux","T0",31.5,32.3,33.1]
["SSC","Mid",5630,90,"STW9Q14D-E3","Warm","Flux","R5",26.5,27.3,28.1]
["SSC","Mid",5630,90,"STW9Q14D-E3","Warm","Flux","S0",28.1,28.85,29.6]
["SSC","Mid",5630,90,"STW9Q14D-E3","Warm","Flux","S5",29.6,30.4,31.2]
["SSC","Mid",5630,90,"STW9Q14D-E3",null,"VF","Y1",2.7,2.75,2.8]
["SSC","Mid",5630,90,"STW9Q14D","Cool","Flux","R0",24.8,25.6,26.4]
["SSC","Mid",5630,90,"STW9Q14D","Cool","Flux","R5",26.4,27.15,27.9]
["SSC","Mid",5630,90,"STW9Q14D","Cool","Flux","S0",27.9,28.7,29.5]
["SSC","Mid",5630,90,"STW9Q14D","Neutral","Flux","R0",24.4,25.15,25.9]
["SSC","Mid",5630,90,"STW9Q14D","Neutral","Flux","R5",25.9,26.7,27.5]
["SSC","Mid",5630,90,"STW9Q14D","Neutral","Flux","S0",27.5,28.25,29]
["SSC","Mid",5630,90,"STW9Q14D","Warm","Flux","Q5",22.6,23.35,24.1]
["SSC","Mid",5630,90,"STW9Q14D","Warm","Flux","R0",24.1,24.85,{"$f":"+I576","v":25.6}]
["SSC","Mid",5630,90,"STW9Q14D","Warm","Flux","R5",25.6,26.35,27.1]
["SSC","Mid",5630,90,"STW9Q14D","Warm","Flux","S0",2.7,2.75,2.8]
["SSC","Mid",5630,90,"STW9Q14D",null,"VF","Y1",2.8,2.8499999999999996,2.9]
["SSC","Mid",5630,90,"STW9Q14D",null,"VF","Y2",2.8,2.8499999999999996,2.9]
["SSC","Sunlike",3030,95,"STW9C2PB-S","Warm","Flux","P0",18.6,19.4,20.2]
["SSC","Sunlike",3030,95,"STW9C2PB-S","Warm","Flux","P5",20.2,20.95,21.7]
["SSC","Sunlike",3030,95,"STW9C2PB-S","Warm","Flux","Q0",21.7,22.5,23.3]
["SSC","Sunlike",3030,95,"STW9C2PB-S","Neutral","Flux","P0",18.9,19.7,20.5]
["SSC","Sunlike",3030,95,"STW9C2PB-S","Neutral","Flux","P5",20.5,21.3,22.1]
["SSC","Sunlike",3030,95,"STW9C2PB-S","Neutral","Flux","Q0",22.1,22.85,23.6]
["SSC","Sunlike",3030,95,"STW9C2PB-S","Cool","Flux","P0",19,19.8,20.6]
["SSC","Sunlike",3030,95,"STW9C2PB-S","Cool","Flux","P5",20.6,21.4,22.2]
["SSC","Sunlike",3030,95,"STW9C2PB-S","Cool","Flux","Q0",22.2,23,23.8]
["SSC","Sunlike",3030,95,"STW9C2PB-S",null,"VF","Y3",2.9,{"$f":"+(K589-I589)/2+I589","v":2.95},3]
["SSC","Sunlike",3030,95,"STW9C2PB-S",null,"VF","Z1",3,3.05,3.1]
["SSC","Sunlike",3030,95,"STW9C2PB-S",null,"VF","Z2",3.1,3.1500000000000004,3.2]
["SSC","Sunlike","COB",97,"SAWS0661A","Warm","Flux","A6",475,515,{"$f":"+J592-I592+J592","v":555}]
["SSC","Sunlike","COB",97,"SAWS0661A","Neutral","Flux","A6",505,550,595]
["SSC","Sunlike","COB",97,"SAWS0661A","Cool","Flux","A6",515,560,605]
["SSC","Sunlike","COB",97,"SAWS0661A",null,"VF","H",34.3,{"$f":"+(K595-I595)/2+I595","v":36.15},38]
["SSC","Sunlike","COB",97,"SAWS1063A","Warm","Flux","B0",830,900,{"$f":"+J596-I596+J596","v":970}]
["SSC","Sunlike","COB",97,"SAWS1063A","Neutral","Flux","B0",880,955,{"$f":"+J597-I597+J597","v":1030}]
["SSC","Sunlike","COB",97,"SAWS1063A","Cool","Flux","B0",890,970,1050]
["SSC","Sunlike","COB",97,"SAWS1063A",null,"VF","G",33.1,{"$f":"+(K599-I599)/2+I599","v":34.85},36.6]
["SSC","Sunlike","COB",97,"SAWS1564A","Warm","Flux","B5",1270,1380,1490]
["SSC","Sunlike","COB",97,"SAWS1564A","Neutral","Flux","B5",1350,1470,1590]
["SSC","Sunlike","COB",97,"SAWS1564A","Cool","Flux","B5",1370,1490,1610]
["SSC","Sunlike","COB",97,"SAWS1564A",null,"VF","H",33.3,{"$f":"+(K603-I603)/2+I603","v":35.15},37]
["SSC","Sunlike","COB",97,"SAWS1566A","Warm","Flux","C5",2050,2230,2410]
["SSC","Sunlike","COB",97,"SAWS1566A","Neutral","Flux","C5",2180,2370,2560]
["SSC","Sunlike","COB",97,"SAWS1566A","Cool","Flux","C5",2210,2400,2590]
["SSC","Sunlike","COB",97,"SAWS1566A",null,"VF","H",33.3,{"$f":"+(K607-I607)/2+I607","v":35.15},37]
["SSC","High",5050,70,"STW0L6PA","Cool","Flux","W1",670,695,720]
["SSC","High",5050,70,"STW0L6PA","Cool","Flux","W2",720,745,770]
["SSC","High",5050,70,"STW0L6PA","Neutral","Flux","W1",670,{"$f":"+(K610-I610)/2+I610","v":695},720]
["SSC","High",5050,70,"STW0L6PA","Neutral","Flux","W2",720,745,770]
["SSC","High",5050,70,"STW0L6PA","Neutral","Flux","W3",770,795,820]
["SSC","High",5050,70,"STW0L6PA","Warm","Flux","W1",670,{"$f":"+(K613-I613)/2+I613","v":695},720]
["SSC","High",5050,70,"STW0L6PA","Warm","Flux","W2",720,745,770]
["SSC","High",5050,70,"STW0L6PA",null,"VF","Z2",6.2,6.300000000000001,6.4]
["SSC","High",5050,70,"STW0L6PA",null,"VF","Z4",6.4,6.5,6.6]
["SSC","High",5050,70,"STW0L6PA",null,"VF","Z6",6.6,6.699999999999999,6.8]
["SSC","High",5050,70,"STW0L8PA","Cool","Flux","W2",600,{"$f":"+(K618-I618)/2+I618","v":625},650]
["SSC","High",5050,70,"STW0L8PA","Cool","Flux","W3",650,675,700]
["SSC","High",5050,70,"STW0L8PA","Cool","Flux","W4",700,725,750]
["SSC","High",5050,70,"STW0L8PA","Neutral","Flux","W3",650,675,700]
["SSC","High",5050,70,"STW0L8PA","Neutral","Flux","W4",700,725,750]
["SSC","High",5050,70,"STW0L8PA","Warm","Flux","W1",550,{"$f":"+(K623-I623)/2+I623","v":575},600]
["SSC","High",5050,70,"STW0L8PA","Warm","Flux","W2",600,625,650]
["SSC","High",5050,70,"STW0L8PA","Warm","Flux","W3",650,675,700]
["SSC","High",5050,70,"STW0L8PA",null,"VF","Y8",5.8,5.9,6]
["SSC","High",5050,70,"STW0L8PA",null,"VF","Z0",6,6.1,6.2]
["SSC","High",5050,70,"STW0L8PA",null,"VF","Z2",6.2,6.3,6.4]
["SSC","Mid",3528,80,"STW8A12D-S1","Cool","Flux","S5",28.5,{"$f":"+(K629-I629)/2+I629","v":29.25},30]
["SSC","Mid",3528,80,"STW8A12D-S1","Cool","Flux","T0",30,30.75,31.5]
["SSC","Mid",3528,80,"STW8A12D-S1","Cool","Flux","T3",31.5,31.95,32.4]
["SSC","Mid",3528,80,"STW8A12D-S1","Neutral","Flux","T0",30,{"$f":"+(K632-I632)/2+I632","v":30.75},31.5]
["SSC","Mid",3528,80,"STW8A12D-S1","Neutral","Flux","T3",31.5,31.95,32.4]
["SSC","Mid",3528,80,"STW8A12D-S1","Warm","Flux","S0",27,27.75,28.5]
["SSC","Mid",3528,80,"STW8A12D-S1","Warm","Flux","S5",28.5,29.25,30]
["SSC","Mid",3528,80,"STW8A12D-S1","Warm","Flux","T0",30,30.75,31.5]
["SSC","Mid",3528,80,"STW8A12D-S1","Warm","Flux","T3",31.5,31.95,32.4]
["SSC","Mid",3528,80,"STW8A12D-S1",null,"VF","Y2",2.8,2.8499999999999996,2.9]
["SSC","Mid",3528,80,"STW8A12D-S1",null,"VF","Y3",2.9,2.95,3]
["SSC","Mid",3528,80,"STW8A2PD-S1","Cool","Flux","T3",30.9,31.65,32.4]
["SSC","Mid",3528,80,"STW8A2PD-S1","Cool","Flux","T8",32.4,33.15,33.9]
["SSC","Mid",3528,80,"STW8A2PD-S1","Neutral","Flux","T3",30.9,{"$f":"+(K642-I642)/2+I642","v":31.65},32.4]
["SSC","Mid",3528,80,"STW8A2PD-S1","Neutral","Flux","T8",32.4,33.15,33.9]
["SSC","Mid",3528,80,"STW8A2PD-S1","Warm","Flux","T0",30,30.45,30.9]
["SSC","Mid",3528,80,"STW8A2PD-S1","Warm","Flux","T3",30.9,31.65,32.4]
["SSC","Mid",3528,80,"STW8A2PD-S1","Warm","Flux","T8",32.4,33.15,33.9]
["SSC","Mid",3528,80,"STW8A2PD-S1",null,"VF","Y1",2.7,2.75,2.8]
["SSC","Mid",3528,80,"STW8A2PD-S1",null,"VF","Y2",2.8,2.8499999999999996,2.9]
["SSC","Mid",3528,80,"STW8A2PD-E1(H)","Cool","Flux","U3",33.9,34.5,35.1]
["SSC","Mid",3528,80,"STW8A2PD-E1(H)","Cool","Flux","U7",35.1,35.7,36.3]
["SSC","Mid",3528,80,"STW8A2PD-E1(H)","Cool","Flux","V1",36.3,36.75,37.2]
["SSC","Mid",3528,80,"STW8A2PD-E1(H)","Cool","Flux","V4",37.2,37.650000000000006,38.1]
["SSC","Mid",3528,80,"STW8A2PD-E1(H)","Neutral","Flux","U3",33.9,34.5,35.1]
["SSC","Mid",3528,80,"STW8A2PD-E1(H)","Neutral","Flux","U7",35.1,35.7,36.3]
["SSC","Mid",3528,80,"STW8A2PD-E1(H)","Neutral","Flux","V1",36.3,36.75,37.2]
["SSC","Mid",3528,80,"STW8A2PD-E1(H)","Neutral","Flux","V4",37.2,37.650000000000006,38.1]
["SSC","Mid",3528,80,"STW8A2PD-E1(H)","Warm","Flux","U0",33,36,39]
["SSC","Mid",3528,80,"STW8A2PD-E1(H)","Warm","Flux","U3",33.9,34.5,35.1]
["SSC","Mid",3528,80,"STW8A2PD-E1(H)","Warm","Flux","U7",35.1,35.7,36.3]
["SSC","Mid",3528,80,"STW8A2PD-E1(H)",null,"VF","Y1L",2.68,2.705,2.73]
["SSC","Mid",3528,80,"STW8A2PD-E1(H)",null,"VF","Y1H",2.73,2.745,2.76]
["SSC","Mid",3528,80,"STW8A2PD-E1","Cool","Flux","U0",33,34.05,35.1]
["SSC","Mid",3528,80,"STW8A2PD-E1","Cool","Flux","U3",33.9,34.5,35.1]
["SSC","Mid",3528,80,"STW8A2PD-E1","Cool","Flux","U7",35.1,36.3,37.5]
["SSC","Mid",3528,80,"STW8A2PD-E1","Neutral","Flux","U3",33.9,{"$f":"+(K665-I665)/2+I665","v":34.5},35.1]
["SSC","Mid",3528,80,"STW8A2PD-E1","Neutral","Flux","U7",35.1,36.3,37.5]
["SSC","Mid",3528,80,"STW8A2PD-E1","Warm","Flux","T5",31.5,32.25,33]
["SSC","Mid",3528,80,"STW8A2PD-E1","Warm","Flux","U0",33,34.05,35.1]
["SSC","Mid",3528,80,"STW8A2PD-E1","Warm","Flux","U7",35.1,36.3,37.5]
["SSC","Mid",3528,80,"STW8A2PD-E1",null,"VF","Y1",2.7,{"$f":"+(K670-I670)/2+I670","v":2.75},2.8]
["SSC","Mid",3528,80,"STW8A2PD-E1",null,"VF","Y2",2.8,2.8499999999999996,2.9]

{"sheet":"Parameter","index":3,"n_rows":68,"n_cols":23,"rows_kept":68,"hidden":true,"merged":[[0,0,2,0],[0,1,1,3],[0,4,2,4],[0,5,2,5],[0,6,0,13],[0,14,0,21],[0,22,2,22],[1,6,1,9],[1,10,1,13],[1,14,1,17],[1,18,1,21]]}
["Part-name","Forward Current",null,null,"Rth","Size","@Current",{"$nulls":7},"@Temperature",{"$nulls":7},"Rev. Date"]
[{"$nulls":6},"Relative Flux",{"$nulls":3},"Relative VF",{"$nulls":3},"Relative Flux",{"$nulls":3},"Relative VF"]
[null,"min","typ","max",null,null,"y0","A1","t1","R-Square","y0","A1","t1","R-Square","y0","A1","t1","R-Square","y0","A1","t1","R-Square"]
["SZ8-Y11-Wx-C7-A",50,150,700,10,"1.1 x 1.1 x 0.4",7.43843,-7.43653,1055.48875,0.99996,1.22473,-0.30553,508.16278,0.99884,-1.80137,2.95359,1587.6193,0.99563,0.932,0.12085,146.83506,0.99059,"17/07/03"]
["SZ8-Y11-Wx-C7-C",20,115,230,10,"1.1 x 1.1 x 0.4",3.46516,-3.44036,344.07745,0.99991,1.16729,-0.28589,214.76656,0.99953,0.6787,0.49869,193.12126,0.99983,0.95153,0.11566,95.5272,0.99238,"17/07/03"]
["SZ8-Y11-Wx-C8-A",50,150,700,10,"1.1 x 1.1 x 0.4",7.43843,-7.43653,1055.48875,0.99996,1.22473,-0.30553,508.16278,0.99884,-1.80137,2.95359,1587.6193,0.99563,0.932,0.12085,146.83506,0.99059,"17/07/03"]
["SZ8-Y11-Wx-C9-A",50,150,700,10,"1.1 x 1.1 x 0.4",7.43843,-7.43653,1055.48875,0.99996,1.22473,-0.30553,508.16278,0.99884,-1.80137,2.95359,1587.6193,0.99563,0.932,0.12085,146.83506,0.99059,"18/10/14"]
["SZ8-Y11-Wx-C8-C",20,115,230,10,"1.1 x 1.1 x 0.4",3.46516,-3.44036,344.07745,0.99991,1.16729,-0.28589,214.76656,0.99953,0.6787,0.49869,193.12126,0.99983,0.95153,0.11566,95.5272,0.99238,"17/07/03"]
["SZ8-Y11-Wx-C9-C",20,115,230,10,"1.1 x 1.1 x 0.4",3.46516,-3.44036,344.07745,0.99991,1.16729,-0.28589,214.76656,0.99953,0.6787,0.49869,193.12126,0.99983,0.95153,0.11566,95.5272,0.99238,"17/07/03"]
["SZ8-Y11-Wx-C8-B",50,175,350,10,"1.1 x 1.1 x 0.4",3.12747,-3.108,459.34347,0.9999,1.28993,-0.42279,468.1007,0.9995,-1.14039,2.2779,1330.658,0.99894,0.95734,0.10718,91.45339,0.99898,"18/05/30"]
["SZ8-Y11-Wx-C9-B",50,175,350,10,"1.1 x 1.1 x 0.4",3.12747,-3.108,459.34347,0.9999,1.28993,-0.42279,468.1007,0.9995,-1.14039,2.2779,1330.658,0.99894,0.95734,0.10718,91.45339,0.99898,"18/05/30"]
["SZ8-Y15-Wx-C7",20,700,1200,7.5,"1.4 x 1.4 x 0.4",2.35234,-2.33964,1273.82144,0.99996,1.03825,-0.21055,438.22318,0.98177,7.49153,-6.32681,-3198.11695,0.99743,0.93317,0.21967,70.79044,0.99923,"17/07/03"]
["SZ8-Y15-Wx-C8",20,700,1200,7.5,"1.4 x 1.4 x 0.4",2.35234,-2.33964,1273.82144,0.99996,1.03825,-0.21055,438.22318,0.98177,7.49153,-6.32681,-3198.11695,0.99743,0.93317,0.21967,70.79044,0.99923,"17/07/03"]
["SZ8-Y15-Wx-C9",20,700,1200,7.5,"1.4 x 1.4 x 0.4",2.35234,-2.33964,1273.82144,0.99996,1.03825,-0.21055,438.22318,0.98177,7.49153,-6.32681,-3198.11695,0.99743,0.93317,0.21967,70.79044,0.99923,"17/07/03"]
["SZ8-Y19-Wx-C7",20,700,1500,4.5,"1.8 x 1.8 x 0.4",3.82114,-3.81383,2322.60812,1,1.02472,-0.23134,486.95071,0.93079,7.49153,-6.32681,-3198.11695,0.99743,0.93555,0.14385,102.16017,0.99602,"17/07/03"]
["SZ8-Y19-Wx-C8",20,700,1500,4.5,"1.8 x 1.8 x 0.4",3.82114,-3.81383,2322.60812,1,1.02472,-0.23134,486.95071,0.93079,7.49153,-6.32681,-3198.11695,0.99743,0.93555,0.14385,102.16017,0.99602,"17/07/03"]
["SZ8-Y19-Wx-C9",20,700,1500,4.5,"1.8 x 1.8 x 0.4",3.82114,-3.81383,2322.60812,1,1.02472,-0.23134,486.95071,0.93079,7.49153,-6.32681,-3198.11695,0.99743,0.93555,0.14385,102.16017,0.99602,"17/07/03"]
["SZ8-Y22-Wx-C7-x",20,700,2000,4,"2.2 x 2.2 x 0.4",4.6243,-4.62271,2873.05848,0.99999,1.20324,-0.29095,1963.7596,0.99903,0.36324,0.77486,429.64088,0.99987,0.94029,0.12492,115.03668,0.99011,"17/07/03"]
["SZ8-Y22-Wx-C8-x",20,700,2000,4,"2.2 x 2.2 x 0.4",4.6243,-4.62271,2873.05848,0.99999,1.20324,-0.29095,1963.7596,0.99903,0.36324,0.77486,429.64088,0.99987,0.94029,0.12492,115.03668,0.99011,"17/07/03"]
["SZ8-Y22-Wx-C9-x",20,700,2000,4,"2.2 x 2.2 x 0.4",4.6243,-4.62271,2873.05848,0.99999,1.20324,-0.29095,1963.7596,0.99903,0.36324,0.77486,429.64088,0.99987,0.94029,0.12492,115.03668,0.99011,"17/07/03"]
["SZ5-M2-Wx-00",20,700,2000,3.45,"3.5 x 3.5 x 2.0",2.98,-2.94986,1730.25382,0.99991,1.14888,-0.28936,1048.11334,0.99835,1.90292,-0.76836,-487.36279,0.99672,0.92754,0.14453,122.73142,0.99987,"17/07/03"]
["SZ5-M2-Wx-C8",20,700,2000,3.45,"3.5 x 3.5 x 2.0",2.98,-2.94986,1730.25382,0.99991,1.14888,-0.28936,1048.11334,0.99835,1.90292,-0.76836,-487.36279,0.99672,0.92754,0.14453,122.73142,0.99987,"17/07/03"]
["SZ5-M2-Wx-C9",20,700,2000,3.45,"3.5 x 3.5 x 2.0",2.98,-2.94986,1730.25382,0.99991,1.14888,-0.28936,1048.11334,0.99835,1.90292,-0.76836,-487.36279,0.99672,0.92754,0.14453,122.73142,0.99987,"17/07/03"]
["SZ5-M3-Wx-C7",20,700,1500,3.2,"3.5 x 3.5 x 2.0",5.19474,-5.18128,3300.72768,0.99995,1.63459,-0.7677,3853.34348,0.99865,1.08857,-0.02949,-74.77381,0.99679,0.93604,0.10676,165.86871,0.99942,"19/12/04"]
["STW8C2PB-E1",20,65,400,10,"3.0 x 3.0 x 0.6",19.02833,-19.00956,1226.19662,1,1.50689,-0.56267,621.99022,0.99949,1.1767,-0.15246,-166.12781,0.99739,0.88818,0.12442,233.318,0.99949,"17/07/03"]
["STW8C2PB-E2",20,65,400,10,"3.0 x 3.0 x 0.6",19.2,-19.17739,1237.69583,0.99994,1.565,-0.54925,607.24189,0.99897,1.10051,-0.08691,-129.005,0.99699,0.88237,0.06305,115.14664,0.97939,"18/10/14"]
["STW8C12C-E0",10,65,200,7.5,"3.5 x 2.8 x 0.75",20.81583,-20.79597,1344.81776,0.99999,1.16893,-0.21253,289.40087,0.9996,1.06654,-0.05263,-105.05522,0.99744,-90.35419,91.36453,211751.84848,0.99507,"19/01/01"]
["STW8C1SB",20,65,400,10,"3.0 x 3.0 x 0.6",15.2281,-15.21267,975.21322,0.99999,2.56557,-1.65741,1163.45907,0.99981,1.34619,-0.31791,-282.47483,0.99931,1.03641,-0.03137,-170.78582,0.99659,"17/07/03"]
["STW7C2SB",20,100,200,10,"3.0 x 3.0 x 0.6",5.60031,-5.59388,512.08079,1,1.48247,-0.61943,402.47287,0.99992,1.24529,-0.21761,-202.58682,0.99959,0.8875,0.13657,127.1862,0.99965,"17/07/03"]
["STW8C2SB",20,100,200,10,"3.0 x 3.0 x 0.6",5.60031,-5.59388,512.08079,1,1.48247,-0.61943,402.47287,0.99992,1.24529,-0.21761,-202.58682,0.99959,0.8875,0.13657,127.1862,0.99965,"17/07/03"]
["SAW7C22B-IZ",20,150,250,11,"3.0 x 3.0 x 0.6",4.5539,-4.55246,604.01637,0.99998,1.1736,-0.3348,218.72303,0.99332,2.3492,-1.31344,-922.42472,0.99937,0.91565,0.10052,142.2478,0.9998,"18/05/30"]
["SAW8C22B-IZ",20,150,250,11,"3.0 x 3.0 x 0.6",4.5539,-4.55246,604.01637,0.99998,1.1736,-0.3348,218.72303,0.99332,2.3492,-1.31344,-922.42472,0.99937,0.91565,0.10052,142.2478,0.9998,"17/07/03"]
["SAW8C22B-NZ",20,150,250,11,"3.0 x 3.0 x 0.6",4.5539,-4.55246,604.01637,0.99998,1.1736,-0.3348,218.72303,0.99332,2.3492,-1.31344,-922.42472,0.99937,0.91565,0.10052,142.2478,0.9998,"18/05/30"]
["STW8A12D-E1",10,65,200,25,"3.5 x2.8 x 0.7",8.35529,-8.36385,508.00689,0.99992,1.16163,-0.23508,173.5588,0.98993,0.4004,0.65889,265.23617,0.99996,0.93999,0.08622,68.9882,0.99998,"17/07/03"]
["STW8A12D-E2",10,65,200,20,"3.5 x2.8 x 0.7",9.2162,-9.20447,573.18915,1,1.40354,-0.4848,357.59815,0.99989,1.22876,-0.19779,-169.85357,0.99537,0.91261,0.10667,125.15433,0.99828,"17/07/03"]
["STW8A2PD",10,65,300,15,"3.5 x2.8 x 0.7",12.64226,-12.63434,795.71907,1,1.21576,-0.28193,245.00678,0.99985,1.78994,-0.753,-519.1683,0.99848,0.92273,0.09737,107.99552,0.99958,"17/07/03"]
["STW8A2SD",20,100,150,35,"3.5 x2.8 x 0.7",6.8083,-6.804,633.851,0.99987,1.91733,-1.05309,733.463,0.999,0.33971,0.7204,294.927,0.999,0.92816,0.0973,90.234,0.9892,"18/20/02"]
["STW8Q14D",10,65,200,15,"5.6 x 3.0 x 0.65",15.73205,-15.73511,993.63998,0.99994,1.37578,-0.47416,280.9724,0.99937,-0.02504,1.07007,541.77916,0.99639,0.93499,0.08462,89.8351,0.99377,"17/07/03"]
["STW8Q14D-E3",10,65,200,10,"5.6 x 3.0 x 0.65",15.89431,-15.89561,999.96829,1,1.5022,-0.5762,478.2898,0.99957,1.90816,-0.87663,-644.07606,0.99557,0.92777,0.09286,94.56117,0.99463,"17/07/03"]
["STW9Q14D",10,65,200,15,"5.6 x 3.0 x 0.65",15.73205,-15.73511,993.63998,0.99994,1.37578,-0.47416,280.9724,0.99937,-0.02504,1.07007,541.77916,0.99639,0.93499,0.08462,89.8351,0.99377,"17/08/31"]
["STW9Q14D-E3",10,65,200,10,"5.6 x 3.0 x 0.65",15.89431,-15.89561,999.96829,1,1.5022,-0.5762,478.2898,0.99957,1.90816,-0.87663,-644.07606,0.99557,0.92777,0.09286,94.56117,0.99463,"17/08/31"]
["SAW7Q24D",10,32,100,7,"5.6 x 3.0 x 0.65",17.341,-17.3354,543.137,0.99998,1.0684,-0.1452,41.015,0.9734,1.2571,-0.2365,-233.951,0.9981,0.9235,0.09151,131.84,0.981,"18/20/02"]
["SAW8Q24D",10,32,100,7,"5.6 x 3.0 x 0.65",16.977,-16.977,528.897,0.99999,1.0652,-0.144,37.811,0.974,2.481,-1.446,-990.32,0.999,0.939,0.0764,98.662,0.987,"18/20/02"]
["STW9C2SB",20,100,200,10,"3.0 x 3.0 x 0.6",5.64237,-5.6347,519.28,0.9999,1.32405,-0.46141,281.445,0.9994,4.8988,-3.86005,-2391.54,0.999,0.9198,0.11301,74.3824,0.9925,"17/10/07"]
["STW8A12D-E3",10,65,200,15,"3.5 x2.8 x 0.7",8.7979,-8.81029,538.595,0.9999,1.1667,-0.2387,182.312,0.9938,0.37453,0.6847,280.385,0.9985,0.93464,0.09343,80.0338,0.9804,"17/10/07"]
["SAW9C22B-NZ",20,150,250,11,"3.0 x 3.0 x 0.6",4.09513,-4.09227,536.0334,0.99995,1.19019,-0.3491,239.9688,0.99643,1.72179,-0.69424,-578.4337,0.9983,0.89579,0.11846,186.51867,0.9935,"17/10/07"]
["STW9A12D-E1",10,65,200,25,"3.5 x 2.8 x 0.7",8.824,-8.82707,545.586,0.9999,1.15938,-0.23168,173.83995,0.9934,0.22541,0.83121,346.86087,0.999,0.92544,0.0942,103.77141,0.9882,"17/10/07"]
["STW8A12D",20,150,180,35,"3.5 x 2.8 x 0.7",3.32338,-3.33067,418.84526,0.99996,1.07458,-0.19878,152.63751,0.99412,0.14992,0.90646,390.14017,0.99929,0.93366,0.09122,80.16682,0.98988,"17/10/07"]
["SAW8A32E-E1",20,100,120,13,"3.5 x 2.8 x 0.7",3.7638,-3.78089,322.24741,0.9998,1.04008,-0.21407,63.60298,0.99415,1.30256,-0.27155,-217.76618,0.99947,0.93007,0.09723,80.66486,0.98873,"17/10/07"]
["SAW8A42E-E1",10,75,100,13,"3.5 x 2.8 x 0.7",3.32284,-3.33776,208.22762,0.99996,1.24942,-0.29832,491.81543,0.99436,1.40072,-0.36626,-267.4944,0.99931,0.94782,0.09408,43.63674,0.96257,"17/10/07"]
["SAW8A62E-E1",10,50,60,13,"3.5 x 2.8 x 0.7",3.83741,-3.8215,169.41536,0.99991,1.12172,-0.25647,67.09206,0.99969,1.22576,-0.19866,-174.60042,0.99907,0.9364,0.09073,74.74704,0.99156,"17/10/07"]
["SAW8A62E-E2",10,50,60,15,"3.5 x 2.8 x 0.7",3.90805,-3.92242,167.52909,0.99995,1.09902,-0.23081,61.00959,0.99978,1.21401,-0.18837,-182.6494,0.99969,0.83564,0.185,224.5997,0.99956,"2019-07-29"]
["SAW9A32E-E1",20,100,120,13,"3.5 x 2.8 x 0.7",2.63363,-2.64614,208.40739,0.99999,1.06027,-0.23628,73.18633,0.9956,1.29362,-0.26296,-212.74839,0.99889,0.92037,0.10409,105.89677,0.9866,"17/10/07"]
["SAW0L60A",20,60,320,1.8,"5.0 x 5.0 x 0.7",25.0611,-25.049,1518.553,0.9999,1.2992,-0.3487,418.88,0.9972,-0.4366,1.475,923.921,0.9997,0.9329,0.0839,114.593,0.9984,"18/01/12"]
["SAW8L60A",20,60,320,1.8,"5.0 x 5.0 x 0.7",25.0611,-25.049,1518.553,0.9999,1.323,-0.375,439.602,0.997,-0.4366,1.475,923.921,0.9997,0.9346,0.0827,109.028,0.997,"18/01/12"]
["STW9C2PB-S",10,65,150,10,"3.0 x 3.0 x 0.6",21.587,-21.586,1374.65,0.9999,1.324,-0.4614,281.445,0.9994,1.145,-0.1177,-109.78,0.9995,0.849,0.1631,334.978,0.9999,"18/20/02"]
["SAWS0661A",25,170,260,1.5,"13.5 x 13.5 x 1.45",7.4111,-7.413,1173.29,0.9999,1.208,-0.3014,455.983,0.99999,1.287,-0.085,-69.874,0.9999,0.9391,0.1049,155.006,0.99997,"18/20/02"]
["SAWS1063A",50,290,580,0.7,"13.5 x 13.5 x 1.45",13.166,-13.168,3674.753,0.99999,1.252,-0.3114,1370.547,0.9998,1.28112,-0.0816,-68.796,0.9999,0.9422,0.10219,149.463,0.9997,"18/20/02"]
["SAWS1564A",100,430,860,0.5,"19 x 19 x 1.45",10.796,-10.797,4427.605,0.9999,1.2571,-0.322,1907.489,0.9997,1.276,-0.0794,-68.17343,0.9999,0.9438,0.10035,145.391,0.9996,"18/20/02"]
["SAWS1566A",150,720,1440,0.34,"19 x 19 x 1.45",10.564,-10.566,7234.558,0.99995,1.2212,-0.2936,2557.73,0.9999,1.2903,-0.0872,-70.451,0.9999,0.93856,0.10556,158.0667,0.9995,"18/20/02"]
["STW0L6PA",50,750,1000,2.9,"5.0 x 5.0 x 0.7",4.5721,-4.56808,3042.57403,0.99993,1.37186,-0.57136,1741.57051,0.99948,2.31262,-1.27549,-826.60323,0.99774,0.94162,0.07826,83.97265,0.99645,"18/10/14"]
["STW0L8PA",100,640,800,2,"5.0 x 5.0 x 0.7",5.39227,-5.39055,3129.49751,1,1.44373,-0.5999,2122.26731,0.99986,1.29541,-0.26308,-205.55455,0.99982,0.94459,0.06929,112.85336,0.99974,"19/07/23"]
["STW8A12D-S1",10,65,180,30,"3.5 x 2.8 x 0.7",9.2384,-9.22075,576.90662,0.99993,1.236,-0.31873,218.10204,0.99585,0.10912,0.94531,421.06078,0.99927,0.92682,0.0983,91.28153,0.9905,"18/11/06"]
["STW8A2PD-S1",10,65,200,15,"3.5 x 2.8 x 0.7",9.0625,-9.05318,559.51583,0.99992,1.24931,-0.33724,215.86693,0.99568,0.03872,1.01309,455.11925,0.9991,0.89627,0.12177,161.62078,0.98607,"18/11/06"]
["STW9A2PD",10,65,300,15,"3.5 x 2.8 x 0.7",32.43284,-32.38389,2205.32421,0.99994,1.22886,-0.29793,252.80292,0.99938,0.27505,0.78389,329.39893,0.99987,0.89371,0.12685,167.74126,0.9972,"19/06/27"]
["STW9A2PD-E1",10,65,200,13,"3.5 x 2.8 x 0.7",45.99109,-45.95579,3067.84741,0.99991,1.39899,-0.51631,256.63619,0.99405,1.17526,-0.15479,-195.48889,0.99875,2.52734,-1.52021,-4311.38057,0.99695,"19/06/27"]
["STW8A2PD-E1(H)",10,65,200,13,"3.5 x 2.8 x 0.7",19.60397,-19.60713,1240.44553,1,1.30331,-0.37247,318.86831,0.99863,1.22057,-0.19597,-229.3582,0.99968,0.79139,0.21876,529.27591,0.9976,"2019-07-30"]
["STW8A2PD-E1",10,65,200,10,"3.5 x 2.8 x 0.7",18.3385,-18.32884,1169.59221,0.99998,1.228,-0.32177,197.37779,0.99267,1.2213,-0.19913,-230.67095,0.99885,0.92707,0.09973,97.68227,0.98614,"18/11/06"]

{"sheet":"LED #1","index":4,"n_rows":114,"n_cols":14,"rows_kept":114,"hidden":true,"merged":[[1,0,1,1],[2,6,2,13],[3,6,3,9],[3,10,3,13],[7,6,7,13],[8,6,8,9],[8,10,8,13]]}
[]
[{"$f":"IF(Table!D7=\"\",NA(),Table!D7)","v":"STW0L8PA"},{"$nulls":5},7,{"$f":"G2+1","v":8},9,10,11,12,13,14]
[{"$nulls":6},"@Current"]
["Flux","VF",{"$nulls":4},"Relative Flux (FC)",{"$nulls":3},"Relative VF (VC)"]
[{"$f":"Table!C15","v":{"v":675,"d":"675.0"}},{"$f":"Table!E15","v":{"v":6.1,"d":"6.100"}},{"$nulls":4},"y0","A1","t1","R2","y0","A1","t1","R2"]
[{"$nulls":6},{"$f":"VLOOKUP($A$2,Parameter!$A:$W,G2,0)","v":{"v":5.39227,"d":"5.3923"}},{"$f":"VLOOKUP($A$2,Parameter!$A:$W,H2,0)","v":{"v":-5.39055,"d":"-5.3906"}},{"$f":"VLOOKUP($A$2,Parameter!$A:$W,I2,0)","v":{"v":3129.49751,"d":"3129.4975"}},{"$f":"VLOOKUP($A$2,Parameter!$A:$W,J2,0)","v":1},{"$f":"VLOOKUP($A$2,Parameter!$A:$W,K2,0)","v":{"v":1.44373,"d":"1.4437"}},{"$f":"VLOOKUP($A$2,Parameter!$A:$W,L2,0)","v":-0.5999},{"$f":"VLOOKUP($A$2,Parameter!$A:$W,M2,0)","v":{"v":2122.26731,"d":"2122.2673"}},{"$f":"VLOOKUP($A$2,Parameter!$A:$W,N2,0)","v":0.99986}]
["Ta/Tc [℃]","Rth","IOPPR. [mA]","Price [$]","Req.Flux",null,{"$f":"N2+1","v":15},{"$f":"G7+1","v":16},17,18,19,20,21,22]
[{"$f":"Table!D18","v":{"v":85,"d":"85.0"}},{"$f":"Table!D10","v":{"v":2,"d":"2.0"}},{"$f":"Table!D20","v":800},{"$f":"Table!D22","v":{"v":0,"d":"0.000"}},{"$f":"Table!$F$4","v":{"v":13333.333333333332,"d":"13,333"}},null,"@Temperature"]
[{"$nulls":6},"Relative Flux (FT)",{"$nulls":3},"Relative VF (VT)"]
["I. Interval","I. Range max","I. max",{"$nulls":3},"y0","A1","t1","R2","y0","A1","t1","R2"]
[{"$f":"Table!$J$4","v":0.015},{"$f":"Table!$I$4","v":{"v":1.5,"d":"1.500"}},{"$f":"Table!F10/1000","v":{"v":0.8,"d":"0.800"}},{"$nulls":3},{"$f":"VLOOKUP($A$2,Parameter!$A:$W,G7,0)","v":{"v":1.29541,"d":"1.2954"}},{"$f":"VLOOKUP($A$2,Parameter!$A:$W,H7,0)","v":{"v":-0.26308,"d":"-0.2631"}},{"$f":"VLOOKUP($A$2,Parameter!$A:$W,I7,0)","v":{"v":-205.55455,"d":"-205.5546"}},{"$f":"VLOOKUP($A$2,Parameter!$A:$W,J7,0)","v":0.99982},{"$f":"VLOOKUP($A$2,Parameter!$A:$W,K7,0)","v":{"v":0.94459,"d":"0.9446"}},{"$f":"VLOOKUP($A$2,Parameter!$A:$W,L7,0)","v":{"v":0.06929,"d":"0.0693"}},{"$f":"VLOOKUP($A$2,Parameter!$A:$W,M7,0)","v":{"v":112.85336,"d":"112.8534"}},{"$f":"VLOOKUP($A$2,Parameter!$A:$W,N7,0)","v":0.99974}]
[]
[]
["IF","Flux","VF","PD","TJ","lm/W","lm/$","# LEDs","Tot.lm"]
[{"$f":"IF(A2=\"\",NA(),Table!$H$4)","v":{"v":0.05,"d":"0.050"}},{"$f":"IFERROR(A$5*(led1FTA1*EXP(-$A$8/led1FTt1)+led1FTy0)*(led1FCA1*EXP(-$A15*1000/led1FCt1)+led1FCy0),NA())","v":{"v":52.80881624417732,"d":"52.809"}},{"$f":"IFERROR(B$5*(led1VTA1*EXP(-$A$8/led1VTt1)+led1VTy0)*(led1VCA1*EXP(-$A15*1000/led1VCt1)+led1VCy0),NA())","v":{"v":5.113350856029354,"d":"5.113"}},{"$f":"C15*A15","v":{"v":0.2556675428014677,"d":"0.256"}},{"$f":"$A$8+D15*$B$8","v":{"v":85.51133508560294,"d":"85.51"}},{"$f":"B15/D15","v":{"v":206.55268035014012,"d":"206.6"}},{"$f":"B15/$D$8","v":{"$error":"#DIV/0!"}},{"$f":"ROUNDUP($E$8/B15,0)","v":253},{"$f":"H15*B15","v":{"v":13360.630509776862,"d":"13361"}}]
[{"$f":"IF(OR(ROUND(A15+$A$11,3)>$B$11,ROUND(A15+$A$11,3)>$C$11),NA(),ROUND(A15+$A$11,3))","v":0.065},{"v":68.17823273179185,"d":"68.178"},{"v":5.137950268451003,"d":"5.138"},{"v":0.3339667674493152,"d":"0.334"},{"v":85.66793353489864,"d":"85.67"},{"v":204.146757632521,"d":"204.1"},{"$error":"#DIV/0!"},196,{"v":13362.933615431202,"d":"13363"}]
[{"$f":"IF(OR(ROUND(A16+$A$11,3)>$B$11,ROUND(A16+$A$11,3)>$C$11),NA(),ROUND(A16+$A$11,3))","v":{"v":0.08,"d":"0.080"}},{"v":83.47415830770883,"d":"83.474"},{"v":5.162376427365606,"d":"5.162"},{"v":0.41299011418924847,"d":"0.413"},{"v":85.8259802283785,"d":"85.83"},{"v":202.12144416962403,"d":"202.1"},{"$error":"#DIV/0!"},160,{"v":13355.865329233413,"d":"13356"}]
[0.095,{"v":98.69694437850993,"d":"98.697"},{"v":5.186630552996523,"d":"5.187"},{"v":0.4927299025346697,"d":"0.493"},{"v":85.98545980506934,"d":"85.99"},{"v":200.3063826059661,"d":"200.3"},{"$error":"#DIV/0!"},136,{"v":13422.78443547735,"d":"13423"}]
[{"v":0.11,"d":"0.110"},{"v":113.84694067047799,"d":"113.847"},{"v":5.210713856973091,"d":"5.211"},{"v":0.57317852426704,"d":"0.573"},{"v":86.14635704853409,"d":"86.15"},{"v":198.62387694315896,"d":"198.6"},{"$error":"#DIV/0!"},118,{"v":13433.938999116403,"d":"13434"}]
[0.125,{"v":128.92449523763517,"d":"128.924"},{"v":5.234627542391146,"d":"5.235"},{"v":0.6543284427988932,"d":"0.654"},{"v":86.30865688559778,"d":"86.31"},{"v":197.03330438481322,"d":"197.0"},{"$error":"#DIV/0!"},104,{"v":13408.147504714058,"d":"13408"}]
[{"v":0.14,"d":"0.140"},{"v":143.9299544697341,"d":"143.930"},{"v":5.25837280387313,"d":"5.258"},{"v":0.7361721925422383,"d":"0.736"},{"v":86.47234438508448,"d":"86.47"},{"v":195.51126207674034,"d":"195.5"},{"$error":"#DIV/0!"},93,{"v":13385.485765685271,"d":"13385"}]
[0.155,{"v":158.8636631002222,"d":"158.864"},{"v":5.281950827627767,"d":"5.282"},{"v":0.818702378282304,"d":"0.819"},{"v":86.6374047565646,"d":"86.64"},{"v":194.0432412490721,"d":"194.0"},{"$error":"#DIV/0!"},84,{"v":13344.547700418665,"d":"13345"}]
[{"v":0.17,"d":"0.170"},{"v":173.72596421415489,"d":"173.726"},{"v":5.30536279150932,"d":"5.305"},{"v":0.9019116745565845,"d":"0.902"},{"v":86.80382334911317,"d":"86.80"},{"v":192.6197089083756,"d":"192.6"},{"$error":"#DIV/0!"},77,{"v":13376.899244489927,"d":"13377"}]
[0.185,{"v":188.5171992560824,"d":"188.517"},{"v":5.328609865076428,"d":"5.329"},{"v":0.9857928250391392,"d":"0.986"},{"v":86.97158565007828,"d":"86.97"},{"v":191.23409550946735,"d":"191.2"},{"$error":"#DIV/0!"},71,{"v":13384.72114718185,"d":"13385"}]
[{"v":0.2,"d":"0.200"},{"v":203.23770803789253,"d":"203.238"},{"v":5.351693209650541,"d":"5.352"},{"v":1.0703386419301084,"d":"1.070"},{"v":87.14067728386021,"d":"87.14"},{"v":189.8816879781153,"d":"189.9"},{"$error":"#DIV/0!"},66,{"v":13413.688730500908,"d":"13414"}]
[0.215,{"v":217.88782874661567,"d":"217.888"},{"v":5.374613978373929,"d":"5.375"},{"v":1.1555420053503946,"d":"1.156"},{"v":87.3110840107008,"d":"87.31"},{"v":188.55898594577323,"d":"188.6"},{"$error":"#DIV/0!"},62,{"v":13509.04538229017,"d":"13509"}]
[{"v":0.23,"d":"0.230"},{"v":232.467897952198,"d":"232.468"},{"v":5.3973733162672834,"d":"5.397"},{"v":1.2413958627414752,"d":"1.241"},{"v":87.48279172548295,"d":"87.48"},{"v":187.26330973813646,"d":"187.3"},{"$error":"#DIV/0!"},58,{"v":13483.138081227484,"d":"13483"}]
[0.245,{"v":246.97825061522968,"d":"246.978"},{"v":5.419972360286927,"d":"5.420"},{"v":1.327893228270297,"d":"1.328"},{"v":87.6557864565406,"d":"87.66"},{"v":185.99255223022828,"d":"186.0"},{"$error":"#DIV/0!"},54,{"v":13336.825533222403,"d":"13337"}]
[{"v":0.26,"d":"0.260"},{"v":261.41922009464434,"d":"261.419"},{"v":5.442412239381605,"d":"5.442"},{"v":1.4150271822392173,"d":"1.415"},{"v":87.83005436447843,"d":"87.83"},{"v":184.74501647449634,"d":"184.7"},{"$error":"#DIV/0!"},52,{"v":13593.799444921506,"d":"13594"}]
[0.275,{"v":275.7911381553729,"d":"275.791"},{"v":5.464694074548884,"d":"5.465"},{"v":1.5027908705009432,"d":"1.503"},{"v":88.00558174100189,"d":"88.01"},{"v":183.51930635793664,"d":"183.5"},{"$error":"#DIV/0!"},49,{"v":13513.765769613272,"d":"13514"}]
[{"v":0.29,"d":"0.290"},{"v":290.0943349759705,"d":"290.094"},{"v":5.486818978891149,"d":"5.487"},{"v":1.591177503878433,"d":"1.591"},{"v":88.18235500775687,"d":"88.18"},{"v":182.31425109321677,"d":"182.3"},{"$error":"#DIV/0!"},46,{"v":13344.339408894644,"d":"13344"}]
[0.305,{"v":304.3291391561973,"d":"304.329"},{"v":5.508788057671215,"d":"5.509"},{"v":1.6801803575897207,"d":"1.680"},{"v":88.36036071517944,"d":"88.36"},{"v":181.12885190061883,"d":"181.1"},{"$error":"#DIV/0!"},44,{"v":13390.482122872681,"d":"13390"}]
[{"v":0.32,"d":"0.320"},{"v":318.4958777245729,"d":"318.496"},{"v":5.530602408367538,"d":"5.531"},{"v":1.7697927706776122,"d":"1.770"},{"v":88.53958554135522,"d":"88.54"},{"v":179.962243603599,"d":"180.0"},{"$error":"#DIV/0!"},42,{"v":13376.826864432061,"d":"13377"}]
[0.335,{"v":332.594876145883,"d":"332.595"},{"v":5.552263120729038,"d":"5.552"},{"v":1.8600081454442279,"d":"1.860"},{"v":88.72001629088845,"d":"88.72"},{"v":178.81366646727722,"d":"178.8"},{"$error":"#DIV/0!"},41,{"v":13636.389921981203,"d":"13636"}]
[{"v":0.35,"d":"0.350"},{"v":346.62645832866315,"d":"346.626"},{"v":5.573771276829542,"d":"5.574"},{"v":1.9508199468903396,"d":"1.951"},{"v":88.90163989378068,"d":"88.90"},{"v":177.68244521038204,"d":"177.7"},{"$error":"#DIV/0!"},39,{"v":13518.431874817863,"d":"13518"}]
[0.365,{"v":360.5909466326351,"d":"360.591"},{"v":5.595127951121837,"d":"5.595"},{"v":2.0422217021594706,"d":"2.042"},{"v":89.08444340431895,"d":"89.08"},{"v":176.56797313011694,"d":"176.6"},{"$error":"#DIV/0!"},37,{"v":13341.865025407498,"d":"13342"}]
[{"v":0.38,"d":"0.380"},{"v":374.48866187611526,"d":"374.489"},{"v":5.616334210491346,"d":"5.616"},{"v":2.1342069999867115,"d":"2.134"},{"v":89.26841399997342,"d":"89.27"},{"v":175.4696999299726,"d":"175.5"},{"$error":"#DIV/0!"},36,{"v":13481.59182754015,"d":"13482"}]
[0.395,{"v":388.3199233433854,"d":"388.320"},{"v":5.637391114309424,"d":"5.637"},{"v":2.226769490152223,"d":"2.227"},{"v":89.45353898030444,"d":"89.45"},{"v":174.38712226869956,"d":"174.4"},{"$error":"#DIV/0!"},35,{"v":13591.19731701849,"d":"13591"}]
[{"v":0.41,"d":"0.410"},{"v":402.08504879202536,"d":"402.085"},{"v":5.658299714486281,"d":"5.658"},{"v":2.3199028829393753,"d":"2.320"},{"v":89.63980576587875,"d":"89.64"},{"v":173.31977633588414,"d":"173.3"},{"$error":"#DIV/0!"},34,{"v":13670.891658928862,"d":"13671"}]
[0.425,{"v":415.78435446021575,"d":"415.784"},{"v":5.6790610555235315,"d":"5.679"},{"$f":"C40*A40","v":{"v":2.4136009485975007,"d":"2.414"}},{"$f":"$A$8+D40*$B$8","v":{"v":89.827201897195,"d":"89.83"}},{"$f":"B40/D40","v":{"v":172.26723195556434,"d":"172.3"}},{"$error":"#DIV/0!"},33,{"$f":"H40*B40","v":{"v":13720.88369718712,"d":"13721"}}]
[{"v":0.44,"d":"0.440"},{"v":429.41815507400247,"d":"429.418"},{"v":5.699676174566368,"d":"5.700"},{"v":2.5078575168092017,"d":"2.508"},{"v":90.0157150336184,"d":"90.02"},{"v":171.22908785518246,"d":"171.2"},{"$error":"#DIV/0!"},32,{"v":13741.380962368079,"d":"13741"}]
[0.455,{"v":442.98676385452575,"d":"442.987"},{"v":5.720146101455378,"d":"5.720"},{"v":2.602666476162197,"d":"2.603"},{"v":90.2053329523244,"d":"90.21"},{"v":170.2049678327355,"d":"170.2"},{"$error":"#DIV/0!"},31,{"v":13732.589679490298,"d":"13733"}]
[{"v":0.47,"d":"0.470"},{"v":456.4904925252187,"d":"456.490"},{"v":5.7404718587779895,"d":"5.740"},{"v":2.698021773625655,"d":"2.698"},{"v":90.39604354725131,"d":"90.40"},{"v":169.19451762310197,"d":"169.2"},{"$error":"#DIV/0!"},30,{"v":13694.714775756562,"d":"13695"}]
[0.485,{"v":469.92965131896676,"d":"469.930"},{"v":5.76065446191955,"d":"5.761"},{"v":2.793917414030982,"d":"2.794"},{"v":90.58783482806196,"d":"90.59"},{"v":168.19740231368044,"d":"168.2"},{"$error":"#DIV/0!"},29,{"v":13627.959888250036,"d":"13628"}]
[{"v":0.5,"d":"0.500"},{"v":483.304548985235,"d":"483.305"},{"v":5.780694919114061,"d":"5.781"},{"v":2.8903474595570304,"d":"2.890"},{"v":90.78069491911405,"d":"90.78"},{"v":167.21330419537358,"d":"167.2"},{"$error":"#DIV/0!"},28,{"v":13532.52737158658,"d":"13533"}]
[0.515,{"v":496.6154927971619,"d":"496.615"},{"v":5.8005942314945305,"d":"5.801"},{"v":2.9873060292196834,"d":"2.987"},{"v":90.97461205843936,"d":"90.97"},{"v":166.2419209614367,"d":"166.2"},{"$error":"#DIV/0!"},27,{"v":13408.61830552337,"d":"13409"}]
[{"v":0.53,"d":"0.530"},{"$f":"IFERROR(A$5*(led1FTA1*EXP(-$A$8/led1FTt1)+led1FTy0)*(led1FCA1*EXP(-$A47*1000/led1FCt1)+led1FCy0),NA())","v":{"v":509.86278855861957,"d":"509.863"}},{"$f":"IFERROR(B$5*(led1VTA1*EXP(-$A$8/led1VTt1)+led1VTy0)*(led1VCA1*EXP(-$A47*1000/led1VCt1)+led1VCy0),NA())","v":{"v":5.820353393142996,"d":"5.820"}},{"v":3.084787298365788,"d":"3.085"},{"v":91.16957459673158,"d":"91.17"},{"v":165.28296418645363,"d":"165.3"},{"$f":"B47/$D$8","v":{"$error":"#DIV/0!"}},{"$f":"ROUNDUP($E$8/B47,0)","v":27},{"v":13766.295291082728,"d":"13766"}]
[{"$f":"IF(OR(ROUND(A47+$A$11,3)>$B$11,ROUND(A47+$A$11,3)>$C$11),NA(),ROUND(A47+$A$11,3))","v":0.545},{"v":523.0467406112368,"d":"523.047"},{"v":5.839973391140186,"d":"5.840"},{"v":3.1827854981714014,"d":"3.183"},{"v":91.3655709963428,"d":"91.37"},{"v":164.33615803256038,"d":"164.3"},{"$error":"#DIV/0!"},26,{"v":13599.215255892157,"d":"13599"}]
[{"v":0.56,"d":"0.560"},{"v":536.1676518413935,"d":"536.168"},{"v":5.859455205614817,"d":"5.859"},{"v":3.281294915144298,"d":"3.281"},{"v":91.5625898302886,"d":"91.56"},{"v":163.40123814131928,"d":"163.4"},{"$error":"#DIV/0!"},25,{"v":13404.191296034838,"d":"13404"}]
[0.575,{"v":549.2258236871771,"d":"549.226"},{"v":5.878799809792572,"d":"5.879"},{"v":3.3803098906307287,"d":"3.380"},{"v":91.76061978126145,"d":"91.76"},{"v":162.47795067827275,"d":"162.5"},{"$error":"#DIV/0!"},25,{"v":13730.645592179428,"d":"13731"}]
[{"v":0.59,"d":"0.590"},{"v":562.2215561453085,"d":"562.222"},{"v":5.89800817004471,"d":"5.898"},{"v":3.4798248203263786,"d":"3.480"},{"v":91.95964964065276,"d":"91.96"},{"v":161.56605150387333,"d":"161.6"},{"$error":"#DIV/0!"},24,{"v":13493.317347487402,"d":"13493"}]
[0.605,{"v":575.1551477780362,"d":"575.155"},{"v":5.917081245936341,"d":"5.917"},{"v":3.579834153791486,"d":"3.580"},{"v":92.15966830758298,"d":"92.16"},{"v":160.66530544966054,"d":"160.7"},{"$error":"#DIV/0!"},24,{"v":13803.723546672867,"d":"13804"}]
[{"v":0.62,"d":"0.620"},{"v":588.0268957199913,"d":"588.027"},{"v":5.9360199902743656,"d":"5.936"},{"v":3.6803323939701067,"d":"3.680"},{"v":92.36066478794021,"d":"92.36"},{"v":159.77548568260315,"d":"159.8"},{"$error":"#DIV/0!"},23,{"v":13524.618601559801,"d":"13525"}]
[0.635,{"v":600.8370956850174,"d":"600.837"},{"v":5.954825349155073,"d":"5.955"},{"v":3.7813140967134715,"d":"3.781"},{"v":92.56262819342695,"d":"92.56"},{"v":158.89637314372663,"d":"158.9"},{"$error":"#DIV/0!"},23,{"v":13819.2532007554,"d":"13819"}]
[{"v":0.65,"d":"0.650"},{"v":613.586041972962,"d":"613.586"},{"v":5.9734982620114,"d":"5.973"},{"v":3.8827738703074104,"d":"3.883"},{"v":92.76554774061482,"d":"92.77"},{"v":158.0277560496673,"d":"158.0"},{"$error":"#DIV/0!"},22,{"v":13498.892923405165,"d":"13499"}]
[0.665,{"v":626.2740274764399,"d":"626.274"},{"v":5.992039661659863,"d":"5.992"},{"v":3.984706375003809,"d":"3.985"},{"v":92.96941275000762,"d":"92.97"},{"v":157.16942944782002,"d":"157.2"},{"$error":"#DIV/0!"},22,{"v":13778.028604481677,"d":"13778"}]
[{"v":0.68,"d":"0.680"},{"v":638.9013436875603,"d":"638.901"},{"v":6.010450474347159,"d":"6.010"},{"v":4.087106322556068,"d":"4.087"},{"v":93.17421264511214,"d":"93.17"},{"v":156.32119481736228,"d":"156.3"},{"$error":"#DIV/0!"},21,{"v":13416.928217438766,"d":"13417"}]
[0.695,{"v":651.4682807046237,"d":"651.468"},{"v":6.028731619796434,"d":"6.029"},{"v":4.189968475758522,"d":"4.190"},{"v":93.37993695151704,"d":"93.38"},{"v":155.48285970974675,"d":"155.5"},{"$error":"#DIV/0!"},21,{"v":13680.833894797097,"d":"13681"}]
[{"v":0.71,"d":"0.710"},{"v":663.9751272387872,"d":"663.975"},{"v":6.046884011253231,"d":"6.047"},{"v":4.293287647989794,"d":"4.293"},{"v":93.58657529597959,"d":"93.59"},{"v":154.6542374233122,"d":"154.7"},{"$error":"#DIV/0!"},21,{"v":13943.477672014531,"d":"13943"}]
[0.725,{"v":676.4221706206971,"d":"676.422"},{"v":6.064908555531109,"d":"6.065"},{"v":4.397058702760054,"d":"4.397"},{"v":93.79411740552011,"d":"93.79"},{"v":153.83514670752606,"d":"153.8"},{"$error":"#DIV/0!"},20,{"v":13528.443412413942,"d":"13528"}]
[{"v":0.74,"d":"0.740"},{"v":688.8096968070904,"d":"688.810"},{"v":6.0828061530569455,"d":"6.083"},{"v":4.50127655326214,"d":"4.501"},{"v":94.00255310652427,"d":"94.00"},{"v":153.0254114930797,"d":"153.0"},{"$error":"#DIV/0!"},20,{"v":13776.193936141808,"d":"13776"}]
[0.755,{"v":701.1379903873623,"d":"701.138"},{"v":6.1005776979159165,"d":"6.101"},{"v":4.605936161926517,"d":"4.606"},{"v":94.21187232385303,"d":"94.21"},{"v":152.22486064463786,"d":"152.2"},{"$error":"#DIV/0!"},20,{"v":14022.759807747245,"d":"14023"}]
[{"v":0.77,"d":"0.770"},{"v":713.4073345901087,"d":"713.407"},{"v":6.118224077896166,"d":"6.118"},{"v":4.711032539980048,"d":"4.711"},{"v":94.42206507996009,"d":"94.42"},{"v":151.433327733527,"d":"151.4"},{"$error":"#DIV/0!"},19,{"v":13554.739357212065,"d":"13555"}]
[0.785,{"v":725.6180112896274,"d":"725.618"},{"v":6.135746174533142,"d":"6.136"},{"v":4.816560747008516,"d":"4.817"},{"v":94.63312149401703,"d":"94.63"},{"v":150.6506508280408,"d":"150.7"},{"$error":"#DIV/0!"},19,{"v":13786.74221450292,"d":"13787"}]
[{"v":0.8,"d":"0.800"},{"v":737.7703010123978,"d":"737.770"},{"v":6.153144863153654,"d":"6.153"},{"v":4.922515890522924,"d":"4.923"},{"v":94.84503178104585,"d":"94.85"},{"v":149.87667229938057,"d":"149.9"},{"$error":"#DIV/0!"},19,{"v":14017.635719235557,"d":"14018"}]
[{"$error":"#N/A"},{"$error":"#N/A"},{"$error":"#N/A"},{"$error":"#N/A"},{"$error":"#N/A"},{"$error":"#N/A"},{"$error":"#N/A"},{"$error":"#N/A"},{"$error":"#N/A"}]
[{"$error":"#N/A"},{"$error":"#N/A"},{"$error":"#N/A"},{"$error":"#N/A"},{"$error":"#N/A"},{"$error":"#N/A"},{"$error":"#N/A"},{"$error":"#N/A"},{"$error":"#N/A"}]
[{"$error":"#N/A"},{"$error":"#N/A"},{"$error":"#N/A"},{"$error":"#N/A"},{"$error":"#N/A"},{"$error":"#N/A"},{"$error":"#N/A"},{"$error":"#N/A"},{"$error":"#N/A"}]
[{"$error":"#N/A"},{"$error":"#N/A"},{"$error":"#N/A"},{"$error":"#N/A"},{"$error":"#N/A"},{"$error":"#N/A"},{"$error":"#N/A"},{"$error":"#N/A"},{"$error":"#N/A"}]
[{"$error":"#N/A"},{"$error":"#N/A"},{"$error":"#N/A"},{"$error":"#N/A"},{"$error":"#N/A"},{"$error":"#N/A"},{"$error":"#N/A"},{"$error":"#N/A"},{"$error":"#N/A"}]
[{"$error":"#N/A"},{"$error":"#N/A"},{"$error":"#N/A"},{"$error":"#N/A"},{"$error":"#N/A"},{"$error":"#N/A"},{"$error":"#N/A"},{"$error":"#N/A"},{"$error":"#N/A"}]
[{"$error":"#N/A"},{"$error":"#N/A"},{"$error":"#N/A"},{"$error":"#N/A"},{"$error":"#N/A"},{"$error":"#N/A"},{"$error":"#N/A"},{"$error":"#N/A"},{"$error":"#N/A"}]
[{"$error":"#N/A"},{"$error":"#N/A"},{"$error":"#N/A"},{"$error":"#N/A"},{"$error":"#N/A"},{"$error":"#N/A"},{"$error":"#N/A"},{"$error":"#N/A"},{"$error":"#N/A"}]
[{"$error":"#N/A"},{"$error":"#N/A"},{"$error":"#N/A"},{"$error":"#N/A"},{"$error":"#N/A"},{"$error":"#N/A"},{"$error":"#N/A"},{"$error":"#N/A"},{"$error":"#N/A"}]
[{"$error":"#N/A"},{"$error":"#N/A"},{"$error":"#N/A"},{"$error":"#N/A"},{"$error":"#N/A"},{"$error":"#N/A"},{"$error":"#N/A"},{"$error":"#N/A"},{"$error":"#N/A"}]
[{"$error":"#N/A"},{"$error":"#N/A"},{"$error":"#N/A"},{"$error":"#N/A"},{"$error":"#N/A"},{"$error":"#N/A"},{"$error":"#N/A"},{"$error":"#N/A"},{"$error":"#N/A"}]
[{"$error":"#N/A"},{"$error":"#N/A"},{"$error":"#N/A"},{"$error":"#N/A"},{"$error":"#N/A"},{"$error":"#N/A"},{"$error":"#N/A"},{"$error":"#N/A"},{"$error":"#N/A"}]
[{"$error":"#N/A"},{"$error":"#N/A"},{"$error":"#N/A"},{"$error":"#N/A"},{"$error":"#N/A"},{"$error":"#N/A"},{"$error":"#N/A"},{"$error":"#N/A"},{"$error":"#N/A"}]
[{"$error":"#N/A"},{"$f":"IFERROR(A$5*(led1FTA1*EXP(-$A$8/led1FTt1)+led1FTy0)*(led1FCA1*EXP(-$A79*1000/led1FCt1)+led1FCy0),NA())","v":{"$error":"#N/A"}},{"$f":"IFERROR(B$5*(led1VTA1*EXP(-$A$8/led1VTt1)+led1VTy0)*(led1VCA1*EXP(-$A79*1000/led1VCt1)+led1VCy0),NA())","v":{"$error":"#N/A"}},{"$error":"#N/A"},{"$error":"#N/A"},{"$error":"#N/A"},{"$f":"B79/$D$8","v":{"$error":"#N/A"}},{"$f":"ROUNDUP($E$8/B79,0)","v":{"$error":"#N/A"}},{"$error":"#N/A"}]
[{"$f":"IF(OR(ROUND(A79+$A$11,3)>$B$11,ROUND(A79+$A$11,3)>$C$11),NA(),ROUND(A79+$A$11,3))","v":{"$error":"#N/A"}},{"$error":"#N/A"},{"$error":"#N/A"},{"$error":"#N/A"},{"$error":"#N/A"},{"$error":"#N/A"},{"$error":"#N/A"},{"$error":"#N/A"},{"$error":"#N/A"}]
[{"$error":"#N/A"},{"$error":"#N/A"},{"$error":"#N/A"},{"$error":"#N/A"},{"$error":"#N/A"},{"$error":"#N/A"},{"$error":"#N/A"},{"$error":"#N/A"},{"$error":"#N/A"}]
[{"$error":"#N/A"},{"$error":"#N/A"},{"$error":"#N/A"},{"$error":"#N/A"},{"$error":"#N/A"},{"$error":"#N/A"},{"$error":"#N/A"},{"$error":"#N/A"},{"$error":"#N/A"}]
[{"$error":"#N/A"},{"$error":"#N/A"},{"$error":"#N/A"},{"$error":"#N/A"},{"$error":"#N/A"},{"$error":"#N/A"},{"$error":"#N/A"},{"$error":"#N/A"},{"$error":"#N/A"}]
[{"$error":"#N/A"},{"$error":"#N/A"},{"$error":"#N/A"},{"$error":"#N/A"},{"$error":"#N/A"},{"$error":"#N/A"},{"$error":"#N/A"},{"$error":"#N/A"},{"$error":"#N/A"}]
[{"$error":"#N/A"},{"$error":"#N/A"},{"$error":"#N/A"},{"$error":"#N/A"},{"$error":"#N/A"},{"$error":"#N/A"},{"$error":"#N/A"},{"$error":"#N/A"},{"$error":"#N/A"}]
[{"$error":"#N/A"},{"$error":"#N/A"},{"$error":"#N/A"},{"$error":"#N/A"},{"$error":"#N/A"},{"$error":"#N/A"},{"$error":"#N/A"},{"$error":"#N/A"},{"$error":"#N/A"}]
[{"$error":"#N/A"},{"$error":"#N/A"},{"$error":"#N/A"},{"$error":"#N/A"},{"$error":"#N/A"},{"$error":"#N/A"},{"$error":"#N/A"},{"$error":"#N/A"},{"$error":"#N/A"}]
[{"$error":"#N/A"},{"$error":"#N/A"},{"$error":"#N/A"},{"$error":"#N/A"},{"$error":"#N/A"},{"$error":"#N/A"},{"$error":"#N/A"},{"$error":"#N/A"},{"$error":"#N/A"}]
[{"$error":"#N/A"},{"$error":"#N/A"},{"$error":"#N/A"},{"$error":"#N/A"},{"$error":"#N/A"},{"$error":"#N/A"},{"$error":"#N/A"},{"$error":"#N/A"},{"$error":"#N/A"}]
[{"$error":"#N/A"},{"$error":"#N/A"},{"$error":"#N/A"},{"$error":"#N/A"},{"$error":"#N/A"},{"$error":"#N/A"},{"$error":"#N/A"},{"$error":"#N/A"},{"$error":"#N/A"}]
[{"$error":"#N/A"},{"$error":"#N/A"},{"$error":"#N/A"},{"$error":"#N/A"},{"$error":"#N/A"},{"$error":"#N/A"},{"$error":"#N/A"},{"$error":"#N/A"},{"$error":"#N/A"}]
[{"$error":"#N/A"},{"$error":"#N/A"},{"$error":"#N/A"},{"$error":"#N/A"},{"$error":"#N/A"},{"$error":"#N/A"},{"$error":"#N/A"},{"$error":"#N/A"},{"$error":"#N/A"}]
[{"$error":"#N/A"},{"$error":"#N/A"},{"$error":"#N/A"},{"$error":"#N/A"},{"$error":"#N/A"},{"$error":"#N/A"},{"$error":"#N/A"},{"$error":"#N/A"},{"$error":"#N/A"}]
[{"$error":"#N/A"},{"$error":"#N/A"},{"$error":"#N/A"},{"$error":"#N/A"},{"$error":"#N/A"},{"$error":"#N/A"},{"$error":"#N/A"},{"$error":"#N/A"},{"$error":"#N/A"}]
[{"$error":"#N/A"},{"$error":"#N/A"},{"$error":"#N/A"},{"$error":"#N/A"},{"$error":"#N/A"},{"$error":"#N/A"},{"$error":"#N/A"},{"$error":"#N/A"},{"$error":"#N/A"}]
[{"$error":"#N/A"},{"$error":"#N/A"},{"$error":"#N/A"},{"$error":"#N/A"},{"$error":"#N/A"},{"$error":"#N/A"},{"$error":"#N/A"},{"$error":"#N/A"},{"$error":"#N/A"}]
[{"$error":"#N/A"},{"$error":"#N/A"},{"$error":"#N/A"},{"$error":"#N/A"},{"$error":"#N/A"},{"$error":"#N/A"},{"$error":"#N/A"},{"$error":"#N/A"},{"$error":"#N/A"}]
[{"$error":"#N/A"},{"$error":"#N/A"},{"$error":"#N/A"},{"$error":"#N/A"},{"$error":"#N/A"},{"$error":"#N/A"},{"$error":"#N/A"},{"$error":"#N/A"},{"$error":"#N/A"}]
[{"$error":"#N/A"},{"$error":"#N/A"},{"$error":"#N/A"},{"$error":"#N/A"},{"$error":"#N/A"},{"$error":"#N/A"},{"$error":"#N/A"},{"$error":"#N/A"},{"$error":"#N/A"}]
[{"$error":"#N/A"},{"$error":"#N/A"},{"$error":"#N/A"},{"$error":"#N/A"},{"$error":"#N/A"},{"$error":"#N/A"},{"$error":"#N/A"},{"$error":"#N/A"},{"$error":"#N/A"}]
[{"$error":"#N/A"},{"$error":"#N/A"},{"$error":"#N/A"},{"$error":"#N/A"},{"$error":"#N/A"},{"$error":"#N/A"},{"$error":"#N/A"},{"$error":"#N/A"},{"$error":"#N/A"}]
[{"$error":"#N/A"},{"$error":"#N/A"},{"$error":"#N/A"},{"$error":"#N/A"},{"$error":"#N/A"},{"$error":"#N/A"},{"$error":"#N/A"},{"$error":"#N/A"},{"$error":"#N/A"}]
[{"$error":"#N/A"},{"$error":"#N/A"},{"$error":"#N/A"},{"$error":"#N/A"},{"$error":"#N/A"},{"$error":"#N/A"},{"$error":"#N/A"},{"$error":"#N/A"},{"$error":"#N/A"}]
[{"$error":"#N/A"},{"$error":"#N/A"},{"$error":"#N/A"},{"$f":"C104*A104","v":{"$error":"#N/A"}},{"$f":"$A$8+D104*$B$8","v":{"$error":"#N/A"}},{"$f":"B104/D104","v":{"$error":"#N/A"}},{"$error":"#N/A"},{"$error":"#N/A"},{"$f":"H104*B104","v":{"$error":"#N/A"}}]
[{"$error":"#N/A"},{"$error":"#N/A"},{"$error":"#N/A"},{"$error":"#N/A"},{"$error":"#N/A"},{"$error":"#N/A"},{"$error":"#N/A"},{"$error":"#N/A"},{"$error":"#N/A"}]
[{"$error":"#N/A"},{"$error":"#N/A"},{"$error":"#N/A"},{"$error":"#N/A"},{"$error":"#N/A"},{"$error":"#N/A"},{"$error":"#N/A"},{"$error":"#N/A"},{"$error":"#N/A"}]
[{"$error":"#N/A"},{"$error":"#N/A"},{"$error":"#N/A"},{"$error":"#N/A"},{"$error":"#N/A"},{"$error":"#N/A"},{"$error":"#N/A"},{"$error":"#N/A"},{"$error":"#N/A"}]
[{"$error":"#N/A"},{"$error":"#N/A"},{"$error":"#N/A"},{"$error":"#N/A"},{"$error":"#N/A"},{"$error":"#N/A"},{"$error":"#N/A"},{"$error":"#N/A"},{"$error":"#N/A"}]
[{"$error":"#N/A"},{"$error":"#N/A"},{"$error":"#N/A"},{"$error":"#N/A"},{"$error":"#N/A"},{"$error":"#N/A"},{"$error":"#N/A"},{"$error":"#N/A"},{"$error":"#N/A"}]
[{"$error":"#N/A"},{"$error":"#N/A"},{"$error":"#N/A"},{"$error":"#N/A"},{"$error":"#N/A"},{"$error":"#N/A"},{"$error":"#N/A"},{"$error":"#N/A"},{"$error":"#N/A"}]
[{"$error":"#N/A"},{"$f":"IFERROR(A$5*(led1FTA1*EXP(-$A$8/led1FTt1)+led1FTy0)*(led1FCA1*EXP(-$A111*1000/led1FCt1)+led1FCy0),NA())","v":{"$error":"#N/A"}},{"$f":"IFERROR(B$5*(led1VTA1*EXP(-$A$8/led1VTt1)+led1VTy0)*(led1VCA1*EXP(-$A111*1000/led1VCt1)+led1VCy0),NA())","v":{"$error":"#N/A"}},{"$error":"#N/A"},{"$error":"#N/A"},{"$error":"#N/A"},{"$error":"#N/A"},{"$error":"#N/A"},{"$error":"#N/A"}]
[{"$error":"#N/A"},{"$error":"#N/A"},{"$error":"#N/A"},{"$error":"#N/A"},{"$error":"#N/A"},{"$error":"#N/A"},{"$error":"#N/A"},{"$error":"#N/A"},{"$error":"#N/A"}]
[{"$error":"#N/A"},{"$error":"#N/A"},{"$error":"#N/A"},{"$error":"#N/A"},{"$error":"#N/A"},{"$error":"#N/A"},{"$error":"#N/A"},{"$error":"#N/A"},{"$error":"#N/A"}]
[{"$error":"#N/A"},{"$error":"#N/A"},{"$error":"#N/A"},{"$error":"#N/A"},{"$error":"#N/A"},{"$error":"#N/A"},{"$error":"#N/A"},{"$error":"#N/A"},{"$error":"#N/A"}]

{"sheet":"LED #2","index":5,"n_rows":114,"n_cols":14,"rows_kept":114,"hidden":true,"merged":[[1,0,1,1],[2,6,2,13],[3,6,3,9],[3,10,3,13],[7,6,7,13],[8,6,8,9],[8,10,8,13]]}
[]
[{"$f":"IF(Table!I7=\"\",NA(),Table!I7)","v":"SZ5-M3-Wx-C7"},{"$nulls":5},7,{"$f":"G2+1","v":8},9,10,11,12,13,14]
[{"$nulls":6},"@Current"]
["Flux","VF",{"$nulls":4},"Relative Flux (FC)",{"$nulls":3},"Relative VF (VC)"]
[{"$f":"Table!H15","v":{"v":320,"d":"320.0"}},{"$f":"Table!J15","v":2.875},{"$nulls":4},"y0","A1","t1","R2","y0","A1","t1","R2"]
[{"$nulls":6},{"$f":"VLOOKUP($A$2,Parameter!$A:$W,G2,0)","v":{"v":5.19474,"d":"5.1947"}},{"$f":"VLOOKUP($A$2,Parameter!$A:$W,H2,0)","v":{"v":-5.18128,"d":"-5.1813"}},{"$f":"VLOOKUP($A$2,Parameter!$A:$W,I2,0)","v":{"v":3300.72768,"d":"3300.7277"}},{"$f":"VLOOKUP($A$2,Parameter!$A:$W,J2,0)","v":0.99995},{"$f":"VLOOKUP($A$2,Parameter!$A:$W,K2,0)","v":{"v":1.63459,"d":"1.6346"}},{"$f":"VLOOKUP($A$2,Parameter!$A:$W,L2,0)","v":-0.7677},{"$f":"VLOOKUP($A$2,Parameter!$A:$W,M2,0)","v":{"v":3853.34348,"d":"3853.3435"}},{"$f":"VLOOKUP($A$2,Parameter!$A:$W,N2,0)","v":0.99865}]
["Ta/Tc [℃]","Rth","IOPPR. [mA]","Price [$]","Req.Flux",null,{"$f":"N2+1","v":15},{"$f":"G7+1","v":16},17,18,19,20,21,22]
[{"$f":"Table!I18","v":{"v":85,"d":"85.0"}},{"$f":"Table!I10","v":3.2},{"$f":"Table!I20","v":700},{"$f":"Table!I22","v":{"v":0,"d":"0.000"}},{"$f":"Table!$F$4","v":{"v":13333.333333333332,"d":"13,333"}},null,"@Temperature"]
[{"$nulls":6},"Relative Flux (FT)",{"$nulls":3},"Relative VF (VT)"]
["I. Interval","I. Range max","I. max",{"$nulls":3},"y0","A1","t1","R2","y0","A1","t1","R2"]
[{"$f":"Table!$J$4","v":0.015},{"$f":"Table!$I$4","v":{"v":1.5,"d":"1.500"}},{"$f":"Table!K10/1000","v":{"v":1.5,"d":"1.500"}},{"$nulls":3},{"$f":"VLOOKUP($A$2,Parameter!$A:$W,G7,0)","v":{"v":1.08857,"d":"1.0886"}},{"$f":"VLOOKUP($A$2,Parameter!$A:$W,H7,0)","v":{"v":-0.02949,"d":"-0.0295"}},{"$f":"VLOOKUP($A$2,Parameter!$A:$W,I7,0)","v":{"v":-74.77381,"d":"-74.7738"}},{"$f":"VLOOKUP($A$2,Parameter!$A:$W,J7,0)","v":0.99679},{"$f":"VLOOKUP($A$2,Parameter!$A:$W,K7,0)","v":{"v":0.93604,"d":"0.9360"}},{"$f":"VLOOKUP($A$2,Parameter!$A:$W,L7,0)","v":{"v":0.10676,"d":"0.1068"}},{"$f":"VLOOKUP($A$2,Parameter!$A:$W,M7,0)","v":{"v":165.86871,"d":"165.8687"}},{"$f":"VLOOKUP($A$2,Parameter!$A:$W,N7,0)","v":0.99942}]
[]
[]
["IF","Flux","VF","PD","TJ","lm/W","lm/$","# LEDs","Tot.lm"]
[{"$f":"IF(A2=\"\",NA(),Table!$H$4)","v":{"v":0.05,"d":"0.050"}},{"$f":"IFERROR(A$5*(led2FTA1*EXP(-$A$8/led2FTt1)+led2FTy0)*(led2FCA1*EXP(-$A15*1000/led2FCt1)+led2FCy0),NA())","v":{"v":29.136097930881885,"d":"29.136"}},{"$f":"IFERROR(B$5*(led2VTA1*EXP(-$A$8/led2VTt1)+led2VTy0)*(led2VCA1*EXP(-$A15*1000/led2VCt1)+led2VCy0),NA())","v":{"v":2.520742350130427,"d":"2.521"}},{"$f":"C15*A15","v":{"v":0.12603711750652136,"d":"0.126"}},{"$f":"$A$8+D15*$B$8","v":{"v":85.40331877602087,"d":"85.40"}},{"$f":"B15/D15","v":{"v":231.17077339835495,"d":"231.2"}},{"$f":"B15/$D$8","v":{"$error":"#DIV/0!"}},{"$f":"ROUNDUP($E$8/B15,0)","v":458},{"$f":"H15*B15","v":{"v":13344.332852343903,"d":"13344"}}]
[{"$f":"IF(OR(ROUND(A15+$A$11,3)>$B$11,ROUND(A15+$A$11,3)>$C$11),NA(),ROUND(A15+$A$11,3))","v":0.065},{"v":36.51599494256101,"d":"36.516"},{"v":2.529206806187943,"d":"2.529"},{"v":0.1643984424022163,"d":"0.164"},{"v":85.5260750156871,"d":"85.53"},{"v":222.1188620097822,"d":"222.1"},{"$error":"#DIV/0!"},366,{"v":13364.854148977329,"d":"13365"}]
[{"v":0.08,"d":"0.080"},{"v":43.86243045285556,"d":"43.862"},{"v":2.537638376509091,"d":"2.538"},{"v":0.20301107012072728,"d":"0.203"},{"v":85.64963542438633,"d":"85.65"},{"v":216.05930369595762,"d":"216.1"},{"$error":"#DIV/0!"},304,{"v":13334.178857668092,"d":"13334"}]
[0.095,{"v":51.1755561809661,"d":"51.176"},{"v":2.5460371888601014,"d":"2.546"},{"v":0.24187353294170963,"d":"0.242"},{"v":85.77399530541346,"d":"85.77"},{"v":211.57981015351177,"d":"211.6"},{"$error":"#DIV/0!"},261,{"v":13356.82016323215,"d":"13357"}]
[{"v":0.11,"d":"0.110"},{"v":58.455523158176604,"d":"58.456"},{"v":2.554403370510816,"d":"2.554"},{"v":0.28098437075618976,"d":"0.281"},{"v":85.8991499864198,"d":"85.90"},{"v":208.03834391521542,"d":"208.0"},{"$error":"#DIV/0!"},229,{"v":13386.314803222442,"d":"13386"}]
[0.125,{"v":65.7024817309742,"d":"65.702"},{"v":2.562737048236611,"d":"2.563"},{"v":0.32034213102957637,"d":"0.320"},{"v":86.02509481929465,"d":"86.03"},{"v":205.1009697656911,"d":"205.1"},{"$error":"#DIV/0!"},203,{"v":13337.603791387763,"d":"13338"}]
[{"v":0.14,"d":"0.140"},{"v":72.91658156415342,"d":"72.917"},{"v":2.571038348320321,"d":"2.571"},{"v":0.359945368764845,"d":"0.360"},{"v":86.15182518004751,"d":"86.15"},{"v":202.57680162511096,"d":"202.6"},{"$error":"#DIV/0!"},183,{"v":13343.734426240075,"d":"13344"}]
[0.155,{"v":80.09797164390724,"d":"80.098"},{"v":2.579307396554153,"d":"2.579"},{"v":0.39979264646589374,"d":"0.400"},{"v":86.27933646869086,"d":"86.28"},{"v":200.34878668219923,"d":"200.3"},{"$error":"#DIV/0!"},167,{"v":13376.36126453251,"d":"13376"}]
[{"v":0.17,"d":"0.170"},{"v":87.24680028090394,"d":"87.247"},{"v":2.58754431824159,"d":"2.588"},{"v":0.4398825341010703,"d":"0.440"},{"v":86.40762410912342,"d":"86.41"},{"v":198.3411331827454,"d":"198.3"},{"$error":"#DIV/0!"},153,{"v":13348.760442978302,"d":"13349"}]
[0.185,{"v":94.36321511335089,"d":"94.363"},{"v":2.595749238199293,"d":"2.596"},{"v":0.48021360906686916,"d":"0.480"},{"v":86.53668354901399,"d":"86.54"},{"v":196.50258412441394,"d":"196.5"},{"$error":"#DIV/0!"},142,{"v":13399.576546095826,"d":"13400"}]
[{"v":0.2,"d":"0.200"},{"v":101.44736311004205,"d":"101.447"},{"v":2.603922280758989,"d":"2.604"},{"v":0.5207844561517978,"d":"0.521"},{"v":86.66651025968575,"d":"86.67"},{"v":194.79721775811268,"d":"194.8"},{"$error":"#DIV/0!"},132,{"v":13391.051930525551,"d":"13391"}]
[0.215,{"v":108.49939057339472,"d":"108.499"},{"v":2.6120635697693575,"d":"2.612"},{"v":0.5615936675004118,"d":"0.562"},{"v":86.79709973600131,"d":"86.80"},{"v":193.19909901461835,"d":"193.2"},{"$error":"#DIV/0!"},123,{"v":13345.42504052755,"d":"13345"}]
[{"v":0.23,"d":"0.230"},{"v":115.51944314246934,"d":"115.519"},{"v":2.620173228597908,"d":"2.620"},{"v":0.6026398425775189,"d":"0.603"},{"v":86.92844749624805,"d":"86.93"},{"v":191.68902382621644,"d":"191.7"},{"$error":"#DIV/0!"},116,{"v":13400.255404526444,"d":"13400"}]
[0.245,{"v":122.50766579597908,"d":"122.508"},{"v":2.6282513801328458,"d":"2.628"},{"v":0.6439215881325472,"d":"0.644"},{"v":87.06054908202415,"d":"87.06"},{"v":190.25245938914173,"d":"190.3"},{"$error":"#DIV/0!"},109,{"v":13353.33557176172,"d":"13353"}]
[{"v":0.26,"d":"0.260"},{"v":129.46420285528237,"d":"129.464"},{"v":2.6362981467849367,"d":"2.636"},{"v":0.6854375181640836,"d":"0.685"},{"v":87.19340005812506,"d":"87.19"},{"v":188.87819739142228,"d":"188.9"},{"$error":"#DIV/0!"},103,{"v":13334.812894094084,"d":"13335"}]
[0.275,{"v":136.38919798736453,"d":"136.389"},{"v":2.6443136504893627,"d":"2.644"},{"v":0.7271862538845748,"d":"0.727"},{"v":87.32699601243064,"d":"87.33"},{"v":187.55744798362673,"d":"187.6"},{"$error":"#DIV/0!"},98,{"v":13366.141402761723,"d":"13366"}]
[{"v":0.29,"d":"0.290"},{"v":143.28279420780441,"d":"143.283"},{"v":2.6522980127075675,"d":"2.652"},{"v":0.7691664236851945,"d":"0.769"},{"v":87.46133255579262,"d":"87.46"},{"v":186.28321491376929,"d":"186.3"},{"$error":"#DIV/0!"},94,{"v":13468.582655533615,"d":"13469"}]
[0.305,{"v":150.14513388372697,"d":"150.145"},{"v":2.660251354429098,"d":"2.660"},{"v":0.811376663100875,"d":"0.811"},{"v":87.5964053219228,"d":"87.60"},{"v":185.04985503269285,"d":"185.0"},{"$error":"#DIV/0!"},89,{"v":13362.9169156517,"d":"13363"}]
[{"v":0.32,"d":"0.320"},{"v":156.9763587367461,"d":"156.976"},{"v":2.6681737961734386,"d":"2.668"},{"v":0.8538156147755004,"d":"0.854"},{"v":87.7322099672816,"d":"87.73"},{"v":183.85276167386675,"d":"183.9"},{"$error":"#DIV/0!"},85,{"v":13342.99049262342,"d":"13343"}]
[0.335,{"v":163.7766098458879,"d":"163.777"},{"v":2.676065457991836,"d":"2.676"},{"v":0.896481928427265,"d":"0.896"},{"v":87.86874217096725,"d":"87.87"},{"v":182.68813308173193,"d":"182.7"},{"$error":"#DIV/0!"},82,{"v":13429.682007362808,"d":"13430"}]
[{"v":0.35,"d":"0.350"},{"v":170.54602765050754,"d":"170.546"},{"v":2.6839264594691192,"d":"2.684"},{"v":0.9393742608141916,"d":"0.939"},{"v":88.00599763460541,"d":"88.01"},{"v":181.55280037446286,"d":"181.6"},{"$error":"#DIV/0!"},79,{"v":13473.136184390096,"d":"13473"}]
[0.365,{"v":177.28475195318742,"d":"177.285"},{"v":2.6917569197255107,"d":"2.692"},{"v":0.9824912756998114,"d":"0.982"},{"v":88.1439720822394,"d":"88.14"},{"v":180.44409791518055,"d":"180.4"},{"$error":"#DIV/0!"},76,{"v":13473.641148442244,"d":"13474"}]
[{"v":0.38,"d":"0.380"},{"v":183.99292192262553,"d":"183.993"},{"v":2.699556957418434,"d":"2.700"},{"v":1.025831643819005,"d":"1.026"},{"v":88.28266126022082,"d":"88.28"},{"v":179.35976437385935,"d":"179.4"},{"$error":"#DIV/0!"},73,{"v":13431.483300351663,"d":"13431"}]
[0.395,{"v":190.67067609650903,"d":"190.671"},{"v":2.7073266907443085,"d":"2.707"},{"v":1.0693940428440019,"d":"1.069"},{"v":88.42206093710081,"d":"88.42"},{"v":178.29786632196826,"d":"178.3"},{"$error":"#DIV/0!"},70,{"v":13346.947326755631,"d":"13347"}]
[{"v":0.41,"d":"0.410"},{"v":197.318152384376,"d":"197.318"},{"v":2.7150662374403423,"d":"2.715"},{"v":1.1131771573505402,"d":"1.113"},{"v":88.56216690352173,"d":"88.56"},{"v":177.25673858957956,"d":"177.3"},{"$error":"#DIV/0!"},68,{"v":13417.634362137567,"d":"13418"}]
[0.425,{"v":203.93548807046213,"d":"203.935"},{"v":2.7227757147863167,"d":"2.723"},{"v":1.1571796787841846,"d":"1.157"},{"v":88.70297497210939,"d":"88.70"},{"v":176.23493724391295,"d":"176.2"},{"$error":"#DIV/0!"},66,{"v":13459.7422126505,"d":"13460"}]
[{"v":0.44,"d":"0.440"},{"v":210.52281981653775,"d":"210.523"},{"v":2.7304552396063615,"d":"2.730"},{"v":1.201400305426799,"d":"1.201"},{"v":88.84448097736576,"d":"88.84"},{"v":175.23120217765322,"d":"175.2"},{"$error":"#DIV/0!"},64,{"v":13473.460468258416,"d":"13473"}]
[0.455,{"v":217.08028366472914,"d":"217.080"},{"v":2.7381049282707277,"d":"2.738"},{"v":1.2458377423631812,"d":"1.246"},{"v":88.98668077556218,"d":"88.99"},{"v":174.2444270896449,"d":"174.2"},{"$error":"#DIV/0!"},62,{"v":13458.977587213207,"d":"13459"}]
[{"v":0.47,"d":"0.470"},{"v":223.6080150403277,"d":"223.608"},{"v":2.7457248966975487,"d":"2.746"},{"v":1.2904907014478477,"d":"1.290"},{"v":89.12957024463311,"d":"89.13"},{"v":173.27363520671156,"d":"173.3"},{"$error":"#DIV/0!"},60,{"v":13416.480902419662,"d":"13416"}]
[0.485,{"v":230.106148754588,"d":"230.106"},{"v":2.753315260354599,"d":"2.753"},{"v":1.3353579012719805,"d":"1.335"},{"v":89.27314528407034,"d":"89.27"},{"v":172.31795950389247,"d":"172.3"},{"$error":"#DIV/0!"},58,{"v":13346.156627766104,"d":"13346"}]
[{"v":0.5,"d":"0.500"},{"v":236.57481900751102,"d":"236.575"},{"v":2.7608761342610406,"d":"2.761"},{"v":1.3804380671305203,"d":"1.380"},{"v":89.41740181481767,"d":"89.42"},{"v":171.37662647863135,"d":"171.4"},{"$error":"#DIV/0!"},57,{"v":13484.764683428128,"d":"13485"}]
[0.515,{"v":243.01415939061582,"d":"243.014"},{"v":2.7684076329891703,"d":"2.768"},{"v":1.4257299309894227,"d":"1.426"},{"v":89.56233577916615,"d":"89.56"},{"v":170.44894275451577,"d":"170.4"},{"$error":"#DIV/0!"},55,{"v":13365.77876648387,"d":"13366"}]
[{"v":0.53,"d":"0.530"},{"$f":"IFERROR(A$5*(led2FTA1*EXP(-$A$8/led2FTt1)+led2FTy0)*(led2FCA1*EXP(-$A47*1000/led2FCt1)+led2FCy0),NA())","v":{"v":249.42430288969837,"d":"249.424"}},{"$f":"IFERROR(B$5*(led2VTA1*EXP(-$A$8/led2VTt1)+led2VTy0)*(led2VCA1*EXP(-$A47*1000/led2VCt1)+led2VCy0),NA())","v":{"v":2.775909870666153,"d":"2.776"}},{"v":1.471232231453061,"d":"1.471"},{"v":89.70794314064979,"d":"89.71"},{"v":169.5342839541754,"d":"169.5"},{"$f":"B47/$D$8","v":{"$error":"#DIV/0!"}},{"$f":"ROUNDUP($E$8/B47,0)","v":54},{"v":13468.912356043711,"d":"13469"}]
[0.545,{"v":255.80538188757825,"d":"255.805"},{"v":2.7833829609757506,"d":"2.783"},{"v":1.5169437137317843,"d":"1.517"},{"v":89.85421988394171,"d":"89.85"},{"v":168.632085404329,"d":"168.6"},{"$error":"#DIV/0!"},53,{"v":13557.685240041646,"d":"13558"}]
[{"v":0.56,"d":"0.560"},{"v":262.15752816683323,"d":"262.158"},{"v":2.790827017160047,"d":"2.791"},{"v":1.5628631296096265,"d":"1.563"},{"v":90.0011620147508,"d":"90.00"},{"v":167.74183432960965,"d":"167.7"},{"$error":"#DIV/0!"},51,{"v":13370.033936508495,"d":"13370"}]
[0.575,{"v":268.4808729125187,"d":"268.481"},{"v":2.7982421520211624,"d":"2.798"},{"v":1.6089892374121684,"d":"1.609"},{"v":90.14876555971894,"d":"90.15"},{"v":166.86306326345115,"d":"166.9"},{"$error":"#DIV/0!"},50,{"v":13424.043645625934,"d":"13424"}]
[{"v":0.59,"d":"0.590"},{"v":274.7755467148796,"d":"274.776"},{"v":2.8056284779229634,"d":"2.806"},{"v":1.6553208019745485,"d":"1.655"},{"v":90.29702656631855,"d":"90.30"},{"v":165.99534445958378,"d":"166.0"},{"$error":"#DIV/0!"},49,{"v":13464.001789029102,"d":"13464"}]
[0.605,{"v":281.041679572046,"d":"281.042"},{"v":2.8129861067927653,"d":"2.813"},{"v":1.701856594609623,"d":"1.702"},{"v":90.4459411027508,"d":"90.45"},{"v":165.13828513060596,"d":"165.1"},{"$error":"#DIV/0!"},48,{"v":13490.00061945821,"d":"13490"}]
[{"v":0.62,"d":"0.620"},{"v":287.27940089271704,"d":"287.279"},{"v":2.8203151501230277,"d":"2.820"},{"v":1.7485953930762772,"d":"1.749"},{"v":90.59550525784408,"d":"90.60"},{"v":164.29152337368953,"d":"164.3"},{"$error":"#DIV/0!"},47,{"v":13502.1318419577,"d":"13502"}]
[0.635,{"v":293.4888394988356,"d":"293.489"},{"v":2.8276157189730453,"d":"2.828"},{"v":1.7955359815478837,"d":"1.796"},{"v":90.74571514095322,"d":"90.75"},{"v":163.45472466991538,"d":"163.5"},{"$error":"#DIV/0!"},46,{"v":13500.486616946439,"d":"13500"}]
[{"v":0.65,"d":"0.650"},{"v":299.67012362824727,"d":"299.670"},{"v":2.8348879239706295,"d":"2.835"},{"v":1.8426771505809092,"d":"1.843"},{"v":90.89656688185892,"d":"90.90"},{"v":162.6275788646836,"d":"162.6"},{"$error":"#DIV/0!"},45,{"v":13485.155563271128,"d":"13485"}]
[0.665,{"v":305.82338093734836,"d":"305.823"},{"v":2.8421318753137856,"d":"2.842"},{"v":1.8900176970836675,"d":"1.890"},{"v":91.04805663066773,"d":"91.05"},{"v":161.80979755334542,"d":"161.8"},{"$error":"#DIV/0!"},44,{"v":13456.228761243328,"d":"13456"}]
[{"v":0.68,"d":"0.680"},{"v":311.94873850372386,"d":"311.949"},{"v":2.8493476827723825,"d":"2.849"},{"v":1.9375564242852201,"d":"1.938"},{"v":91.2001805577127,"d":"91.20"},{"v":161.0011118095847,"d":"161.0"},{"$error":"#DIV/0!"},43,{"v":13413.795755660127,"d":"13414"}]
[0.695,{"v":318.04632282877026,"d":"318.046"},{"v":2.8565354556898166,"d":"2.857"},{"v":1.9852921417044225,"d":"1.985"},{"v":91.35293485345416,"d":"91.35"},{"v":160.20127020485742,"d":"160.2"},{"$error":"#DIV/0!"},42,{"v":13357.945558808351,"d":"13358"}]
[{"v":0.71,"d":"0.710"},{"v":324.1162598403092,"d":"324.116"},{"v":2.8636953029846666,"d":"2.864"},{"v":2.033223665119113,"d":"2.033"},{"v":91.50631572838117,"d":"91.51"},{"v":159.41003707593646,"d":"159.4"},{"$error":"#DIV/0!"},42,{"v":13612.882913292988,"d":"13613"}]
[0.725,{"v":330.15867489518723,"d":"330.159"},{"v":2.870827333152346,"d":"2.871"},{"v":2.0813498165354507,"d":"2.081"},{"v":91.66031941291344,"d":"91.66"},{"v":158.62719100471008,"d":"158.6"},{"$error":"#DIV/0!"},41,{"v":13536.505670702676,"d":"13537"}]
[{"v":0.74,"d":"0.740"},{"v":336.1736927818656,"d":"336.174"},{"v":2.8779316542667477,"d":"2.878"},{"v":2.1296694241573935,"d":"2.130"},{"v":91.81494215730366,"d":"91.81"},{"v":157.8525234801984,"d":"157.9"},{"$error":"#DIV/0!"},40,{"v":13446.947711274624,"d":"13447"}]
[0.755,{"v":342.1614377229967,"d":"342.161"},{"v":2.8850083739818793,"d":"2.885"},{"v":2.178181322356319,"d":"2.178"},{"v":91.97018023154023,"d":"91.97"},{"v":157.0858377175195,"d":"157.1"},{"$error":"#DIV/0!"},39,{"v":13344.296071196872,"d":"13344"}]
[{"v":0.77,"d":"0.770"},{"v":348.12203337798996,"d":"348.122"},{"v":2.8920575995334965,"d":"2.892"},{"v":2.2268843516407926,"d":"2.227"},{"v":92.12602992525053,"d":"92.13"},{"v":156.32694761247475,"d":"156.3"},{"$error":"#DIV/0!"},39,{"v":13576.75930174161,"d":"13577"}]
[0.785,{"v":354.0556028455654,"d":"354.056"},{"v":2.8990794377407276,"d":"2.899"},{"v":2.2757773586264713,"d":"2.276"},{"v":92.2824875476047,"d":"92.28"},{"v":155.57567681368138,"d":"155.6"},{"$error":"#DIV/0!"},38,{"v":13454.112908131485,"d":"13454"}]
[{"v":0.8,"d":"0.800"},{"v":359.9622686662956,"d":"359.962"},{"v":2.9060739950076893,"d":"2.906"},{"v":2.3248591960061513,"d":"2.325"},{"v":92.43954942721969,"d":"92.44"},{"v":154.8318578968871,"d":"154.8"},{"$error":"#DIV/0!"},38,{"v":13678.566209319233,"d":"13679"}]
[0.815,{"v":365.8421528251375,"d":"365.842"},{"v":2.9130413773251056,"d":"2.913"},{"v":2.374128722519961,"d":"2.374"},{"v":92.59721191206387,"d":"92.60"},{"v":154.09533162836397,"d":"154.1"},{"$error":"#DIV/0!"},37,{"v":13536.159654530087,"d":"13536"}]
[{"v":0.83,"d":"0.830"},{"v":371.69537675394986,"d":"371.695"},{"v":2.919981690271907,"d":"2.920"},{"v":2.423584802925683,"d":"2.424"},{"v":92.75547136936218,"d":"92.76"},{"v":153.36594630617,"d":"153.4"},{"$error":"#DIV/0!"},36,{"v":13381.033563142195,"d":"13381"}]
[0.845,{"v":377.5220613340035,"d":"377.522"},{"v":2.926895039016836,"d":"2.927"},{"v":2.4732263079692265,"d":"2.473"},{"v":92.91432418550153,"d":"92.91"},{"v":152.6435571696583,"d":"152.6"},{"$error":"#DIV/0!"},36,{"v":13590.794208024126,"d":"13591"}]
[{"v":0.86,"d":"0.860"},{"v":383.32232689847547,"d":"383.322"},{"v":2.9337815283200346,"d":"2.934"},{"v":2.5230521143552296,"d":"2.523"},{"v":93.07376676593674,"d":"93.07"},{"v":151.92802586895203,"d":"151.9"},{"$error":"#DIV/0!"},35,{"v":13416.281441446641,"d":"13416"}]
[0.875,{"v":389.09629323493505,"d":"389.096"},{"v":2.9406412625346383,"d":"2.941"},{"v":2.5730611047178087,"d":"2.573"},{"v":93.23379553509699,"d":"93.23"},{"v":151.21921998724076,"d":"151.2"},{"$error":"#DIV/0!"},35,{"v":13618.370263222727,"d":"13618"}]
[{"v":0.89,"d":"0.890"},{"v":394.84407958781804,"d":"394.844"},{"v":2.9474743456083528,"d":"2.947"},{"v":2.623252167591434,"d":"2.623"},{"v":93.39440693629258,"d":"93.39"},{"v":150.51701260971348,"d":"150.5"},{"$error":"#DIV/0!"},34,{"v":13424.698705985813,"d":"13425"}]
[0.905,{"v":400.56580466088917,"d":"400.566"},{"v":2.9542808810850296,"d":"2.954"},{"v":2.673624197381952,"d":"2.674"},{"v":93.55559743162225,"d":"93.56"},{"v":149.82128193376187,"d":"149.8"},{"$error":"#DIV/0!"},34,{"v":13619.237358470233,"d":"13619"}]
[{"v":0.92,"d":"0.920"},{"v":406.2615866196929,"d":"406.262"},{"v":2.96106097210624,"d":"2.961"},{"v":2.724176094337741,"d":"2.724"},{"v":93.71736350188077,"d":"93.72"},{"v":149.1319109157871,"d":"149.1"},{"$error":"#DIV/0!"},33,{"v":13406.632358449864,"d":"13407"}]
[0.935,{"v":411.9315430939946,"d":"411.932"},{"v":2.967814721412831,"d":"2.968"},{"v":2.7749067645209973,"d":"2.775"},{"v":93.8797016464672,"d":"93.88"},{"v":148.44878695054175,"d":"148.4"},{"$error":"#DIV/0!"},33,{"v":13593.740922101822,"d":"13594"}]
[{"v":0.95,"d":"0.950"},{"v":417.57579118020976,"d":"417.576"},{"v":2.974542231346484,"d":"2.975"},{"v":2.82581511977916,"d":"2.826"},{"v":94.04260838329331,"d":"94.04"},{"v":147.77180157944787,"d":"147.8"},{"$error":"#DIV/0!"},32,{"v":13362.425317766712,"d":"13362"}]
[0.965,{"v":423.1944474438218,"d":"423.194"},{"v":2.981243603851272,"d":"2.981"},{"v":2.8769000777164777,"d":"2.877"},{"v":94.20608024869273,"d":"94.21"},{"v":147.1008502247773,"d":"147.1"},{"$error":"#DIV/0!"},32,{"v":13542.222318202297,"d":"13542"}]
[{"v":0.98,"d":"0.980"},{"v":428.7876279217898,"d":"428.788"},{"v":2.9879189404751942,"d":"2.988"},{"v":2.9281605616656905,"d":"2.928"},{"v":94.3701137973302,"d":"94.37"},{"v":146.4358319469589,"d":"146.4"},{"$error":"#DIV/0!"},32,{"v":13721.204093497274,"d":"13721"}]
[0.995,{"v":434.3554481249448,"d":"434.355"},{"v":2.9945683423717235,"d":"2.995"},{"v":2.979595500659865,"d":"2.980"},{"v":94.53470560211157,"d":"94.53"},{"v":145.77664922260485,"d":"145.8"},{"$error":"#DIV/0!"},31,{"v":13465.01889187329,"d":"13465"}]
[{"v":1.01,"d":"1.010"},{"$f":"IFERROR(A$5*(led2FTA1*EXP(-$A$8/led2FTt1)+led2FTy0)*(led2FCA1*EXP(-$A79*1000/led2FCt1)+led2FCy0),NA())","v":{"v":439.8980230403751,"d":"439.898"}},{"$f":"IFERROR(B$5*(led2VTA1*EXP(-$A$8/led2VTt1)+led2VTy0)*(led2VCA1*EXP(-$A79*1000/led2VCt1)+led2VCy0),NA())","v":{"v":3.001191910301334,"d":"3.001"}},{"$f":"C79*A79","v":{"v":3.031203829404347,"d":"3.031"}},{"$f":"$A$8+D79*$B$8","v":{"v":94.69985225409391,"d":"94.70"}},{"$f":"B79/D79","v":{"v":145.12320774113635,"d":"145.1"}},{"$f":"B79/$D$8","v":{"$error":"#DIV/0!"}},{"$f":"ROUNDUP($E$8/B79,0)","v":31},{"$f":"H79*B79","v":{"v":13636.838714251628,"d":"13637"}}]
[{"$f":"IF(OR(ROUND(A79+$A$11,3)>$B$11,ROUND(A79+$A$11,3)>$C$11),NA(),ROUND(A79+$A$11,3))","v":1.025},{"v":445.4154671338017,"d":"445.415"},{"v":3.0077897446330284,"d":"3.008"},{"v":3.082984488248854,"d":"3.083"},{"v":94.86555036239633,"d":"94.87"},{"v":144.47541621813326,"d":"144.5"},{"$error":"#DIV/0!"},30,{"v":13362.464014014051,"d":"13362"}]
[{"v":1.04,"d":"1.040"},{"v":450.9078943519415,"d":"450.908"},{"v":3.014361945345863,"d":"3.014"},{"v":3.1349364231596977,"d":"3.135"},{"v":95.03179655411103,"d":"95.03"},{"v":143.8331862237487,"d":"143.8"},{"$error":"#DIV/0!"},30,{"v":13527.236830558244,"d":"13527"}]
[1.055,{"v":456.37541812486035,"d":"456.375"},{"v":3.020908612030459,"d":"3.021"},{"v":3.1870585856921343,"d":"3.187"},{"v":95.19858747421483,"d":"95.20"},{"v":143.19643202471886,"d":"143.2"},{"$error":"#DIV/0!"},30,{"v":13691.26254374581,"d":"13691"}]
[{"v":1.07,"d":"1.070"},{"v":461.8181513683167,"d":"461.818"},{"v":3.0274298438905096,"d":"3.027"},{"v":3.2393499329628455,"d":"3.239"},{"v":95.36591978548111,"d":"95.37"},{"v":142.56507043866003,"d":"142.6"},{"$error":"#DIV/0!"},29,{"v":13392.726389681184,"d":"13393"}]
[1.085,{"v":467.23620648609295,"d":"467.236"},{"v":3.0339257397442916,"d":"3.034"},{"v":3.2918094276225562,"d":"3.292"},{"v":95.53379016839219,"d":"95.53"},{"v":141.9390206994896,"d":"141.9"},{"$error":"#DIV/0!"},29,{"v":13549.849988096696,"d":"13550"}]
[{"v":1.1,"d":"1.100"},{"v":472.6296953723161,"d":"472.630"},{"v":3.0403963980261506,"d":"3.040"},{"v":3.344436037828766,"d":"3.344"},{"v":95.70219532105205,"d":"95.70"},{"v":141.31820433293473,"d":"141.3"},{"$error":"#DIV/0!"},29,{"v":13706.261165797168,"d":"13706"}]
[1.115,{"v":477.9987294137699,"d":"477.999"},{"v":3.046841916788005,"d":"3.047"},{"v":3.397228737218626,"d":"3.397"},{"v":95.8711319590996,"d":"95.87"},{"v":140.70254504120211,"d":"140.7"},{"$error":"#DIV/0!"},28,{"v":13383.964423585558,"d":"13384"}]
[{"v":1.13,"d":"1.130"},{"v":483.34341949219464,"d":"483.343"},{"v":3.0532623937008245,"d":"3.053"},{"v":3.4501865048819313,"d":"3.450"},{"v":96.04059681562218,"d":"96.04"},{"v":140.09196859598032,"d":"140.1"},{"$error":"#DIV/0!"},28,{"v":13533.61574578145,"d":"13534"}]
[1.145,{"v":488.66387598657644,"d":"488.664"},{"v":3.0596579260561105,"d":"3.060"},{"v":3.5033083253342467,"d":"3.503"},{"v":96.2105866410696,"d":"96.21"},{"v":139.486402739032,"d":"139.5"},{"$error":"#DIV/0!"},28,{"v":13682.58852762414,"d":"13683"}]
[{"v":1.16,"d":"1.160"},{"v":493.9602087754279,"d":"493.960"},{"v":3.066028610767373,"d":"3.066"},{"v":3.5565931884901523,"d":"3.557"},{"v":96.38109820316849,"d":"96.38"},{"v":138.885777089711,"d":"138.9"},{"$error":"#DIV/0!"},27,{"v":13336.925636936552,"d":"13337"}]
[1.175,{"v":499.2325272390568,"d":"499.233"},{"v":3.0723745443715957,"d":"3.072"},{"v":3.610040089636625,"d":"3.610"},{"v":96.5521282868372,"d":"96.55"},{"v":138.2900230588043,"d":"138.3"},{"$error":"#DIV/0!"},27,{"v":13479.278235454534,"d":"13479"}]
[{"v":1.19,"d":"1.190"},{"v":504.480940261825,"d":"504.481"},{"v":3.078695823030704,"d":"3.079"},{"v":3.663648029406538,"d":"3.664"},{"v":96.72367369410092,"d":"96.72"},{"v":137.69907376816005,"d":"137.7"},{"$error":"#DIV/0!"},27,{"v":13620.985387069275,"d":"13621"}]
[1.205,{"v":509.70555623439714,"d":"509.706"},{"v":3.084992542533019,"d":"3.085"},{"v":3.7174160137522883,"d":"3.717"},{"v":96.89573124400732,"d":"96.90"},{"v":137.1128639756168,"d":"137.1"},{"$error":"#DIV/0!"},27,{"v":13762.050018328722,"d":"13762"}]
[{"v":1.22,"d":"1.220"},{"v":514.9064830559793,"d":"514.906"},{"v":3.0912647982947057,"d":"3.091"},{"v":3.7713430539195407,"d":"3.771"},{"v":97.06829777254254,"d":"97.07"},{"v":136.53133000479474,"d":"136.5"},{"$error":"#DIV/0!"},26,{"v":13387.568559455462,"d":"13388"}]
[1.235,{"v":520.0838281365473,"d":"520.084"},{"v":3.0975126853612265,"d":"3.098"},{"v":3.825428166421115,"d":"3.825"},{"v":97.24137013254757,"d":"97.24"},{"v":135.95440967935164,"d":"136.0"},{"$error":"#DIV/0!"},26,{"v":13522.179531550228,"d":"13522"}]
[{"v":1.25,"d":"1.250"},{"v":525.2376983990645,"d":"525.238"},{"v":3.1037362984087755,"d":"3.104"},{"v":3.8796703730109696,"d":"3.880"},{"v":97.4149451936351,"d":"97.41"},{"v":135.38204226134636,"d":"135.4"},{"$error":"#DIV/0!"},26,{"v":13656.180158375677,"d":"13656"}]
[1.265,{"v":530.3682002816905,"d":"530.368"},{"v":3.109935731745714,"d":"3.110"},{"v":3.9340687006583277,"d":"3.934"},{"v":97.58901984210665,"d":"97.59"},{"v":134.8141683933833,"d":"134.8"},{"$error":"#DIV/0!"},26,{"v":13789.573207323954,"d":"13790"}]
[{"v":1.28,"d":"1.280"},{"v":535.4754397399796,"d":"535.475"},{"v":3.1161110793140017,"d":"3.116"},{"v":3.9886221815219223,"d":"3.989"},{"v":97.76359098087015,"d":"97.76"},{"v":134.2507300442431,"d":"134.3"},{"$error":"#DIV/0!"},25,{"v":13386.88599349949,"d":"13387"}]
[1.295,{"v":540.5595222490681,"d":"540.560"},{"v":3.1222624346906196,"d":"3.122"},{"v":4.043329852924352,"d":"4.043"},{"v":97.93865552935793,"d":"97.94"},{"v":133.6916704577309,"d":"133.7"},{"$error":"#DIV/0!"},25,{"v":13513.988056226703,"d":"13514"}]
[{"v":1.31,"d":"1.310"},{"v":545.6205528058531,"d":"545.621"},{"v":3.1283898910889865,"d":"3.128"},{"v":4.098190757326573,"d":"4.098"},{"v":98.11421042344503,"d":"98.11"},{"v":133.13693410449858,"d":"133.1"},{"$error":"#DIV/0!"},25,{"v":13640.513820146327,"d":"13641"}]
[1.325,{"v":550.6586359311611,"d":"550.659"},{"v":3.1344935413603725,"d":"3.134"},{"v":4.153203942302493,"d":"4.153"},{"v":98.29025261536798,"d":"98.29"},{"v":132.5864666366183,"d":"132.6"},{"$error":"#DIV/0!"},25,{"v":13766.465898279028,"d":"13766"}]
[{"v":1.34,"d":"1.340"},{"v":555.673875671906,"d":"555.674"},{"v":3.1405734779953067,"d":"3.141"},{"v":4.208368460513711,"d":"4.208"},{"v":98.46677907364388,"d":"98.47"},{"v":132.04021484470385,"d":"132.0"},{"$error":"#DIV/0!"},24,{"v":13336.173016125744,"d":"13336"}]
[1.355,{"v":560.6663756032384,"d":"560.666"},{"v":3.1466297931249776,"d":"3.147"},{"v":4.263683369684345,"d":"4.264"},{"v":98.6437867829899,"d":"98.64"},{"v":131.4981266173962,"d":"131.5"},{"$error":"#DIV/0!"},24,{"v":13455.99301447772,"d":"13456"}]
[{"v":1.37,"d":"1.370"},{"v":565.6362388306846,"d":"565.636"},{"v":3.1526625785226288,"d":"3.153"},{"v":4.319147732576002,"d":"4.319"},{"v":98.8212727442432,"d":"98.82"},{"v":130.96015090304195,"d":"131.0"},{"$error":"#DIV/0!"},24,{"v":13575.26973193643,"d":"13575"}]
[1.385,{"v":570.5835679922754,"d":"570.584"},{"v":3.1586719256049527,"d":"3.159"},{"v":4.37476061696286,"d":"4.375"},{"v":98.99923397428115,"d":"99.00"},{"v":130.42623767341087,"d":"130.4"},{"$error":"#DIV/0!"},24,{"v":13694.00563181461,"d":"13694"}]
[{"v":1.4,"d":"1.400"},{"v":575.5084652606664,"d":"575.508"},{"v":3.1646579254334712,"d":"3.165"},{"v":4.430521095606859,"d":"4.431"},{"v":99.17766750594195,"d":"99.18"},{"v":129.89633788931044,"d":"129.9"},{"$error":"#DIV/0!"},24,{"v":13812.203166255993,"d":"13812"}]
[1.415,{"v":580.4110323452481,"d":"580.411"},{"v":3.1706206687159195,"d":"3.171"},{"v":4.486428246233026,"d":"4.486"},{"v":99.35657038794568,"d":"99.36"},{"v":129.37040346796655,"d":"129.4"},{"$error":"#DIV/0!"},23,{"v":13349.453743940707,"d":"13349"}]
[{"v":1.43,"d":"1.430"},{"v":585.2913704942458,"d":"585.291"},{"v":3.1765602458076176,"d":"3.177"},{"v":4.542481151504893,"d":"4.542"},{"v":99.53593968481566,"d":"99.54"},{"v":128.8483872520512,"d":"128.8"},{"$error":"#DIV/0!"},23,{"v":13461.701521367653,"d":"13462"}]
[1.445,{"v":590.1495804968112,"d":"590.150"},{"v":3.182476746712843,"d":"3.182"},{"v":4.598678899000058,"d":"4.599"},{"v":99.71577247680018,"d":"99.72"},{"v":128.33024298024677,"d":"128.3"},{"$error":"#DIV/0!"},23,{"v":13573.440351426656,"d":"13573"}]
[{"v":1.46,"d":"1.460"},{"v":594.9857626851034,"d":"594.986"},{"v":3.1883702610861904,"d":"3.188"},{"v":4.655020581185838,"d":"4.655"},{"v":99.89606585979467,"d":"99.90"},{"v":127.81592525924654,"d":"127.8"},{"$error":"#DIV/0!"},23,{"v":13684.672541757378,"d":"13685"}]
[1.475,{"v":599.8000169363615,"d":"599.800"},{"v":3.1942408782339333,"d":"3.194"},{"v":4.711505295395052,"d":"4.712"},{"v":100.07681694526417,"d":"100.08"},{"v":127.30538953709681,"d":"127.3"},{"$error":"#DIV/0!"},23,{"v":13795.400389536315,"d":"13795"}]
[{"v":1.49,"d":"1.490"},{"$f":"IFERROR(A$5*(led2FTA1*EXP(-$A$8/led2FTt1)+led2FTy0)*(led2FCA1*EXP(-$A111*1000/led2FCt1)+led2FCy0),NA())","v":{"v":604.5924426749672,"d":"604.592"}},{"$f":"IFERROR(B$5*(led2VTA1*EXP(-$A$8/led2VTt1)+led2VTy0)*(led2VCA1*EXP(-$A111*1000/led2VCt1)+led2VCy0),NA())","v":{"v":3.2000886871153766,"d":"3.200"}},{"v":4.768132143801911,"d":"4.768"},{"v":100.25802286016612,"d":"100.26"},{"v":126.79859207779636,"d":"126.8"},{"$error":"#DIV/0!"},23,{"v":13905.626181524245,"d":"13906"}]
[{"$error":"#N/A"},{"$error":"#N/A"},{"$error":"#N/A"},{"$error":"#N/A"},{"$error":"#N/A"},{"$error":"#N/A"},{"$error":"#N/A"},{"$error":"#N/A"},{"$error":"#N/A"}]
[{"$error":"#N/A"},{"$error":"#N/A"},{"$error":"#N/A"},{"$error":"#N/A"},{"$error":"#N/A"},{"$error":"#N/A"},{"$error":"#N/A"},{"$error":"#N/A"},{"$error":"#N/A"}]
[{"$error":"#N/A"},{"$error":"#N/A"},{"$error":"#N/A"},{"$error":"#N/A"},{"$error":"#N/A"},{"$error":"#N/A"},{"$error":"#N/A"},{"$error":"#N/A"},{"$error":"#N/A"}]

{"sheet":"LED #3","index":6,"n_rows":114,"n_cols":14,"rows_kept":114,"hidden":true,"merged":[[1,0,1,1],[2,6,2,13],[3,6,3,9],[3,10,3,13],[7,6,7,13],[8,6,8,9],[8,10,8,13]]}
[]
[{"$f":"IF(Table!N7=\"\",NA(),Table!N7)","v":{"$error":"#N/A"}},{"$nulls":5},7,{"$f":"G2+1","v":8},9,10,11,12,13,14]
[{"$nulls":6},"@Current"]
["Flux","VF",{"$nulls":4},"Relative Flux (FC)",{"$nulls":3},"Relative VF (VC)"]
[{"$f":"Table!M15","v":{"$error":"#N/A"}},{"$f":"Table!O15","v":""},{"$nulls":4},"y0","A1","t1","R2","y0","A1","t1","R2"]
[{"$nulls":6},{"$f":"VLOOKUP($A$2,Parameter!$A:$W,G$2,0)","v":{"$error":"#N/A"}},{"$f":"VLOOKUP($A$2,Parameter!$A:$W,H$2,0)","v":{"$error":"#N/A"}},{"$f":"VLOOKUP($A$2,Parameter!$A:$W,I$2,0)","v":{"$error":"#N/A"}},{"$f":"VLOOKUP($A$2,Parameter!$A:$W,J$2,0)","v":{"$error":"#N/A"}},{"$f":"VLOOKUP($A$2,Parameter!$A:$W,K$2,0)","v":{"$error":"#N/A"}},{"$f":"VLOOKUP($A$2,Parameter!$A:$W,L$2,0)","v":{"$error":"#N/A"}},{"$f":"VLOOKUP($A$2,Parameter!$A:$W,M$2,0)","v":{"$error":"#N/A"}},{"$f":"VLOOKUP($A$2,Parameter!$A:$W,N$2,0)","v":{"$error":"#N/A"}}]
["Ta/Tc [℃]","Rth","IOPPR. [mA]","Price [$]","Req.Flux",null,{"$f":"N2+1","v":15},{"$f":"G7+1","v":16},17,18,19,20,21,22]
[{"$f":"Table!N18","v":{"v":85,"d":"85.0"}},{"$f":"Table!N10","v":""},{"$f":"Table!N20","v":1000},{"$f":"Table!N22","v":"."},{"$f":"Table!$F$4","v":{"v":13333.333333333332,"d":"13,333"}},null,"@Temperature"]
[{"$nulls":6},"Relative Flux (FT)",{"$nulls":3},"Relative VF (VT)"]
["I. Interval","I. Range max","I. max",{"$nulls":3},"y0","A1","t1","R2","y0","A1","t1","R2"]
[{"$f":"Table!$J$4","v":0.015},{"$f":"Table!$I$4","v":{"v":1.5,"d":"1.500"}},{"$f":"Table!P10/1000","v":{"$error":"#VALUE!"}},{"$nulls":3},{"$f":"VLOOKUP($A$2,Parameter!$A:$W,G7,0)","v":{"$error":"#N/A"}},{"$f":"VLOOKUP($A$2,Parameter!$A:$W,H7,0)","v":{"$error":"#N/A"}},{"$f":"VLOOKUP($A$2,Parameter!$A:$W,I7,0)","v":{"$error":"#N/A"}},{"$f":"VLOOKUP($A$2,Parameter!$A:$W,J7,0)","v":{"$error":"#N/A"}},{"$f":"VLOOKUP($A$2,Parameter!$A:$W,K7,0)","v":{"$error":"#N/A"}},{"$f":"VLOOKUP($A$2,Parameter!$A:$W,L7,0)","v":{"$error":"#N/A"}},{"$f":"VLOOKUP($A$2,Parameter!$A:$W,M7,0)","v":{"$error":"#N/A"}},{"$f":"VLOOKUP($A$2,Parameter!$A:$W,N7,0)","v":{"$error":"#N/A"}}]
[]
[]
["IF","Flux","VF","PD","TJ","lm/W","lm/$","# LEDs","Tot.lm"]
[{"$f":"IF(A2=\"\",NA(),Table!$H$4)","v":{"$error":"#N/A"}},{"$f":"IFERROR(A$5*(led3FTA1*EXP(-$A$8/led3FTt1)+led3FTy0)*(led3FCA1*EXP(-$A15*1000/led3FCt1)+led3FCy0),NA())","v":{"$error":"#N/A"}},{"$f":"IFERROR(B$5*(led3VTA1*EXP(-$A$8/led3VTt1)+led3VTy0)*(led3VCA1*EXP(-$A15*1000/led3VCt1)+led3VCy0),NA())","v":{"$error":"#N/A"}},{"$f":"C15*A15","v":{"$error":"#N/A"}},{"$f":"$A$8+D15*$B$8","v":{"$error":"#N/A"}},{"$f":"B15/D15","v":{"$error":"#N/A"}},{"$f":"B15/$D$8","v":{"$error":"#N/A"}},{"$f":"ROUNDUP($E$8/B15,0)","v":{"$error":"#N/A"}},{"$f":"H15*B15","v":{"$error":"#N/A"}}]
[{"$f":"IF(OR(ROUND(A15+$A$11,3)>$B$11,ROUND(A15+$A$11,3)>$C$11),NA(),ROUND(A15+$A$11,3))","v":{"$error":"#N/A"}},{"$error":"#N/A"},{"$error":"#N/A"},{"$error":"#N/A"},{"$error":"#N/A"},{"$error":"#N/A"},{"$error":"#N/A"},{"$error":"#N/A"},{"$error":"#N/A"}]
[{"$error":"#N/A"},{"$error":"#N/A"},{"$error":"#N/A"},{"$error":"#N/A"},{"$error":"#N/A"},{"$error":"#N/A"},{"$error":"#N/A"},{"$error":"#N/A"},{"$error":"#N/A"}]
[{"$error":"#N/A"},{"$error":"#N/A"},{"$error":"#N/A"},{"$error":"#N/A"},{"$error":"#N/A"},{"$error":"#N/A"},{"$error":"#N/A"},{"$error":"#N/A"},{"$error":"#N/A"}]
[{"$error":"#N/A"},{"$error":"#N/A"},{"$error":"#N/A"},{"$error":"#N/A"},{"$error":"#N/A"},{"$error":"#N/A"},{"$error":"#N/A"},{"$error":"#N/A"},{"$error":"#N/A"}]
[{"$error":"#N/A"},{"$error":"#N/A"},{"$error":"#N/A"},{"$error":"#N/A"},{"$error":"#N/A"},{"$error":"#N/A"},{"$error":"#N/A"},{"$error":"#N/A"},{"$error":"#N/A"}]
[{"$error":"#N/A"},{"$error":"#N/A"},{"$error":"#N/A"},{"$error":"#N/A"},{"$error":"#N/A"},{"$error":"#N/A"},{"$error":"#N/A"},{"$error":"#N/A"},{"$error":"#N/A"}]
[{"$error":"#N/A"},{"$error":"#N/A"},{"$error":"#N/A"},{"$error":"#N/A"},{"$error":"#N/A"},{"$error":"#N/A"},{"$error":"#N/A"},{"$error":"#N/A"},{"$error":"#N/A"}]
[{"$error":"#N/A"},{"$error":"#N/A"},{"$error":"#N/A"},{"$error":"#N/A"},{"$error":"#N/A"},{"$error":"#N/A"},{"$error":"#N/A"},{"$error":"#N/A"},{"$error":"#N/A"}]
[{"$error":"#N/A"},{"$error":"#N/A"},{"$error":"#N/A"},{"$error":"#N/A"},{"$error":"#N/A"},{"$error":"#N/A"},{"$error":"#N/A"},{"$error":"#N/A"},{"$error":"#N/A"}]
[{"$error":"#N/A"},{"$error":"#N/A"},{"$error":"#N/A"},{"$error":"#N/A"},{"$error":"#N/A"},{"$error":"#N/A"},{"$error":"#N/A"},{"$error":"#N/A"},{"$error":"#N/A"}]
[{"$error":"#N/A"},{"$error":"#N/A"},{"$error":"#N/A"},{"$error":"#N/A"},{"$error":"#N/A"},{"$error":"#N/A"},{"$error":"#N/A"},{"$error":"#N/A"},{"$error":"#N/A"}]
[{"$error":"#N/A"},{"$error":"#N/A"},{"$error":"#N/A"},{"$error":"#N/A"},{"$error":"#N/A"},{"$error":"#N/A"},{"$error":"#N/A"},{"$error":"#N/A"},{"$error":"#N/A"}]
[{"$error":"#N/A"},{"$error":"#N/A"},{"$error":"#N/A"},{"$error":"#N/A"},{"$error":"#N/A"},{"$error":"#N/A"},{"$error":"#N/A"},{"$error":"#N/A"},{"$error":"#N/A"}]
[{"$error":"#N/A"},{"$error":"#N/A"},{"$error":"#N/A"},{"$error":"#N/A"},{"$error":"#N/A"},{"$error":"#N/A"},{"$error":"#N/A"},{"$error":"#N/A"},{"$error":"#N/A"}]
[{"$error":"#N/A"},{"$error":"#N/A"},{"$error":"#N/A"},{"$error":"#N/A"},{"$error":"#N/A"},{"$error":"#N/A"},{"$error":"#N/A"},{"$error":"#N/A"},{"$error":"#N/A"}]
[{"$error":"#N/A"},{"$error":"#N/A"},{"$error":"#N/A"},{"$error":"#N/A"},{"$error":"#N/A"},{"$error":"#N/A"},{"$error":"#N/A"},{"$error":"#N/A"},{"$error":"#N/A"}]
[{"$error":"#N/A"},{"$error":"#N/A"},{"$error":"#N/A"},{"$error":"#N/A"},{"$error":"#N/A"},{"$error":"#N/A"},{"$error":"#N/A"},{"$error":"#N/A"},{"$error":"#N/A"}]
[{"$error":"#N/A"},{"$error":"#N/A"},{"$error":"#N/A"},{"$error":"#N/A"},{"$error":"#N/A"},{"$error":"#N/A"},{"$error":"#N/A"},{"$error":"#N/A"},{"$error":"#N/A"}]
[{"$error":"#N/A"},{"$error":"#N/A"},{"$error":"#N/A"},{"$error":"#N/A"},{"$error":"#N/A"},{"$error":"#N/A"},{"$error":"#N/A"},{"$error":"#N/A"},{"$error":"#N/A"}]
[{"$error":"#N/A"},{"$error":"#N/A"},{"$error":"#N/A"},{"$error":"#N/A"},{"$error":"#N/A"},{"$error":"#N/A"},{"$error":"#N/A"},{"$error":"#N/A"},{"$error":"#N/A"}]
[{"$error":"#N/A"},{"$error":"#N/A"},{"$error":"#N/A"},{"$error":"#N/A"},{"$error":"#N/A"},{"$error":"#N/A"},{"$error":"#N/A"},{"$error":"#N/A"},{"$error":"#N/A"}]
[{"$error":"#N/A"},{"$error":"#N/A"},{"$error":"#N/A"},{"$error":"#N/A"},{"$error":"#N/A"},{"$error":"#N/A"},{"$error":"#N/A"},{"$error":"#N/A"},{"$error":"#N/A"}]
[{"$error":"#N/A"},{"$error":"#N/A"},{"$error":"#N/A"},{"$error":"#N/A"},{"$error":"#N/A"},{"$error":"#N/A"},{"$error":"#N/A"},{"$error":"#N/A"},{"$error":"#N/A"}]
[{"$error":"#N/A"},{"$error":"#N/A"},{"$error":"#N/A"},{"$error":"#N/A"},{"$error":"#N/A"},{"$error":"#N/A"},{"$error":"#N/A"},{"$error":"#N/A"},{"$error":"#N/A"}]
[{"$error":"#N/A"},{"$error":"#N/A"},{"$error":"#N/A"},{"$error":"#N/A"},{"$error":"#N/A"},{"$error":"#N/A"},{"$error":"#N/A"},{"$error":"#N/A"},{"$error":"#N/A"}]
[{"$error":"#N/A"},{"$error":"#N/A"},{"$error":"#N/A"},{"$error":"#N/A"},{"$error":"#N/A"},{"$error":"#N/A"},{"$error":"#N/A"},{"$error":"#N/A"},{"$error":"#N/A"}]
[{"$error":"#N/A"},{"$error":"#N/A"},{"$error":"#N/A"},{"$error":"#N/A"},{"$error":"#N/A"},{"$error":"#N/A"},{"$error":"#N/A"},{"$error":"#N/A"},{"$error":"#N/A"}]
[{"$error":"#N/A"},{"$error":"#N/A"},{"$error":"#N/A"},{"$error":"#N/A"},{"$error":"#N/A"},{"$error":"#N/A"},{"$error":"#N/A"},{"$error":"#N/A"},{"$error":"#N/A"}]
[{"$error":"#N/A"},{"$error":"#N/A"},{"$error":"#N/A"},{"$error":"#N/A"},{"$error":"#N/A"},{"$error":"#N/A"},{"$error":"#N/A"},{"$error":"#N/A"},{"$error":"#N/A"}]
[{"$error":"#N/A"},{"$error":"#N/A"},{"$error":"#N/A"},{"$error":"#N/A"},{"$error":"#N/A"},{"$error":"#N/A"},{"$error":"#N/A"},{"$error":"#N/A"},{"$error":"#N/A"}]
[{"$error":"#N/A"},{"$error":"#N/A"},{"$error":"#N/A"},{"$error":"#N/A"},{"$error":"#N/A"},{"$error":"#N/A"},{"$error":"#N/A"},{"$error":"#N/A"},{"$error":"#N/A"}]
[{"$error":"#N/A"},{"$f":"IFERROR(A$5*(led3FTA1*EXP(-$A$8/led3FTt1)+led3FTy0)*(led3FCA1*EXP(-$A47*1000/led3FCt1)+led3FCy0),NA())","v":{"$error":"#N/A"}},{"$f":"IFERROR(B$5*(led3VTA1*EXP(-$A$8/led3VTt1)+led3VTy0)*(led3VCA1*EXP(-$A47*1000/led3VCt1)+led3VCy0),NA())","v":{"$error":"#N/A"}},{"$error":"#N/A"},{"$error":"#N/A"},{"$error":"#N/A"},{"$error":"#N/A"},{"$f":"ROUNDUP($E$8/B47,0)","v":{"$error":"#N/A"}},{"$error":"#N/A"}]
[{"$error":"#N/A"},{"$error":"#N/A"},{"$error":"#N/A"},{"$error":"#N/A"},{"$error":"#N/A"},{"$error":"#N/A"},{"$error":"#N/A"},{"$error":"#N/A"},{"$error":"#N/A"}]
[{"$error":"#N/A"},{"$error":"#N/A"},{"$error":"#N/A"},{"$error":"#N/A"},{"$error":"#N/A"},{"$error":"#N/A"},{"$error":"#N/A"},{"$error":"#N/A"},{"$error":"#N/A"}]
[{"$error":"#N/A"},{"$error":"#N/A"},{"$error":"#N/A"},{"$error":"#N/A"},{"$error":"#N/A"},{"$error":"#N/A"},{"$error":"#N/A"},{"$error":"#N/A"},{"$error":"#N/A"}]
[{"$error":"#N/A"},{"$error":"#N/A"},{"$error":"#N/A"},{"$error":"#N/A"},{"$error":"#N/A"},{"$error":"#N/A"},{"$error":"#N/A"},{"$error":"#N/A"},{"$error":"#N/A"}]
[{"$error":"#N/A"},{"$error":"#N/A"},{"$error":"#N/A"},{"$error":"#N/A"},{"$error":"#N/A"},{"$error":"#N/A"},{"$error":"#N/A"},{"$error":"#N/A"},{"$error":"#N/A"}]
[{"$error":"#N/A"},{"$error":"#N/A"},{"$error":"#N/A"},{"$error":"#N/A"},{"$error":"#N/A"},{"$error":"#N/A"},{"$error":"#N/A"},{"$error":"#N/A"},{"$error":"#N/A"}]
[{"$error":"#N/A"},{"$error":"#N/A"},{"$error":"#N/A"},{"$error":"#N/A"},{"$error":"#N/A"},{"$error":"#N/A"},{"$error":"#N/A"},{"$error":"#N/A"},{"$error":"#N/A"}]
[{"$error":"#N/A"},{"$error":"#N/A"},{"$error":"#N/A"},{"$error":"#N/A"},{"$error":"#N/A"},{"$error":"#N/A"},{"$error":"#N/A"},{"$error":"#N/A"},{"$error":"#N/A"}]
[{"$error":"#N/A"},{"$error":"#N/A"},{"$error":"#N/A"},{"$error":"#N/A"},{"$error":"#N/A"},{"$error":"#N/A"},{"$error":"#N/A"},{"$error":"#N/A"},{"$error":"#N/A"}]
[{"$error":"#N/A"},{"$error":"#N/A"},{"$error":"#N/A"},{"$error":"#N/A"},{"$error":"#N/A"},{"$error":"#N/A"},{"$error":"#N/A"},{"$error":"#N/A"},{"$error":"#N/A"}]
[{"$error":"#N/A"},{"$error":"#N/A"},{"$error":"#N/A"},{"$error":"#N/A"},{"$error":"#N/A"},{"$error":"#N/A"},{"$error":"#N/A"},{"$error":"#N/A"},{"$error":"#N/A"}]
[{"$error":"#N/A"},{"$error":"#N/A"},{"$error":"#N/A"},{"$error":"#N/A"},{"$error":"#N/A"},{"$error":"#N/A"},{"$error":"#N/A"},{"$error":"#N/A"},{"$error":"#N/A"}]
[{"$error":"#N/A"},{"$error":"#N/A"},{"$error":"#N/A"},{"$error":"#N/A"},{"$error":"#N/A"},{"$error":"#N/A"},{"$error":"#N/A"},{"$error":"#N/A"},{"$error":"#N/A"}]
[{"$error":"#N/A"},{"$error":"#N/A"},{"$error":"#N/A"},{"$error":"#N/A"},{"$error":"#N/A"},{"$error":"#N/A"},{"$error":"#N/A"},{"$error":"#N/A"},{"$error":"#N/A"}]
[{"$error":"#N/A"},{"$error":"#N/A"},{"$error":"#N/A"},{"$error":"#N/A"},{"$error":"#N/A"},{"$error":"#N/A"},{"$error":"#N/A"},{"$error":"#N/A"},{"$error":"#N/A"}]
[{"$error":"#N/A"},{"$error":"#N/A"},{"$error":"#N/A"},{"$error":"#N/A"},{"$error":"#N/A"},{"$error":"#N/A"},{"$error":"#N/A"},{"$error":"#N/A"},{"$error":"#N/A"}]
[{"$error":"#N/A"},{"$error":"#N/A"},{"$error":"#N/A"},{"$error":"#N/A"},{"$error":"#N/A"},{"$error":"#N/A"},{"$error":"#N/A"},{"$error":"#N/A"},{"$error":"#N/A"}]
[{"$error":"#N/A"},{"$error":"#N/A"},{"$error":"#N/A"},{"$error":"#N/A"},{"$error":"#N/A"},{"$error":"#N/A"},{"$error":"#N/A"},{"$error":"#N/A"},{"$error":"#N/A"}]
[{"$error":"#N/A"},{"$error":"#N/A"},{"$error":"#N/A"},{"$error":"#N/A"},{"$error":"#N/A"},{"$error":"#N/A"},{"$error":"#N/A"},{"$error":"#N/A"},{"$error":"#N/A"}]
[{"$error":"#N/A"},{"$error":"#N/A"},{"$error":"#N/A"},{"$error":"#N/A"},{"$error":"#N/A"},{"$error":"#N/A"},{"$error":"#N/A"},{"$error":"#N/A"},{"$error":"#N/A"}]
[{"$error":"#N/A"},{"$error":"#N/A"},{"$error":"#N/A"},{"$error":"#N/A"},{"$error":"#N/A"},{"$error":"#N/A"},{"$error":"#N/A"},{"$error":"#N/A"},{"$error":"#N/A"}]
[{"$error":"#N/A"},{"$error":"#N/A"},{"$error":"#N/A"},{"$error":"#N/A"},{"$error":"#N/A"},{"$error":"#N/A"},{"$error":"#N/A"},{"$error":"#N/A"},{"$error":"#N/A"}]
[{"$error":"#N/A"},{"$error":"#N/A"},{"$error":"#N/A"},{"$error":"#N/A"},{"$error":"#N/A"},{"$error":"#N/A"},{"$error":"#N/A"},{"$error":"#N/A"},{"$error":"#N/A"}]
[{"$error":"#N/A"},{"$error":"#N/A"},{"$error":"#N/A"},{"$error":"#N/A"},{"$error":"#N/A"},{"$error":"#N/A"},{"$error":"#N/A"},{"$error":"#N/A"},{"$error":"#N/A"}]
[{"$error":"#N/A"},{"$error":"#N/A"},{"$error":"#N/A"},{"$error":"#N/A"},{"$error":"#N/A"},{"$error":"#N/A"},{"$error":"#N/A"},{"$error":"#N/A"},{"$error":"#N/A"}]
[{"$error":"#N/A"},{"$error":"#N/A"},{"$error":"#N/A"},{"$error":"#N/A"},{"$error":"#N/A"},{"$error":"#N/A"},{"$error":"#N/A"},{"$error":"#N/A"},{"$error":"#N/A"}]
[{"$error":"#N/A"},{"$error":"#N/A"},{"$error":"#N/A"},{"$error":"#N/A"},{"$error":"#N/A"},{"$error":"#N/A"},{"$error":"#N/A"},{"$error":"#N/A"},{"$error":"#N/A"}]
[{"$error":"#N/A"},{"$error":"#N/A"},{"$error":"#N/A"},{"$error":"#N/A"},{"$error":"#N/A"},{"$error":"#N/A"},{"$error":"#N/A"},{"$error":"#N/A"},{"$error":"#N/A"}]
[{"$error":"#N/A"},{"$error":"#N/A"},{"$error":"#N/A"},{"$error":"#N/A"},{"$error":"#N/A"},{"$error":"#N/A"},{"$error":"#N/A"},{"$error":"#N/A"},{"$error":"#N/A"}]
[{"$error":"#N/A"},{"$error":"#N/A"},{"$error":"#N/A"},{"$error":"#N/A"},{"$error":"#N/A"},{"$error":"#N/A"},{"$error":"#N/A"},{"$error":"#N/A"},{"$error":"#N/A"}]
[{"$error":"#N/A"},{"$error":"#N/A"},{"$error":"#N/A"},{"$error":"#N/A"},{"$error":"#N/A"},{"$error":"#N/A"},{"$error":"#N/A"},{"$error":"#N/A"},{"$error":"#N/A"}]
[{"$error":"#N/A"},{"$f":"IFERROR(A$5*(led3FTA1*EXP(-$A$8/led3FTt1)+led3FTy0)*(led3FCA1*EXP(-$A79*1000/led3FCt1)+led3FCy0),NA())","v":{"$error":"#N/A"}},{"$f":"IFERROR(B$5*(led3VTA1*EXP(-$A$8/led3VTt1)+led3VTy0)*(led3VCA1*EXP(-$A79*1000/led3VCt1)+led3VCy0),NA())","v":{"$error":"#N/A"}},{"$f":"C79*A79","v":{"$error":"#N/A"}},{"$f":"$A$8+D79*$B$8","v":{"$error":"#N/A"}},{"$f":"B79/D79","v":{"$error":"#N/A"}},{"$f":"B79/$D$8","v":{"$error":"#N/A"}},{"$f":"ROUNDUP($E$8/B79,0)","v":{"$error":"#N/A"}},{"$f":"H79*B79","v":{"$error":"#N/A"}}]
[{"$f":"IF(OR(ROUND(A79+$A$11,3)>$B$11,ROUND(A79+$A$11,3)>$C$11),NA(),ROUND(A79+$A$11,3))","v":{"$error":"#N/A"}},{"$error":"#N/A"},{"$error":"#N/A"},{"$error":"#N/A"},{"$error":"#N/A"},{"$error":"#N/A"},{"$error":"#N/A"},{"$error":"#N/A"},{"$error":"#N/A"}]
[{"$error":"#N/A"},{"$error":"#N/A"},{"$error":"#N/A"},{"$error":"#N/A"},{"$error":"#N/A"},{"$error":"#N/A"},{"$error":"#N/A"},{"$error":"#N/A"},{"$error":"#N/A"}]
[{"$error":"#N/A"},{"$error":"#N/A"},{"$error":"#N/A"},{"$error":"#N/A"},{"$error":"#N/A"},{"$error":"#N/A"},{"$error":"#N/A"},{"$error":"#N/A"},{"$error":"#N/A"}]
[{"$error":"#N/A"},{"$error":"#N/A"},{"$error":"#N/A"},{"$error":"#N/A"},{"$error":"#N/A"},{"$error":"#N/A"},{"$error":"#N/A"},{"$error":"#N/A"},{"$error":"#N/A"}]
[{"$error":"#N/A"},{"$error":"#N/A"},{"$error":"#N/A"},{"$error":"#N/A"},{"$error":"#N/A"},{"$error":"#N/A"},{"$error":"#N/A"},{"$error":"#N/A"},{"$error":"#N/A"}]
[{"$error":"#N/A"},{"$error":"#N/A"},{"$error":"#N/A"},{"$error":"#N/A"},{"$error":"#N/A"},{"$error":"#N/A"},{"$error":"#N/A"},{"$error":"#N/A"},{"$error":"#N/A"}]
[{"$error":"#N/A"},{"$error":"#N/A"},{"$error":"#N/A"},{"$error":"#N/A"},{"$error":"#N/A"},{"$error":"#N/A"},{"$error":"#N/A"},{"$error":"#N/A"},{"$error":"#N/A"}]
[{"$error":"#N/A"},{"$error":"#N/A"},{"$error":"#N/A"},{"$error":"#N/A"},{"$error":"#N/A"},{"$error":"#N/A"},{"$error":"#N/A"},{"$error":"#N/A"},{"$error":"#N/A"}]
[{"$error":"#N/A"},{"$error":"#N/A"},{"$error":"#N/A"},{"$error":"#N/A"},{"$error":"#N/A"},{"$error":"#N/A"},{"$error":"#N/A"},{"$error":"#N/A"},{"$error":"#N/A"}]
[{"$error":"#N/A"},{"$error":"#N/A"},{"$error":"#N/A"},{"$error":"#N/A"},{"$error":"#N/A"},{"$error":"#N/A"},{"$error":"#N/A"},{"$error":"#N/A"},{"$error":"#N/A"}]
[{"$error":"#N/A"},{"$error":"#N/A"},{"$error":"#N/A"},{"$error":"#N/A"},{"$error":"#N/A"},{"$error":"#N/A"},{"$error":"#N/A"},{"$error":"#N/A"},{"$error":"#N/A"}]
[{"$error":"#N/A"},{"$error":"#N/A"},{"$error":"#N/A"},{"$error":"#N/A"},{"$error":"#N/A"},{"$error":"#N/A"},{"$error":"#N/A"},{"$error":"#N/A"},{"$error":"#N/A"}]
[{"$error":"#N/A"},{"$error":"#N/A"},{"$error":"#N/A"},{"$error":"#N/A"},{"$error":"#N/A"},{"$error":"#N/A"},{"$error":"#N/A"},{"$error":"#N/A"},{"$error":"#N/A"}]
[{"$error":"#N/A"},{"$error":"#N/A"},{"$error":"#N/A"},{"$error":"#N/A"},{"$error":"#N/A"},{"$error":"#N/A"},{"$error":"#N/A"},{"$error":"#N/A"},{"$error":"#N/A"}]
[{"$error":"#N/A"},{"$error":"#N/A"},{"$error":"#N/A"},{"$error":"#N/A"},{"$error":"#N/A"},{"$error":"#N/A"},{"$error":"#N/A"},{"$error":"#N/A"},{"$error":"#N/A"}]
[{"$error":"#N/A"},{"$error":"#N/A"},{"$error":"#N/A"},{"$error":"#N/A"},{"$error":"#N/A"},{"$error":"#N/A"},{"$error":"#N/A"},{"$error":"#N/A"},{"$error":"#N/A"}]
[{"$error":"#N/A"},{"$error":"#N/A"},{"$error":"#N/A"},{"$error":"#N/A"},{"$error":"#N/A"},{"$error":"#N/A"},{"$error":"#N/A"},{"$error":"#N/A"},{"$error":"#N/A"}]
[{"$error":"#N/A"},{"$error":"#N/A"},{"$error":"#N/A"},{"$error":"#N/A"},{"$error":"#N/A"},{"$error":"#N/A"},{"$error":"#N/A"},{"$error":"#N/A"},{"$error":"#N/A"}]
[{"$error":"#N/A"},{"$error":"#N/A"},{"$error":"#N/A"},{"$error":"#N/A"},{"$error":"#N/A"},{"$error":"#N/A"},{"$error":"#N/A"},{"$error":"#N/A"},{"$error":"#N/A"}]
[{"$error":"#N/A"},{"$error":"#N/A"},{"$error":"#N/A"},{"$error":"#N/A"},{"$error":"#N/A"},{"$error":"#N/A"},{"$error":"#N/A"},{"$error":"#N/A"},{"$error":"#N/A"}]
[{"$error":"#N/A"},{"$error":"#N/A"},{"$error":"#N/A"},{"$error":"#N/A"},{"$error":"#N/A"},{"$error":"#N/A"},{"$error":"#N/A"},{"$error":"#N/A"},{"$error":"#N/A"}]
[{"$error":"#N/A"},{"$error":"#N/A"},{"$error":"#N/A"},{"$error":"#N/A"},{"$error":"#N/A"},{"$error":"#N/A"},{"$error":"#N/A"},{"$error":"#N/A"},{"$error":"#N/A"}]
[{"$error":"#N/A"},{"$error":"#N/A"},{"$error":"#N/A"},{"$error":"#N/A"},{"$error":"#N/A"},{"$error":"#N/A"},{"$error":"#N/A"},{"$error":"#N/A"},{"$error":"#N/A"}]
[{"$error":"#N/A"},{"$error":"#N/A"},{"$error":"#N/A"},{"$error":"#N/A"},{"$error":"#N/A"},{"$error":"#N/A"},{"$error":"#N/A"},{"$error":"#N/A"},{"$error":"#N/A"}]
[{"$error":"#N/A"},{"$error":"#N/A"},{"$error":"#N/A"},{"$error":"#N/A"},{"$error":"#N/A"},{"$error":"#N/A"},{"$error":"#N/A"},{"$error":"#N/A"},{"$error":"#N/A"}]
[{"$error":"#N/A"},{"$error":"#N/A"},{"$error":"#N/A"},{"$error":"#N/A"},{"$error":"#N/A"},{"$error":"#N/A"},{"$error":"#N/A"},{"$error":"#N/A"},{"$error":"#N/A"}]
[{"$error":"#N/A"},{"$error":"#N/A"},{"$error":"#N/A"},{"$error":"#N/A"},{"$error":"#N/A"},{"$error":"#N/A"},{"$error":"#N/A"},{"$error":"#N/A"},{"$error":"#N/A"}]
[{"$error":"#N/A"},{"$error":"#N/A"},{"$error":"#N/A"},{"$error":"#N/A"},{"$error":"#N/A"},{"$error":"#N/A"},{"$error":"#N/A"},{"$error":"#N/A"},{"$error":"#N/A"}]
[{"$error":"#N/A"},{"$error":"#N/A"},{"$error":"#N/A"},{"$error":"#N/A"},{"$error":"#N/A"},{"$error":"#N/A"},{"$error":"#N/A"},{"$error":"#N/A"},{"$error":"#N/A"}]
[{"$error":"#N/A"},{"$error":"#N/A"},{"$error":"#N/A"},{"$error":"#N/A"},{"$error":"#N/A"},{"$error":"#N/A"},{"$error":"#N/A"},{"$error":"#N/A"},{"$error":"#N/A"}]
[{"$error":"#N/A"},{"$error":"#N/A"},{"$error":"#N/A"},{"$error":"#N/A"},{"$error":"#N/A"},{"$error":"#N/A"},{"$error":"#N/A"},{"$error":"#N/A"},{"$error":"#N/A"}]
[{"$error":"#N/A"},{"$f":"IFERROR(A$5*(led3FTA1*EXP(-$A$8/led3FTt1)+led3FTy0)*(led3FCA1*EXP(-$A111*1000/led3FCt1)+led3FCy0),NA())","v":{"$error":"#N/A"}},{"$f":"IFERROR(B$5*(led3VTA1*EXP(-$A$8/led3VTt1)+led3VTy0)*(led3VCA1*EXP(-$A111*1000/led3VCt1)+led3VCy0),NA())","v":{"$error":"#N/A"}},{"$error":"#N/A"},{"$error":"#N/A"},{"$error":"#N/A"},{"$error":"#N/A"},{"$error":"#N/A"},{"$error":"#N/A"}]
[{"$error":"#N/A"},{"$error":"#N/A"},{"$error":"#N/A"},{"$error":"#N/A"},{"$error":"#N/A"},{"$error":"#N/A"},{"$error":"#N/A"},{"$error":"#N/A"},{"$error":"#N/A"}]
[{"$error":"#N/A"},{"$error":"#N/A"},{"$error":"#N/A"},{"$error":"#N/A"},{"$error":"#N/A"},{"$error":"#N/A"},{"$error":"#N/A"},{"$error":"#N/A"},{"$error":"#N/A"}]
[{"$error":"#N/A"},{"$error":"#N/A"},{"$error":"#N/A"},{"$error":"#N/A"},{"$error":"#N/A"},{"$error":"#N/A"},{"$error":"#N/A"},{"$error":"#N/A"},{"$error":"#N/A"}]

{"sheet":"LED #4","index":7,"n_rows":114,"n_cols":14,"rows_kept":114,"hidden":true,"merged":[[1,0,1,1],[2,6,2,13],[3,6,3,9],[3,10,3,13],[7,6,7,13],[8,6,8,9],[8,10,8,13]]}
[]
[{"$f":"IF(Table!S7=\"\",NA(),Table!S7)","v":{"$error":"#N/A"}},{"$nulls":5},7,{"$f":"G2+1","v":8},9,10,11,12,13,14]
[{"$nulls":6},"@Current"]
["Flux","VF",{"$nulls":4},"Relative Flux (FC)",{"$nulls":3},"Relative VF (VC)"]
[{"$f":"Table!R15","v":{"$error":"#N/A"}},{"$f":"Table!T15","v":""},{"$nulls":4},"y0","A1","t1","R2","y0","A1","t1","R2"]
[{"$nulls":6},{"$f":"VLOOKUP($A$2,Parameter!$A:$W,G$2,0)","v":{"$error":"#N/A"}},{"$f":"VLOOKUP($A$2,Parameter!$A:$W,H$2,0)","v":{"$error":"#N/A"}},{"$f":"VLOOKUP($A$2,Parameter!$A:$W,I$2,0)","v":{"$error":"#N/A"}},{"$f":"VLOOKUP($A$2,Parameter!$A:$W,J$2,0)","v":{"$error":"#N/A"}},{"$f":"VLOOKUP($A$2,Parameter!$A:$W,K$2,0)","v":{"$error":"#N/A"}},{"$f":"VLOOKUP($A$2,Parameter!$A:$W,L$2,0)","v":{"$error":"#N/A"}},{"$f":"VLOOKUP($A$2,Parameter!$A:$W,M$2,0)","v":{"$error":"#N/A"}},{"$f":"VLOOKUP($A$2,Parameter!$A:$W,N$2,0)","v":{"$error":"#N/A"}}]
["Ta/Tc [℃]","Rth","IOPPR. [mA]","Price [$]","Req.Flux",null,{"$f":"N2+1","v":15},{"$f":"G7+1","v":16},17,18,19,20,21,22]
[{"$f":"Table!S18","v":{"v":25,"d":"25.0"}},{"$f":"Table!S10","v":""},{"$f":"Table!S20","v":65},{"$f":"Table!S22","v":{"v":0.05,"d":"0.050"}},{"$f":"Table!$F$4","v":{"v":13333.333333333332,"d":"13,333"}},null,"@Temperature"]
[{"$nulls":6},"Relative Flux (FT)",{"$nulls":3},"Relative VF (VT)"]
["I. Interval","I. Range max","I. max",{"$nulls":3},"y0","A1","t1","R2","y0","A1","t1","R2"]
[{"$f":"Table!$J$4","v":0.015},{"$f":"Table!$I$4","v":{"v":1.5,"d":"1.500"}},{"$f":"Table!U10/1000","v":{"$error":"#VALUE!"}},{"$nulls":3},{"$f":"VLOOKUP($A$2,Parameter!$A:$W,G7,0)","v":{"$error":"#N/A"}},{"$f":"VLOOKUP($A$2,Parameter!$A:$W,H7,0)","v":{"$error":"#N/A"}},{"$f":"VLOOKUP($A$2,Parameter!$A:$W,I7,0)","v":{"$error":"#N/A"}},{"$f":"VLOOKUP($A$2,Parameter!$A:$W,J7,0)","v":{"$error":"#N/A"}},{"$f":"VLOOKUP($A$2,Parameter!$A:$W,K7,0)","v":{"$error":"#N/A"}},{"$f":"VLOOKUP($A$2,Parameter!$A:$W,L7,0)","v":{"$error":"#N/A"}},{"$f":"VLOOKUP($A$2,Parameter!$A:$W,M7,0)","v":{"$error":"#N/A"}},{"$f":"VLOOKUP($A$2,Parameter!$A:$W,N7,0)","v":{"$error":"#N/A"}}]
[]
[]
["IF","Flux","VF","PD","TJ","lm/W","lm/$","# LEDs","Tot.lm"]
[{"$f":"IF(A2=\"\",NA(),Table!$H$4)","v":{"$error":"#N/A"}},{"$f":"IFERROR(A$5*(led4FTA1*EXP(-$A$8/led4FTt1)+led4FTy0)*(led4FCA1*EXP(-$A15*1000/led4FCt1)+led4FCy0),NA())","v":{"$error":"#N/A"}},{"$f":"IFERROR(B$5*(led4VTA1*EXP(-$A$8/led4VTt1)+led4VTy0)*(led4VCA1*EXP(-$A15*1000/led4VCt1)+led4VCy0),NA())","v":{"$error":"#N/A"}},{"$f":"C15*A15","v":{"$error":"#N/A"}},{"$f":"$A$8+D15*$B$8","v":{"$error":"#N/A"}},{"$f":"B15/D15","v":{"$error":"#N/A"}},{"$f":"B15/$D$8","v":{"$error":"#N/A"}},{"$f":"ROUNDUP($E$8/B15,0)","v":{"$error":"#N/A"}},{"$f":"H15*B15","v":{"$error":"#N/A"}}]
[{"$f":"IF(OR(ROUND(A15+$A$11,3)>$B$11,ROUND(A15+$A$11,3)>$C$11),NA(),ROUND(A15+$A$11,3))","v":{"$error":"#N/A"}},{"$error":"#N/A"},{"$error":"#N/A"},{"$error":"#N/A"},{"$error":"#N/A"},{"$error":"#N/A"},{"$error":"#N/A"},{"$error":"#N/A"},{"$error":"#N/A"}]
[{"$error":"#N/A"},{"$error":"#N/A"},{"$error":"#N/A"},{"$error":"#N/A"},{"$error":"#N/A"},{"$error":"#N/A"},{"$error":"#N/A"},{"$error":"#N/A"},{"$error":"#N/A"}]
[{"$error":"#N/A"},{"$error":"#N/A"},{"$error":"#N/A"},{"$error":"#N/A"},{"$error":"#N/A"},{"$error":"#N/A"},{"$error":"#N/A"},{"$error":"#N/A"},{"$error":"#N/A"}]
[{"$error":"#N/A"},{"$error":"#N/A"},{"$error":"#N/A"},{"$error":"#N/A"},{"$error":"#N/A"},{"$error":"#N/A"},{"$error":"#N/A"},{"$error":"#N/A"},{"$error":"#N/A"}]
[{"$error":"#N/A"},{"$error":"#N/A"},{"$error":"#N/A"},{"$error":"#N/A"},{"$error":"#N/A"},{"$error":"#N/A"},{"$error":"#N/A"},{"$error":"#N/A"},{"$error":"#N/A"}]
[{"$error":"#N/A"},{"$error":"#N/A"},{"$error":"#N/A"},{"$error":"#N/A"},{"$error":"#N/A"},{"$error":"#N/A"},{"$error":"#N/A"},{"$error":"#N/A"},{"$error":"#N/A"}]
[{"$error":"#N/A"},{"$error":"#N/A"},{"$error":"#N/A"},{"$error":"#N/A"},{"$error":"#N/A"},{"$error":"#N/A"},{"$error":"#N/A"},{"$error":"#N/A"},{"$error":"#N/A"}]
[{"$error":"#N/A"},{"$error":"#N/A"},{"$error":"#N/A"},{"$error":"#N/A"},{"$error":"#N/A"},{"$error":"#N/A"},{"$error":"#N/A"},{"$error":"#N/A"},{"$error":"#N/A"}]
[{"$error":"#N/A"},{"$error":"#N/A"},{"$error":"#N/A"},{"$error":"#N/A"},{"$error":"#N/A"},{"$error":"#N/A"},{"$error":"#N/A"},{"$error":"#N/A"},{"$error":"#N/A"}]
[{"$error":"#N/A"},{"$error":"#N/A"},{"$error":"#N/A"},{"$error":"#N/A"},{"$error":"#N/A"},{"$error":"#N/A"},{"$error":"#N/A"},{"$error":"#N/A"},{"$error":"#N/A"}]
[{"$error":"#N/A"},{"$error":"#N/A"},{"$error":"#N/A"},{"$error":"#N/A"},{"$error":"#N/A"},{"$error":"#N/A"},{"$error":"#N/A"},{"$error":"#N/A"},{"$error":"#N/A"}]
[{"$error":"#N/A"},{"$error":"#N/A"},{"$error":"#N/A"},{"$error":"#N/A"},{"$error":"#N/A"},{"$error":"#N/A"},{"$error":"#N/A"},{"$error":"#N/A"},{"$error":"#N/A"}]
[{"$error":"#N/A"},{"$error":"#N/A"},{"$error":"#N/A"},{"$error":"#N/A"},{"$error":"#N/A"},{"$error":"#N/A"},{"$error":"#N/A"},{"$error":"#N/A"},{"$error":"#N/A"}]
[{"$error":"#N/A"},{"$error":"#N/A"},{"$error":"#N/A"},{"$error":"#N/A"},{"$error":"#N/A"},{"$error":"#N/A"},{"$error":"#N/A"},{"$error":"#N/A"},{"$error":"#N/A"}]
[{"$error":"#N/A"},{"$error":"#N/A"},{"$error":"#N/A"},{"$error":"#N/A"},{"$error":"#N/A"},{"$error":"#N/A"},{"$error":"#N/A"},{"$error":"#N/A"},{"$error":"#N/A"}]
[{"$error":"#N/A"},{"$error":"#N/A"},{"$error":"#N/A"},{"$error":"#N/A"},{"$error":"#N/A"},{"$error":"#N/A"},{"$error":"#N/A"},{"$error":"#N/A"},{"$error":"#N/A"}]
[{"$error":"#N/A"},{"$error":"#N/A"},{"$error":"#N/A"},{"$error":"#N/A"},{"$error":"#N/A"},{"$error":"#N/A"},{"$error":"#N/A"},{"$error":"#N/A"},{"$error":"#N/A"}]
[{"$error":"#N/A"},{"$error":"#N/A"},{"$error":"#N/A"},{"$error":"#N/A"},{"$error":"#N/A"},{"$error":"#N/A"},{"$error":"#N/A"},{"$error":"#N/A"},{"$error":"#N/A"}]
[{"$error":"#N/A"},{"$error":"#N/A"},{"$error":"#N/A"},{"$error":"#N/A"},{"$error":"#N/A"},{"$error":"#N/A"},{"$error":"#N/A"},{"$error":"#N/A"},{"$error":"#N/A"}]
[{"$error":"#N/A"},{"$error":"#N/A"},{"$error":"#N/A"},{"$error":"#N/A"},{"$error":"#N/A"},{"$error":"#N/A"},{"$error":"#N/A"},{"$error":"#N/A"},{"$error":"#N/A"}]
[{"$error":"#N/A"},{"$error":"#N/A"},{"$error":"#N/A"},{"$error":"#N/A"},{"$error":"#N/A"},{"$error":"#N/A"},{"$error":"#N/A"},{"$error":"#N/A"},{"$error":"#N/A"}]
[{"$error":"#N/A"},{"$error":"#N/A"},{"$error":"#N/A"},{"$error":"#N/A"},{"$error":"#N/A"},{"$error":"#N/A"},{"$error":"#N/A"},{"$error":"#N/A"},{"$error":"#N/A"}]
[{"$error":"#N/A"},{"$error":"#N/A"},{"$error":"#N/A"},{"$error":"#N/A"},{"$error":"#N/A"},{"$error":"#N/A"},{"$error":"#N/A"},{"$error":"#N/A"},{"$error":"#N/A"}]
[{"$error":"#N/A"},{"$error":"#N/A"},{"$error":"#N/A"},{"$error":"#N/A"},{"$error":"#N/A"},{"$error":"#N/A"},{"$error":"#N/A"},{"$error":"#N/A"},{"$error":"#N/A"}]
[{"$error":"#N/A"},{"$error":"#N/A"},{"$error":"#N/A"},{"$error":"#N/A"},{"$error":"#N/A"},{"$error":"#N/A"},{"$error":"#N/A"},{"$error":"#N/A"},{"$error":"#N/A"}]
[{"$error":"#N/A"},{"$error":"#N/A"},{"$error":"#N/A"},{"$error":"#N/A"},{"$error":"#N/A"},{"$error":"#N/A"},{"$error":"#N/A"},{"$error":"#N/A"},{"$error":"#N/A"}]
[{"$error":"#N/A"},{"$error":"#N/A"},{"$error":"#N/A"},{"$error":"#N/A"},{"$error":"#N/A"},{"$error":"#N/A"},{"$error":"#N/A"},{"$error":"#N/A"},{"$error":"#N/A"}]
[{"$error":"#N/A"},{"$error":"#N/A"},{"$error":"#N/A"},{"$error":"#N/A"},{"$error":"#N/A"},{"$error":"#N/A"},{"$error":"#N/A"},{"$error":"#N/A"},{"$error":"#N/A"}]
[{"$error":"#N/A"},{"$error":"#N/A"},{"$error":"#N/A"},{"$error":"#N/A"},{"$error":"#N/A"},{"$error":"#N/A"},{"$error":"#N/A"},{"$error":"#N/A"},{"$error":"#N/A"}]
[{"$error":"#N/A"},{"$error":"#N/A"},{"$error":"#N/A"},{"$error":"#N/A"},{"$error":"#N/A"},{"$error":"#N/A"},{"$error":"#N/A"},{"$error":"#N/A"},{"$error":"#N/A"}]
[{"$error":"#N/A"},{"$error":"#N/A"},{"$error":"#N/A"},{"$error":"#N/A"},{"$error":"#N/A"},{"$error":"#N/A"},{"$error":"#N/A"},{"$error":"#N/A"},{"$error":"#N/A"}]
[{"$error":"#N/A"},{"$f":"IFERROR(A$5*(led4FTA1*EXP(-$A$8/led4FTt1)+led4FTy0)*(led4FCA1*EXP(-$A47*1000/led4FCt1)+led4FCy0),NA())","v":{"$error":"#N/A"}},{"$f":"IFERROR(B$5*(led4VTA1*EXP(-$A$8/led4VTt1)+led4VTy0)*(led4VCA1*EXP(-$A47*1000/led4VCt1)+led4VCy0),NA())","v":{"$error":"#N/A"}},{"$error":"#N/A"},{"$error":"#N/A"},{"$error":"#N/A"},{"$error":"#N/A"},{"$f":"ROUNDUP($E$8/B47,0)","v":{"$error":"#N/A"}},{"$error":"#N/A"}]
[{"$error":"#N/A"},{"$error":"#N/A"},{"$error":"#N/A"},{"$error":"#N/A"},{"$error":"#N/A"},{"$error":"#N/A"},{"$error":"#N/A"},{"$error":"#N/A"},{"$error":"#N/A"}]
[{"$error":"#N/A"},{"$error":"#N/A"},{"$error":"#N/A"},{"$error":"#N/A"},{"$error":"#N/A"},{"$error":"#N/A"},{"$error":"#N/A"},{"$error":"#N/A"},{"$error":"#N/A"}]
[{"$error":"#N/A"},{"$error":"#N/A"},{"$error":"#N/A"},{"$error":"#N/A"},{"$error":"#N/A"},{"$error":"#N/A"},{"$error":"#N/A"},{"$error":"#N/A"},{"$error":"#N/A"}]
[{"$error":"#N/A"},{"$error":"#N/A"},{"$error":"#N/A"},{"$error":"#N/A"},{"$error":"#N/A"},{"$error":"#N/A"},{"$error":"#N/A"},{"$error":"#N/A"},{"$error":"#N/A"}]
[{"$error":"#N/A"},{"$error":"#N/A"},{"$error":"#N/A"},{"$error":"#N/A"},{"$error":"#N/A"},{"$error":"#N/A"},{"$error":"#N/A"},{"$error":"#N/A"},{"$error":"#N/A"}]
[{"$error":"#N/A"},{"$error":"#N/A"},{"$error":"#N/A"},{"$error":"#N/A"},{"$error":"#N/A"},{"$error":"#N/A"},{"$error":"#N/A"},{"$error":"#N/A"},{"$error":"#N/A"}]
[{"$error":"#N/A"},{"$error":"#N/A"},{"$error":"#N/A"},{"$error":"#N/A"},{"$error":"#N/A"},{"$error":"#N/A"},{"$error":"#N/A"},{"$error":"#N/A"},{"$error":"#N/A"}]
[{"$error":"#N/A"},{"$error":"#N/A"},{"$error":"#N/A"},{"$error":"#N/A"},{"$error":"#N/A"},{"$error":"#N/A"},{"$error":"#N/A"},{"$error":"#N/A"},{"$error":"#N/A"}]
[{"$error":"#N/A"},{"$error":"#N/A"},{"$error":"#N/A"},{"$error":"#N/A"},{"$error":"#N/A"},{"$error":"#N/A"},{"$error":"#N/A"},{"$error":"#N/A"},{"$error":"#N/A"}]
[{"$error":"#N/A"},{"$error":"#N/A"},{"$error":"#N/A"},{"$error":"#N/A"},{"$error":"#N/A"},{"$error":"#N/A"},{"$error":"#N/A"},{"$error":"#N/A"},{"$error":"#N/A"}]
[{"$error":"#N/A"},{"$error":"#N/A"},{"$error":"#N/A"},{"$error":"#N/A"},{"$error":"#N/A"},{"$error":"#N/A"},{"$error":"#N/A"},{"$error":"#N/A"},{"$error":"#N/A"}]
[{"$error":"#N/A"},{"$error":"#N/A"},{"$error":"#N/A"},{"$error":"#N/A"},{"$error":"#N/A"},{"$error":"#N/A"},{"$error":"#N/A"},{"$error":"#N/A"},{"$error":"#N/A"}]
[{"$error":"#N/A"},{"$error":"#N/A"},{"$error":"#N/A"},{"$error":"#N/A"},{"$error":"#N/A"},{"$error":"#N/A"},{"$error":"#N/A"},{"$error":"#N/A"},{"$error":"#N/A"}]
[{"$error":"#N/A"},{"$error":"#N/A"},{"$error":"#N/A"},{"$error":"#N/A"},{"$error":"#N/A"},{"$error":"#N/A"},{"$error":"#N/A"},{"$error":"#N/A"},{"$error":"#N/A"}]
[{"$error":"#N/A"},{"$error":"#N/A"},{"$error":"#N/A"},{"$error":"#N/A"},{"$error":"#N/A"},{"$error":"#N/A"},{"$error":"#N/A"},{"$error":"#N/A"},{"$error":"#N/A"}]
[{"$error":"#N/A"},{"$error":"#N/A"},{"$error":"#N/A"},{"$error":"#N/A"},{"$error":"#N/A"},{"$error":"#N/A"},{"$error":"#N/A"},{"$error":"#N/A"},{"$error":"#N/A"}]
[{"$error":"#N/A"},{"$error":"#N/A"},{"$error":"#N/A"},{"$error":"#N/A"},{"$error":"#N/A"},{"$error":"#N/A"},{"$error":"#N/A"},{"$error":"#N/A"},{"$error":"#N/A"}]
[{"$error":"#N/A"},{"$error":"#N/A"},{"$error":"#N/A"},{"$error":"#N/A"},{"$error":"#N/A"},{"$error":"#N/A"},{"$error":"#N/A"},{"$error":"#N/A"},{"$error":"#N/A"}]
[{"$error":"#N/A"},{"$error":"#N/A"},{"$error":"#N/A"},{"$error":"#N/A"},{"$error":"#N/A"},{"$error":"#N/A"},{"$error":"#N/A"},{"$error":"#N/A"},{"$error":"#N/A"}]
[{"$error":"#N/A"},{"$error":"#N/A"},{"$error":"#N/A"},{"$error":"#N/A"},{"$error":"#N/A"},{"$error":"#N/A"},{"$error":"#N/A"},{"$error":"#N/A"},{"$error":"#N/A"}]
[{"$error":"#N/A"},{"$error":"#N/A"},{"$error":"#N/A"},{"$error":"#N/A"},{"$error":"#N/A"},{"$error":"#N/A"},{"$error":"#N/A"},{"$error":"#N/A"},{"$error":"#N/A"}]
[{"$error":"#N/A"},{"$error":"#N/A"},{"$error":"#N/A"},{"$error":"#N/A"},{"$error":"#N/A"},{"$error":"#N/A"},{"$error":"#N/A"},{"$error":"#N/A"},{"$error":"#N/A"}]
[{"$error":"#N/A"},{"$error":"#N/A"},{"$error":"#N/A"},{"$error":"#N/A"},{"$error":"#N/A"},{"$error":"#N/A"},{"$error":"#N/A"},{"$error":"#N/A"},{"$error":"#N/A"}]
[{"$error":"#N/A"},{"$error":"#N/A"},{"$error":"#N/A"},{"$error":"#N/A"},{"$error":"#N/A"},{"$error":"#N/A"},{"$error":"#N/A"},{"$error":"#N/A"},{"$error":"#N/A"}]
[{"$error":"#N/A"},{"$error":"#N/A"},{"$error":"#N/A"},{"$error":"#N/A"},{"$error":"#N/A"},{"$error":"#N/A"},{"$error":"#N/A"},{"$error":"#N/A"},{"$error":"#N/A"}]
[{"$error":"#N/A"},{"$error":"#N/A"},{"$error":"#N/A"},{"$error":"#N/A"},{"$error":"#N/A"},{"$error":"#N/A"},{"$error":"#N/A"},{"$error":"#N/A"},{"$error":"#N/A"}]
[{"$error":"#N/A"},{"$error":"#N/A"},{"$error":"#N/A"},{"$error":"#N/A"},{"$error":"#N/A"},{"$error":"#N/A"},{"$error":"#N/A"},{"$error":"#N/A"},{"$error":"#N/A"}]
[{"$error":"#N/A"},{"$error":"#N/A"},{"$error":"#N/A"},{"$error":"#N/A"},{"$error":"#N/A"},{"$error":"#N/A"},{"$error":"#N/A"},{"$error":"#N/A"},{"$error":"#N/A"}]
[{"$error":"#N/A"},{"$error":"#N/A"},{"$error":"#N/A"},{"$error":"#N/A"},{"$error":"#N/A"},{"$error":"#N/A"},{"$error":"#N/A"},{"$error":"#N/A"},{"$error":"#N/A"}]
[{"$error":"#N/A"},{"$error":"#N/A"},{"$error":"#N/A"},{"$error":"#N/A"},{"$error":"#N/A"},{"$error":"#N/A"},{"$error":"#N/A"},{"$error":"#N/A"},{"$error":"#N/A"}]
[{"$error":"#N/A"},{"$error":"#N/A"},{"$error":"#N/A"},{"$error":"#N/A"},{"$error":"#N/A"},{"$error":"#N/A"},{"$error":"#N/A"},{"$error":"#N/A"},{"$error":"#N/A"}]
[{"$error":"#N/A"},{"$f":"IFERROR(A$5*(led4FTA1*EXP(-$A$8/led4FTt1)+led4FTy0)*(led4FCA1*EXP(-$A79*1000/led4FCt1)+led4FCy0),NA())","v":{"$error":"#N/A"}},{"$f":"IFERROR(B$5*(led4VTA1*EXP(-$A$8/led4VTt1)+led4VTy0)*(led4VCA1*EXP(-$A79*1000/led4VCt1)+led4VCy0),NA())","v":{"$error":"#N/A"}},{"$f":"C79*A79","v":{"$error":"#N/A"}},{"$f":"$A$8+D79*$B$8","v":{"$error":"#N/A"}},{"$f":"B79/D79","v":{"$error":"#N/A"}},{"$f":"B79/$D$8","v":{"$error":"#N/A"}},{"$f":"ROUNDUP($E$8/B79,0)","v":{"$error":"#N/A"}},{"$f":"H79*B79","v":{"$error":"#N/A"}}]
[{"$f":"IF(OR(ROUND(A79+$A$11,3)>$B$11,ROUND(A79+$A$11,3)>$C$11),NA(),ROUND(A79+$A$11,3))","v":{"$error":"#N/A"}},{"$error":"#N/A"},{"$error":"#N/A"},{"$error":"#N/A"},{"$error":"#N/A"},{"$error":"#N/A"},{"$error":"#N/A"},{"$error":"#N/A"},{"$error":"#N/A"}]
[{"$error":"#N/A"},{"$error":"#N/A"},{"$error":"#N/A"},{"$error":"#N/A"},{"$error":"#N/A"},{"$error":"#N/A"},{"$error":"#N/A"},{"$error":"#N/A"},{"$error":"#N/A"}]
[{"$error":"#N/A"},{"$error":"#N/A"},{"$error":"#N/A"},{"$error":"#N/A"},{"$error":"#N/A"},{"$error":"#N/A"},{"$error":"#N/A"},{"$error":"#N/A"},{"$error":"#N/A"}]
[{"$error":"#N/A"},{"$error":"#N/A"},{"$error":"#N/A"},{"$error":"#N/A"},{"$error":"#N/A"},{"$error":"#N/A"},{"$error":"#N/A"},{"$error":"#N/A"},{"$error":"#N/A"}]
[{"$error":"#N/A"},{"$error":"#N/A"},{"$error":"#N/A"},{"$error":"#N/A"},{"$error":"#N/A"},{"$error":"#N/A"},{"$error":"#N/A"},{"$error":"#N/A"},{"$error":"#N/A"}]
[{"$error":"#N/A"},{"$error":"#N/A"},{"$error":"#N/A"},{"$error":"#N/A"},{"$error":"#N/A"},{"$error":"#N/A"},{"$error":"#N/A"},{"$error":"#N/A"},{"$error":"#N/A"}]
[{"$error":"#N/A"},{"$error":"#N/A"},{"$error":"#N/A"},{"$error":"#N/A"},{"$error":"#N/A"},{"$error":"#N/A"},{"$error":"#N/A"},{"$error":"#N/A"},{"$error":"#N/A"}]
[{"$error":"#N/A"},{"$error":"#N/A"},{"$error":"#N/A"},{"$error":"#N/A"},{"$error":"#N/A"},{"$error":"#N/A"},{"$error":"#N/A"},{"$error":"#N/A"},{"$error":"#N/A"}]
[{"$error":"#N/A"},{"$error":"#N/A"},{"$error":"#N/A"},{"$error":"#N/A"},{"$error":"#N/A"},{"$error":"#N/A"},{"$error":"#N/A"},{"$error":"#N/A"},{"$error":"#N/A"}]
[{"$error":"#N/A"},{"$error":"#N/A"},{"$error":"#N/A"},{"$error":"#N/A"},{"$error":"#N/A"},{"$error":"#N/A"},{"$error":"#N/A"},{"$error":"#N/A"},{"$error":"#N/A"}]
[{"$error":"#N/A"},{"$error":"#N/A"},{"$error":"#N/A"},{"$error":"#N/A"},{"$error":"#N/A"},{"$error":"#N/A"},{"$error":"#N/A"},{"$error":"#N/A"},{"$error":"#N/A"}]
[{"$error":"#N/A"},{"$error":"#N/A"},{"$error":"#N/A"},{"$error":"#N/A"},{"$error":"#N/A"},{"$error":"#N/A"},{"$error":"#N/A"},{"$error":"#N/A"},{"$error":"#N/A"}]
[{"$error":"#N/A"},{"$error":"#N/A"},{"$error":"#N/A"},{"$error":"#N/A"},{"$error":"#N/A"},{"$error":"#N/A"},{"$error":"#N/A"},{"$error":"#N/A"},{"$error":"#N/A"}]
[{"$error":"#N/A"},{"$error":"#N/A"},{"$error":"#N/A"},{"$error":"#N/A"},{"$error":"#N/A"},{"$error":"#N/A"},{"$error":"#N/A"},{"$error":"#N/A"},{"$error":"#N/A"}]
[{"$error":"#N/A"},{"$error":"#N/A"},{"$error":"#N/A"},{"$error":"#N/A"},{"$error":"#N/A"},{"$error":"#N/A"},{"$error":"#N/A"},{"$error":"#N/A"},{"$error":"#N/A"}]
[{"$error":"#N/A"},{"$error":"#N/A"},{"$error":"#N/A"},{"$error":"#N/A"},{"$error":"#N/A"},{"$error":"#N/A"},{"$error":"#N/A"},{"$error":"#N/A"},{"$error":"#N/A"}]
[{"$error":"#N/A"},{"$error":"#N/A"},{"$error":"#N/A"},{"$error":"#N/A"},{"$error":"#N/A"},{"$error":"#N/A"},{"$error":"#N/A"},{"$error":"#N/A"},{"$error":"#N/A"}]
[{"$error":"#N/A"},{"$error":"#N/A"},{"$error":"#N/A"},{"$error":"#N/A"},{"$error":"#N/A"},{"$error":"#N/A"},{"$error":"#N/A"},{"$error":"#N/A"},{"$error":"#N/A"}]
[{"$error":"#N/A"},{"$error":"#N/A"},{"$error":"#N/A"},{"$error":"#N/A"},{"$error":"#N/A"},{"$error":"#N/A"},{"$error":"#N/A"},{"$error":"#N/A"},{"$error":"#N/A"}]
[{"$error":"#N/A"},{"$error":"#N/A"},{"$error":"#N/A"},{"$error":"#N/A"},{"$error":"#N/A"},{"$error":"#N/A"},{"$error":"#N/A"},{"$error":"#N/A"},{"$error":"#N/A"}]
[{"$error":"#N/A"},{"$error":"#N/A"},{"$error":"#N/A"},{"$error":"#N/A"},{"$error":"#N/A"},{"$error":"#N/A"},{"$error":"#N/A"},{"$error":"#N/A"},{"$error":"#N/A"}]
[{"$error":"#N/A"},{"$error":"#N/A"},{"$error":"#N/A"},{"$error":"#N/A"},{"$error":"#N/A"},{"$error":"#N/A"},{"$error":"#N/A"},{"$error":"#N/A"},{"$error":"#N/A"}]
[{"$error":"#N/A"},{"$error":"#N/A"},{"$error":"#N/A"},{"$error":"#N/A"},{"$error":"#N/A"},{"$error":"#N/A"},{"$error":"#N/A"},{"$error":"#N/A"},{"$error":"#N/A"}]
[{"$error":"#N/A"},{"$error":"#N/A"},{"$error":"#N/A"},{"$error":"#N/A"},{"$error":"#N/A"},{"$error":"#N/A"},{"$error":"#N/A"},{"$error":"#N/A"},{"$error":"#N/A"}]
[{"$error":"#N/A"},{"$error":"#N/A"},{"$error":"#N/A"},{"$error":"#N/A"},{"$error":"#N/A"},{"$error":"#N/A"},{"$error":"#N/A"},{"$error":"#N/A"},{"$error":"#N/A"}]
[{"$error":"#N/A"},{"$error":"#N/A"},{"$error":"#N/A"},{"$error":"#N/A"},{"$error":"#N/A"},{"$error":"#N/A"},{"$error":"#N/A"},{"$error":"#N/A"},{"$error":"#N/A"}]
[{"$error":"#N/A"},{"$error":"#N/A"},{"$error":"#N/A"},{"$error":"#N/A"},{"$error":"#N/A"},{"$error":"#N/A"},{"$error":"#N/A"},{"$error":"#N/A"},{"$error":"#N/A"}]
[{"$error":"#N/A"},{"$error":"#N/A"},{"$error":"#N/A"},{"$error":"#N/A"},{"$error":"#N/A"},{"$error":"#N/A"},{"$error":"#N/A"},{"$error":"#N/A"},{"$error":"#N/A"}]
[{"$error":"#N/A"},{"$error":"#N/A"},{"$error":"#N/A"},{"$error":"#N/A"},{"$error":"#N/A"},{"$error":"#N/A"},{"$error":"#N/A"},{"$error":"#N/A"},{"$error":"#N/A"}]
[{"$error":"#N/A"},{"$error":"#N/A"},{"$error":"#N/A"},{"$error":"#N/A"},{"$error":"#N/A"},{"$error":"#N/A"},{"$error":"#N/A"},{"$error":"#N/A"},{"$error":"#N/A"}]
[{"$error":"#N/A"},{"$error":"#N/A"},{"$error":"#N/A"},{"$error":"#N/A"},{"$error":"#N/A"},{"$error":"#N/A"},{"$error":"#N/A"},{"$error":"#N/A"},{"$error":"#N/A"}]
[{"$error":"#N/A"},{"$f":"IFERROR(A$5*(led4FTA1*EXP(-$A$8/led4FTt1)+led4FTy0)*(led4FCA1*EXP(-$A111*1000/led4FCt1)+led4FCy0),NA())","v":{"$error":"#N/A"}},{"$f":"IFERROR(B$5*(led4VTA1*EXP(-$A$8/led4VTt1)+led4VTy0)*(led4VCA1*EXP(-$A111*1000/led4VCt1)+led4VCy0),NA())","v":{"$error":"#N/A"}},{"$error":"#N/A"},{"$error":"#N/A"},{"$error":"#N/A"},{"$error":"#N/A"},{"$error":"#N/A"},{"$error":"#N/A"}]
[{"$error":"#N/A"},{"$error":"#N/A"},{"$error":"#N/A"},{"$error":"#N/A"},{"$error":"#N/A"},{"$error":"#N/A"},{"$error":"#N/A"},{"$error":"#N/A"},{"$error":"#N/A"}]
[{"$error":"#N/A"},{"$error":"#N/A"},{"$error":"#N/A"},{"$error":"#N/A"},{"$error":"#N/A"},{"$error":"#N/A"},{"$error":"#N/A"},{"$error":"#N/A"},{"$error":"#N/A"}]
[{"$error":"#N/A"},{"$error":"#N/A"},{"$error":"#N/A"},{"$error":"#N/A"},{"$error":"#N/A"},{"$error":"#N/A"},{"$error":"#N/A"},{"$error":"#N/A"},{"$error":"#N/A"}]

{"sheet":"참조","index":8,"n_rows":11,"n_cols":6,"rows_kept":11,"hidden":true,"merged":[[0,0,0,1],[0,4,0,5]]}
["Rank",{"$nulls":3},"Group"]
["Range","Index",null,null,"Item","Index"]
["min",1,null,null,"IF",1]
["typ",2,null,null,"Flux",2]
["max",3,null,null,"VF",3]
[{"$nulls":4},"PD",4]
[{"$nulls":4},"TJ",5]
[{"$nulls":4},"lm/W",6]
[{"$nulls":4},"lm/$",7]
[{"$nulls":4},"# LEDs",8]
[{"$nulls":4},"Tot.lm",9]

{"sheet":"History","index":9,"n_rows":18,"n_cols":5,"rows_kept":18,"hidden":true}
[]
[]
[null,"Rev.","Date","Description","PIC"]
[null,"1.00","2017-07-05","Designer Tool 신규 생성","황대성/황수진"]
[]
[null,"2.15","2017-09-10","Added STW9Q14D and STW9Q14D-E3, error on Y22 Max and Typ Flux should be 285 and 278 respectively, also error in number of LEDs under LED performance and Lines 33 down."]
[null,"2.2","2017-10-07","System performance did not include Optical and Electrical loss this has been modified.  Added STW9C2SB, STW8A12D-E3, SAW9C22B-NZ, STW9A12D-E1, STW8A12D, SAW8A32E-E1, SAW8A42E-E1, SAW8A62E-E1, SAW9A32E-E1."]
[null,"2.21","2017-10-19","Z5M2 Parameters not coming up.  Parameter List and Configuration Tool part number mismatch.  Modified Parameter Table part number to match Configuration number."]
[null,"2.22_Designer","2018-01-29","Added W3 Flux bin for Y15-70CRI, Added SAW0L60A, SAW8L60A, Cree 3030_JB3030AWT, Osram 3030_GW PSLR31.EM, Added Y11-70CRI, Y11-90CRI, Updated Y11-80CRI flux bins, Corrected Y11-9V part number, Updated flux bins for Y15, Y19 and Y22, Designer Capability for Technical support(FAEs, Engineers, etc, NOT for sales)"]
[null,"2.22_Sales","2018-01-29","Sales version removes Designer Section and Competive parts"]
[null,"2.23_Designer & Sales","2018-02-20","Added STW8A2SD, SAW7Q24D, SAW8Q24D, Sunlike STW9C2PB_S, SAWS0661A, SAWS1063A, SAWS1564A, SAWS1566A"]
[null,"2.3 Designer & Sales","2018-05-31","STW8C2PB-E2, Y11-6V, SAW8C22B-NZ, SAW7C22B-IZ, Y22 90CRI, Z5M2 80CRI & 90CRI, also change Designer Total Flux cell to include optics loss."]
[null,"2.31 Designer","2018-06-01","Added Nichia 219C, and Cree XPG3"]
[null,"2.32 Designer & Sales","2018-06-05","Added Samsung LH351B, LH351C SAW8C22B-IZ and NZ flux bin update, SAW7C22B-IZ flux bin update"]
[null,"2.34 Designer","2018-08-28","Added Samsung LM301B, LM302B, LM303C."]
[null,"2.4 Designer & Sales","2018-10-14","Modifying STW8C2PB-E2 with updated datasheet, Y11-3V 70CRI coming up under 80CRI - Fixed.  Added STW0L6PA, Y11 90CRI."]
[null,"2.42 Designer & Sales","2018-11-06","Added STW8A12D-S1, STW8A2PD-S1, STW8A2PD-E1"]
[null,"2.51 Designer & Sales","2019-04-12","Added Z5M3 and 3030C"]